| Back to Workflows build report for BioC 3.16 |
This page was generated on 2023-04-11 14:00:08 -0400 (Tue, 11 Apr 2023).
| Hostname | OS | Arch (*) | R version | Installed pkgs |
|---|---|---|---|---|
| nebbiolo2 | Linux (Ubuntu 20.04.5 LTS) | x86_64 | 4.2.3 (2023-03-15) -- "Shortstop Beagle" | 4502 |
| palomino4 | Windows Server 2022 Datacenter | x64 | 4.2.3 (2023-03-15 ucrt) -- "Shortstop Beagle" | 4282 |
| lconway | macOS 12.5.1 Monterey | x86_64 | 4.2.3 (2023-03-15) -- "Shortstop Beagle" | 4310 |
| Click on any hostname to see more info about the system (e.g. compilers) (*) as reported by 'uname -p', except on Windows and Mac OS X | ||||
|
To the developers/maintainers of the cytofWorkflow package: Make sure to use the following settings in order to reproduce any error or warning you see on this page. |
| Package 8/28 | Hostname | OS / Arch | INSTALL | BUILD | ||||||||
| cytofWorkflow 1.22.0 (landing page) Mark D. Robinson
| nebbiolo2 | Linux (Ubuntu 20.04.5 LTS) / x86_64 | OK | OK | ||||||||
| palomino4 | Windows Server 2022 Datacenter / x64 | OK | OK | |||||||||
| lconway | macOS 12.5.1 Monterey / x86_64 | OK | OK | |||||||||
| Package: cytofWorkflow |
| Version: 1.22.0 |
| Command: F:\biocbuild\bbs-3.16-bioc\R\bin\R.exe CMD INSTALL cytofWorkflow |
| StartedAt: 2023-04-11 11:01:28 -0400 (Tue, 11 Apr 2023) |
| EndedAt: 2023-04-11 11:02:05 -0400 (Tue, 11 Apr 2023) |
| EllapsedTime: 37.3 seconds |
| RetCode: 0 |
| Status: OK |
############################################################################## ############################################################################## ### ### Running command: ### ### F:\biocbuild\bbs-3.16-bioc\R\bin\R.exe CMD INSTALL cytofWorkflow ### ############################################################################## ############################################################################## * installing to library 'F:/biocbuild/bbs-3.16-bioc/R/library' * installing *source* package 'cytofWorkflow' ... ** using staged installation ** help No man pages found in package 'cytofWorkflow' *** installing help indices ** building package indices ** installing vignettes ** testing if installed package can be loaded from temporary location snapshotDate(): 2022-10-31 Warning: replacing previous import 'pheatmap::pheatmap' by 'ComplexHeatmap::pheatmap' when loading 'cytofWorkflow' ** testing if installed package can be loaded from final location snapshotDate(): 2022-10-31 Warning: replacing previous import 'pheatmap::pheatmap' by 'ComplexHeatmap::pheatmap' when loading 'cytofWorkflow' ** testing if installed package keeps a record of temporary installation path * DONE (cytofWorkflow)