| Back to Workflows build report for BioC 3.16 | 
This page was generated on 2023-04-11 14:00:08 -0400 (Tue, 11 Apr 2023).
| Hostname | OS | Arch (*) | R version | Installed pkgs | 
|---|---|---|---|---|
| nebbiolo2 | Linux (Ubuntu 20.04.5 LTS) | x86_64 | 4.2.3 (2023-03-15) -- "Shortstop Beagle" | 4502 | 
| palomino4 | Windows Server 2022 Datacenter | x64 | 4.2.3 (2023-03-15 ucrt) -- "Shortstop Beagle" | 4282 | 
| lconway | macOS 12.5.1 Monterey | x86_64 | 4.2.3 (2023-03-15) -- "Shortstop Beagle" | 4310 | 
| Click on any hostname to see more info about the system (e.g. compilers) (*) as reported by 'uname -p', except on Windows and Mac OS X | ||||
| 
To the developers/maintainers of the BP4RNAseq package: Make sure to use the following settings in order to reproduce any error or warning you see on this page.  | 
| Package 4/28 | Hostname | OS / Arch | INSTALL | BUILD | ||||||||
| BP4RNAseq 1.8.0  (landing page) Shanwen Sun 
  | nebbiolo2 | Linux (Ubuntu 20.04.5 LTS) / x86_64 | OK | OK | ||||||||
| palomino4 | Windows Server 2022 Datacenter / x64 | OK | OK | |||||||||
| lconway | macOS 12.5.1 Monterey / x86_64 | OK | OK | |||||||||
| Package: BP4RNAseq | 
| Version: 1.8.0 | 
| Command: chmod a+r BP4RNAseq -R && F:\biocbuild\bbs-3.16-bioc\R\bin\R.exe CMD build --keep-empty-dirs --no-resave-data BP4RNAseq | 
| StartedAt: 2023-04-11 11:04:49 -0400 (Tue, 11 Apr 2023) | 
| EndedAt: 2023-04-11 11:05:05 -0400 (Tue, 11 Apr 2023) | 
| EllapsedTime: 16.0 seconds | 
| RetCode: 0 | 
| Status: OK | 
| PackageFile: BP4RNAseq_1.8.0.tar.gz | 
| PackageFileSize: 3.037 MiB | 
############################################################################## ############################################################################## ### ### Running command: ### ### chmod a+r BP4RNAseq -R && F:\biocbuild\bbs-3.16-bioc\R\bin\R.exe CMD build --keep-empty-dirs --no-resave-data BP4RNAseq ### ############################################################################## ############################################################################## * checking for file 'BP4RNAseq/DESCRIPTION' ... OK * preparing 'BP4RNAseq': * checking DESCRIPTION meta-information ... OK * installing the package to build vignettes * creating vignettes ... OK * checking for LF line-endings in source and make files and shell scripts * checking for empty or unneeded directories Omitted 'LazyData' from DESCRIPTION * building 'BP4RNAseq_1.8.0.tar.gz'