| Back to Build/check report for BioC 3.16 experimental data |
|
This page was generated on 2022-09-29 14:50:34 -0400 (Thu, 29 Sep 2022).
| Hostname | OS | Arch (*) | R version | Installed pkgs |
|---|---|---|---|---|
| nebbiolo2 | Linux (Ubuntu 20.04.5 LTS) | x86_64 | 4.2.1 (2022-06-23) -- "Funny-Looking Kid" | 4427 |
| Click on any hostname to see more info about the system (e.g. compilers) (*) as reported by 'uname -p', except on Windows and Mac OS X | ||||
|
To the developers/maintainers of the gemma.R package: Make sure to use the following settings in order to reproduce any error or warning you see on this page. |
| Package 141/412 | Hostname | OS / Arch | INSTALL | BUILD | CHECK | ||||||||
| gemma.R 0.99.36 (landing page) Ogan Mancarci
| nebbiolo2 | Linux (Ubuntu 20.04.5 LTS) / x86_64 | OK | OK | OK | ||||||||
| Package: gemma.R |
| Version: 0.99.36 |
| Command: /home/biocbuild/bbs-3.16-bioc/R/bin/R CMD check --install=check:gemma.R.install-out.txt --library=/home/biocbuild/bbs-3.16-bioc/R/library --no-vignettes --timings gemma.R_0.99.36.tar.gz |
| StartedAt: 2022-09-29 11:27:24 -0400 (Thu, 29 Sep 2022) |
| EndedAt: 2022-09-29 11:31:03 -0400 (Thu, 29 Sep 2022) |
| EllapsedTime: 219.0 seconds |
| RetCode: 0 |
| Status: OK |
| CheckDir: gemma.R.Rcheck |
| Warnings: 0 |
##############################################################################
##############################################################################
###
### Running command:
###
### /home/biocbuild/bbs-3.16-bioc/R/bin/R CMD check --install=check:gemma.R.install-out.txt --library=/home/biocbuild/bbs-3.16-bioc/R/library --no-vignettes --timings gemma.R_0.99.36.tar.gz
###
##############################################################################
##############################################################################
* using log directory ‘/home/biocbuild/bbs-3.16-data-experiment/meat/gemma.R.Rcheck’
* using R version 4.2.1 (2022-06-23)
* using platform: x86_64-pc-linux-gnu (64-bit)
* using session charset: UTF-8
* using option ‘--no-vignettes’
* checking for file ‘gemma.R/DESCRIPTION’ ... OK
* this is package ‘gemma.R’ version ‘0.99.36’
* package encoding: UTF-8
* checking package namespace information ... OK
* checking package dependencies ... OK
* checking if this is a source package ... OK
* checking if there is a namespace ... OK
* checking for hidden files and directories ... OK
* checking for portable file names ... OK
* checking for sufficient/correct file permissions ... OK
* checking whether package ‘gemma.R’ can be installed ... OK
* checking installed package size ... OK
* checking package directory ... OK
* checking ‘build’ directory ... OK
* checking DESCRIPTION meta-information ... OK
* checking top-level files ... OK
* checking for left-over files ... OK
* checking index information ... OK
* checking package subdirectories ... OK
* checking R files for non-ASCII characters ... OK
* checking R files for syntax errors ... OK
* checking whether the package can be loaded ... OK
* checking whether the package can be loaded with stated dependencies ... OK
* checking whether the package can be unloaded cleanly ... OK
* checking whether the namespace can be loaded with stated dependencies ... OK
* checking whether the namespace can be unloaded cleanly ... OK
* checking dependencies in R code ... NOTE
Unexported object imported by a ':::' call: ‘jsonlite:::simplify’
See the note in ?`:::` about the use of this operator.
* checking S3 generic/method consistency ... OK
* checking replacement functions ... OK
* checking foreign function calls ... OK
* checking R code for possible problems ... OK
* checking Rd files ... OK
* checking Rd metadata ... OK
* checking Rd cross-references ... OK
* checking for missing documentation entries ... OK
* checking for code/documentation mismatches ... OK
* checking Rd \usage sections ... OK
* checking Rd contents ... OK
* checking for unstated dependencies in examples ... OK
* checking files in ‘vignettes’ ... OK
* checking examples ... OK
Examples with CPU (user + system) or elapsed time > 5s
user system elapsed
get_dataset_object 5.229 0.240 13.877
get_dataset_expression 0.609 0.106 12.127
get_dataset_differential_expression_analyses 0.263 0.036 5.675
search_annotations 0.011 0.000 8.930
* checking for unstated dependencies in ‘tests’ ... OK
* checking tests ...
Running ‘testthat.R’
OK
* checking for unstated dependencies in vignettes ... OK
* checking package vignettes in ‘inst/doc’ ... OK
* checking running R code from vignettes ... SKIPPED
* checking re-building of vignette outputs ... SKIPPED
* checking PDF version of manual ... OK
* DONE
Status: 1 NOTE
See
‘/home/biocbuild/bbs-3.16-data-experiment/meat/gemma.R.Rcheck/00check.log’
for details.
gemma.R.Rcheck/00install.out
############################################################################## ############################################################################## ### ### Running command: ### ### /home/biocbuild/bbs-3.16-bioc/R/bin/R CMD INSTALL gemma.R ### ############################################################################## ############################################################################## * installing to library ‘/home/biocbuild/bbs-3.16-bioc/R/library’ * installing *source* package ‘gemma.R’ ... ** using staged installation ** R ** inst ** byte-compile and prepare package for lazy loading ** help *** installing help indices *** copying figures ** building package indices ** installing vignettes ** testing if installed package can be loaded from temporary location ** testing if installed package can be loaded from final location ** testing if installed package keeps a record of temporary installation path * DONE (gemma.R)
gemma.R.Rcheck/tests/testthat.Rout
R version 4.2.1 (2022-06-23) -- "Funny-Looking Kid"
Copyright (C) 2022 The R Foundation for Statistical Computing
Platform: x86_64-pc-linux-gnu (64-bit)
R is free software and comes with ABSOLUTELY NO WARRANTY.
You are welcome to redistribute it under certain conditions.
Type 'license()' or 'licence()' for distribution details.
R is a collaborative project with many contributors.
Type 'contributors()' for more information and
'citation()' on how to cite R or R packages in publications.
Type 'demo()' for some demos, 'help()' for on-line help, or
'help.start()' for an HTML browser interface to help.
Type 'q()' to quit R.
> library(testthat)
> library(gemma.R)
> library(dplyr)
Attaching package: 'dplyr'
The following object is masked from 'package:testthat':
matches
The following objects are masked from 'package:stats':
filter, lag
The following objects are masked from 'package:base':
intersect, setdiff, setequal, union
>
> # Prevent certificate issues for GitHub actions
> options(gemma.SSL = FALSE)
> # get gemma api path if it's set in the environment
> options(gemma.API = Sys.getenv('API_PATH','https://gemma.msl.ubc.ca/rest/v2/'))
> test_check("gemma.R")
[ FAIL 0 | WARN 0 | SKIP 4 | PASS 111 ]
══ Skipped tests ═══════════════════════════════════════════════════════════════
• On Bioconductor (4)
[ FAIL 0 | WARN 0 | SKIP 4 | PASS 111 ]
>
>
>
> proc.time()
user system elapsed
19.226 1.107 134.014
gemma.R.Rcheck/gemma.R-Ex.timings
| name | user | system | elapsed | |
| forget_gemma_memoised | 0.011 | 0.004 | 0.016 | |
| gemma_call | 0.092 | 0.008 | 1.692 | |
| get_dataset_annotations | 0.015 | 0.000 | 0.112 | |
| get_dataset_design | 0.461 | 0.048 | 0.672 | |
| get_dataset_differential_expression_analyses | 0.263 | 0.036 | 5.675 | |
| get_dataset_expression | 0.609 | 0.106 | 12.127 | |
| get_dataset_object | 5.229 | 0.240 | 13.877 | |
| get_dataset_platforms | 0.009 | 0.000 | 0.104 | |
| get_dataset_samples | 0.055 | 0.000 | 0.399 | |
| get_datasets_by_ids | 0.026 | 0.000 | 0.207 | |
| get_differential_expression_values | 0.283 | 0.021 | 2.945 | |
| get_gene_go_terms | 0.021 | 0.000 | 0.173 | |
| get_gene_locations | 0.010 | 0.000 | 0.355 | |
| get_gene_probes | 0.026 | 0.000 | 0.663 | |
| get_genes | 0.018 | 0.000 | 0.189 | |
| get_platform_annotations | 1.218 | 0.049 | 4.298 | |
| get_platform_datasets | 0.029 | 0.000 | 2.036 | |
| get_platform_element_genes | 0.010 | 0.000 | 0.099 | |
| get_platforms_by_ids | 0.023 | 0.000 | 0.198 | |
| get_result_sets | 0.300 | 0.020 | 2.959 | |
| get_taxa | 0.010 | 0.000 | 0.095 | |
| get_taxa_by_ids | 0.013 | 0.000 | 0.096 | |
| get_taxon_datasets | 0.026 | 0.004 | 0.411 | |
| search_annotations | 0.011 | 0.000 | 8.930 | |
| search_datasets | 0.028 | 0.000 | 1.714 | |