| Back to Build/check report for BioC 3.16 annotations |
|
This page was generated on 2023-04-12 06:00:10 -0400 (Wed, 12 Apr 2023).
| Hostname | OS | Arch (*) | R version | Installed pkgs |
|---|---|---|---|---|
| nebbiolo2 | Linux (Ubuntu 20.04.5 LTS) | x86_64 | 4.2.3 (2023-03-15) -- "Shortstop Beagle" | 4502 |
| Click on any hostname to see more info about the system (e.g. compilers) (*) as reported by 'uname -p', except on Windows and Mac OS X | ||||
|
To the developers/maintainers of the scAnnotatR.models package: Make sure to use the following settings in order to reproduce any error or warning you see on this page. |
| Package 32/36 | Hostname | OS / Arch | INSTALL | BUILD | CHECK | ||||||||
| scAnnotatR.models 0.99.10 (landing page) Johannes Griss
| nebbiolo2 | Linux (Ubuntu 20.04.5 LTS) / x86_64 | OK | ERROR | skipped | ||||||||
| Package: scAnnotatR.models |
| Version: 0.99.10 |
| Command: /home/biocbuild/bbs-3.16-bioc/R/bin/R CMD build --keep-empty-dirs --no-resave-data scAnnotatR.models |
| StartedAt: 2023-04-12 03:03:07 -0400 (Wed, 12 Apr 2023) |
| EndedAt: 2023-04-12 03:03:42 -0400 (Wed, 12 Apr 2023) |
| EllapsedTime: 35.3 seconds |
| RetCode: 1 |
| Status: ERROR |
| PackageFile: None |
| PackageFileSize: NA |
############################################################################## ############################################################################## ### ### Running command: ### ### /home/biocbuild/bbs-3.16-bioc/R/bin/R CMD build --keep-empty-dirs --no-resave-data scAnnotatR.models ### ############################################################################## ############################################################################## * checking for file ‘scAnnotatR.models/DESCRIPTION’ ... OK * preparing ‘scAnnotatR.models’: * checking DESCRIPTION meta-information ... OK * installing the package to build vignettes * creating vignettes ... ERROR --- re-building ‘introduction.Rmd’ using rmarkdown Failed with error: 'package 'Seurat' could not be loaded' Quitting from lines 41-47 (introduction.Rmd) Error: processing vignette 'introduction.Rmd' failed with diagnostics: failed to load resource name: AH95906 title: Pretrained models reason: unable to find required package 'scAnnotatR' --- failed re-building ‘introduction.Rmd’ SUMMARY: processing the following file failed: ‘introduction.Rmd’ Error: Vignette re-building failed. Execution halted