Back to Build/check report for BioC 3.16 annotations |
|
This page was generated on 2023-04-12 06:00:10 -0400 (Wed, 12 Apr 2023).
Hostname | OS | Arch (*) | R version | Installed pkgs |
---|---|---|---|---|
nebbiolo2 | Linux (Ubuntu 20.04.5 LTS) | x86_64 | 4.2.3 (2023-03-15) -- "Shortstop Beagle" | 4502 |
Click on any hostname to see more info about the system (e.g. compilers) (*) as reported by 'uname -p', except on Windows and Mac OS X |
To the developers/maintainers of the UniProtKeywords package: Make sure to use the following settings in order to reproduce any error or warning you see on this page. |
Package 36/36 | Hostname | OS / Arch | INSTALL | BUILD | CHECK | ||||||||
UniProtKeywords 0.99.4 (landing page) Zuguang Gu
| nebbiolo2 | Linux (Ubuntu 20.04.5 LTS) / x86_64 | OK | OK | OK | ![]() | |||||||
Package: UniProtKeywords |
Version: 0.99.4 |
Command: /home/biocbuild/bbs-3.16-bioc/R/bin/R CMD build --keep-empty-dirs --no-resave-data UniProtKeywords |
StartedAt: 2023-04-12 03:03:24 -0400 (Wed, 12 Apr 2023) |
EndedAt: 2023-04-12 03:03:30 -0400 (Wed, 12 Apr 2023) |
EllapsedTime: 5.3 seconds |
RetCode: 0 |
Status: OK |
PackageFile: UniProtKeywords_0.99.4.tar.gz |
PackageFileSize: 1.181 MiB |
############################################################################## ############################################################################## ### ### Running command: ### ### /home/biocbuild/bbs-3.16-bioc/R/bin/R CMD build --keep-empty-dirs --no-resave-data UniProtKeywords ### ############################################################################## ############################################################################## * checking for file ‘UniProtKeywords/DESCRIPTION’ ... OK * preparing ‘UniProtKeywords’: * checking DESCRIPTION meta-information ... OK * installing the package to build vignettes * creating vignettes ... OK * checking for LF line-endings in source and make files and shell scripts * checking for empty or unneeded directories * looking to see if a ‘data/datalist’ file should be added * building ‘UniProtKeywords_0.99.4.tar.gz’