| Back to Mac ARM64 build report for BioC 3.16 | 
 | 
This page was generated on 2023-04-19 11:01:59 -0400 (Wed, 19 Apr 2023).
| Hostname | OS | Arch (*) | R version | Installed pkgs | 
|---|---|---|---|---|
| kjohnson | macOS 13.0 Ventura | arm64 | 4.2.2 (2022-10-31) -- "Innocent and Trusting" | 4256 | 
| Click on any hostname to see more info about the system (e.g. compilers) (*) as reported by 'uname -p', except on Windows and Mac OS X | ||||
| To the developers/maintainers of the zenith package: Make sure to use the following settings in order to reproduce any error or warning you see on this page. | 
| Package 2180/2183 | Hostname | OS / Arch | INSTALL | BUILD | BUILD BIN | ||||||||
| zenith 1.0.2  (landing page) Gabriel Hoffman 
 | kjohnson | macOS 13.0 Ventura / arm64 | OK | OK | OK |  | |||||||
| Package: zenith | 
| Version: 1.0.2 | 
| Command: /Library/Frameworks/R.framework/Resources/bin/R CMD build --keep-empty-dirs --no-resave-data zenith | 
| StartedAt: 2023-04-18 13:21:28 -0400 (Tue, 18 Apr 2023) | 
| EndedAt: 2023-04-18 13:23:10 -0400 (Tue, 18 Apr 2023) | 
| EllapsedTime: 102.0 seconds | 
| RetCode: 0 | 
| Status: OK | 
| PackageFile: zenith_1.0.2.tar.gz | 
| PackageFileSize: 4.121 MiB | 
############################################################################## ############################################################################## ### ### Running command: ### ### /Library/Frameworks/R.framework/Resources/bin/R CMD build --keep-empty-dirs --no-resave-data zenith ### ############################################################################## ############################################################################## * checking for file ‘zenith/DESCRIPTION’ ... OK * preparing ‘zenith’: * checking DESCRIPTION meta-information ... OK * installing the package to process help pages Loading required namespace: zenith Warning: replacing previous import ‘limma::topTable’ by ‘variancePartition::topTable’ when loading ‘zenith’ * saving partial Rd database * creating vignettes ... OK * checking for LF line-endings in source and make files and shell scripts * checking for empty or unneeded directories * building ‘zenith_1.0.2.tar.gz’ Warning in utils::tar(filepath, pkgname, compression = compression, compression_level = 9L, : storing paths of more than 100 bytes is not portable: ‘zenith/docs/deps/bootstrap-5.1.3/fonts/memQYaGs126MiZpBA-UFUIcVXSCEkx2cmqvXlWq8tWZ0Pw86hd0Rk5hkWVAexg.woff’ Warning in utils::tar(filepath, pkgname, compression = compression, compression_level = 9L, : storing paths of more than 100 bytes is not portable: ‘zenith/docs/deps/bootstrap-5.1.3/fonts/memQYaGs126MiZpBA-UFUIcVXSCEkx2cmqvXlWq8tWZ0Pw86hd0Rk5hkaVQ.woff’ Warning in utils::tar(filepath, pkgname, compression = compression, compression_level = 9L, : storing paths of more than 100 bytes is not portable: ‘zenith/docs/deps/bootstrap-5.1.3/fonts/memQYaGs126MiZpBA-UFUIcVXSCEkx2cmqvXlWq8tWZ0Pw86hd0Rk8ZkWVAexg.woff’ Warning in utils::tar(filepath, pkgname, compression = compression, compression_level = 9L, : storing paths of more than 100 bytes is not portable: ‘zenith/docs/deps/bootstrap-5.1.3/fonts/memQYaGs126MiZpBA-UFUIcVXSCEkx2cmqvXlWq8tWZ0Pw86hd0Rk8ZkaVQ.woff’ Warning in utils::tar(filepath, pkgname, compression = compression, compression_level = 9L, : storing paths of more than 100 bytes is not portable: ‘zenith/docs/deps/bootstrap-5.1.3/fonts/memQYaGs126MiZpBA-UFUIcVXSCEkx2cmqvXlWq8tWZ0Pw86hd0RkyFjWVAexg.woff’ Warning in utils::tar(filepath, pkgname, compression = compression, compression_level = 9L, : storing paths of more than 100 bytes is not portable: ‘zenith/docs/deps/bootstrap-5.1.3/fonts/memQYaGs126MiZpBA-UFUIcVXSCEkx2cmqvXlWq8tWZ0Pw86hd0RkyFjaVQ.woff’ Warning in utils::tar(filepath, pkgname, compression = compression, compression_level = 9L, : storing paths of more than 100 bytes is not portable: ‘zenith/docs/deps/bootstrap-5.1.3/fonts/memSYaGs126MiZpBA-UvWbX2vVnXBbObj2OVZyOOSr4dVJWUgsg-1x4gaVQ.woff’ Warning in utils::tar(filepath, pkgname, compression = compression, compression_level = 9L, : storing paths of more than 100 bytes is not portable: ‘zenith/docs/deps/bootstrap-5.1.3/fonts/memSYaGs126MiZpBA-UvWbX2vVnXBbObj2OVZyOOSr4dVJWUgsiH0B4gaVQ.woff’ Warning in utils::tar(filepath, pkgname, compression = compression, compression_level = 9L, : storing paths of more than 100 bytes is not portable: ‘zenith/docs/deps/bootstrap-5.1.3/fonts/memSYaGs126MiZpBA-UvWbX2vVnXBbObj2OVZyOOSr4dVJWUgsjZ0B4gaVQ.woff’