| Back to Mac ARM64 build report for BioC 3.16 |
|
This page was generated on 2023-04-19 11:01:58 -0400 (Wed, 19 Apr 2023).
| Hostname | OS | Arch (*) | R version | Installed pkgs |
|---|---|---|---|---|
| kjohnson | macOS 13.0 Ventura | arm64 | 4.2.2 (2022-10-31) -- "Innocent and Trusting" | 4256 |
| Click on any hostname to see more info about the system (e.g. compilers) (*) as reported by 'uname -p', except on Windows and Mac OS X | ||||
|
To the developers/maintainers of the switchBox package: Make sure to use the following settings in order to reproduce any error or warning you see on this page. |
| Package 2005/2183 | Hostname | OS / Arch | INSTALL | BUILD | BUILD BIN | ||||||||
| switchBox 1.34.0 (landing page) Bahman Afsari
| kjohnson | macOS 13.0 Ventura / arm64 | OK | OK | OK | ||||||||
| Package: switchBox |
| Version: 1.34.0 |
| Command: /Library/Frameworks/R.framework/Resources/bin/R CMD build --keep-empty-dirs --no-resave-data switchBox |
| StartedAt: 2023-04-18 10:02:25 -0400 (Tue, 18 Apr 2023) |
| EndedAt: 2023-04-18 10:02:42 -0400 (Tue, 18 Apr 2023) |
| EllapsedTime: 17.6 seconds |
| RetCode: 0 |
| Status: OK |
| PackageFile: switchBox_1.34.0.tar.gz |
| PackageFileSize: 470.5 KiB |
##############################################################################
##############################################################################
###
### Running command:
###
### /Library/Frameworks/R.framework/Resources/bin/R CMD build --keep-empty-dirs --no-resave-data switchBox
###
##############################################################################
##############################################################################
* checking for file ‘switchBox/DESCRIPTION’ ... OK
* preparing ‘switchBox’:
* checking DESCRIPTION meta-information ... OK
* cleaning src
* installing the package to build vignettes
* creating vignettes ... OK
Warning: ‘inst/doc’ files
‘switchBox.Rnw’, ‘switchBox.pdf’, ‘switchBox.R’
ignored as vignettes have been rebuilt.
Run R CMD build with --no-build-vignettes to prevent rebuilding.
* cleaning src
* checking for LF line-endings in source and make files and shell scripts
* checking for empty or unneeded directories
* looking to see if a ‘data/datalist’ file should be added
* building ‘switchBox_1.34.0.tar.gz’