| Back to Mac ARM64 build report for BioC 3.16 |
|
This page was generated on 2023-04-19 11:01:58 -0400 (Wed, 19 Apr 2023).
| Hostname | OS | Arch (*) | R version | Installed pkgs |
|---|---|---|---|---|
| kjohnson | macOS 13.0 Ventura | arm64 | 4.2.2 (2022-10-31) -- "Innocent and Trusting" | 4256 |
| Click on any hostname to see more info about the system (e.g. compilers) (*) as reported by 'uname -p', except on Windows and Mac OS X | ||||
|
To the developers/maintainers of the snapCGH package: Make sure to use the following settings in order to reproduce any error or warning you see on this page. |
| Package 1905/2183 | Hostname | OS / Arch | INSTALL | BUILD | BUILD BIN | ||||||||
| snapCGH 1.68.0 (landing page) John Marioni
| kjohnson | macOS 13.0 Ventura / arm64 | OK | OK | OK | ||||||||
| Package: snapCGH |
| Version: 1.68.0 |
| Command: /Library/Frameworks/R.framework/Resources/bin/R CMD build --keep-empty-dirs --no-resave-data snapCGH |
| StartedAt: 2023-04-18 08:14:10 -0400 (Tue, 18 Apr 2023) |
| EndedAt: 2023-04-18 08:15:03 -0400 (Tue, 18 Apr 2023) |
| EllapsedTime: 52.7 seconds |
| RetCode: 0 |
| Status: OK |
| PackageFile: snapCGH_1.68.0.tar.gz |
| PackageFileSize: 1.103 MiB |
############################################################################## ############################################################################## ### ### Running command: ### ### /Library/Frameworks/R.framework/Resources/bin/R CMD build --keep-empty-dirs --no-resave-data snapCGH ### ############################################################################## ############################################################################## * checking for file ‘snapCGH/DESCRIPTION’ ... OK * preparing ‘snapCGH’: * checking DESCRIPTION meta-information ... OK * cleaning src * installing the package to build vignettes * creating vignettes ... OK * cleaning src * checking for LF line-endings in source and make files and shell scripts * checking for empty or unneeded directories * building ‘snapCGH_1.68.0.tar.gz’