| Back to Mac ARM64 build report for BioC 3.16 | 
 | 
This page was generated on 2023-04-19 11:01:57 -0400 (Wed, 19 Apr 2023).
| Hostname | OS | Arch (*) | R version | Installed pkgs | 
|---|---|---|---|---|
| kjohnson | macOS 13.0 Ventura | arm64 | 4.2.2 (2022-10-31) -- "Innocent and Trusting" | 4256 | 
| Click on any hostname to see more info about the system (e.g. compilers) (*) as reported by 'uname -p', except on Windows and Mac OS X | ||||
| To the developers/maintainers of the rcellminer package: Make sure to use the following settings in order to reproduce any error or warning you see on this page. | 
| Package 1611/2183 | Hostname | OS / Arch | INSTALL | BUILD | BUILD BIN | ||||||||
| rcellminer 2.20.0  (landing page) Augustin Luna 
 | kjohnson | macOS 13.0 Ventura / arm64 | OK | OK | OK |  | |||||||
| Package: rcellminer | 
| Version: 2.20.0 | 
| Command: /Library/Frameworks/R.framework/Resources/bin/R CMD build --keep-empty-dirs --no-resave-data rcellminer | 
| StartedAt: 2023-04-18 00:10:15 -0400 (Tue, 18 Apr 2023) | 
| EndedAt: 2023-04-18 00:13:40 -0400 (Tue, 18 Apr 2023) | 
| EllapsedTime: 205.5 seconds | 
| RetCode: 0 | 
| Status: OK | 
| PackageFile: rcellminer_2.20.0.tar.gz | 
| PackageFileSize: 2.096 MiB | 
############################################################################## ############################################################################## ### ### Running command: ### ### /Library/Frameworks/R.framework/Resources/bin/R CMD build --keep-empty-dirs --no-resave-data rcellminer ### ############################################################################## ############################################################################## * checking for file ‘rcellminer/DESCRIPTION’ ... OK * preparing ‘rcellminer’: * checking DESCRIPTION meta-information ... OK * installing the package to build vignettes * creating vignettes ... OK * checking for LF line-endings in source and make files and shell scripts * checking for empty or unneeded directories * building ‘rcellminer_2.20.0.tar.gz’