| Back to Mac ARM64 build report for BioC 3.16 |
|
This page was generated on 2023-04-19 11:01:56 -0400 (Wed, 19 Apr 2023).
| Hostname | OS | Arch (*) | R version | Installed pkgs |
|---|---|---|---|---|
| kjohnson | macOS 13.0 Ventura | arm64 | 4.2.2 (2022-10-31) -- "Innocent and Trusting" | 4256 |
| Click on any hostname to see more info about the system (e.g. compilers) (*) as reported by 'uname -p', except on Windows and Mac OS X | ||||
|
To the developers/maintainers of the metagenomeSeq package: Make sure to use the following settings in order to reproduce any error or warning you see on this page. |
| Package 1150/2183 | Hostname | OS / Arch | INSTALL | BUILD | BUILD BIN | ||||||||
| metagenomeSeq 1.40.0 (landing page) Joseph N. Paulson
| kjohnson | macOS 13.0 Ventura / arm64 | OK | OK | OK | ||||||||
| Package: metagenomeSeq |
| Version: 1.40.0 |
| Command: rm -rf metagenomeSeq.buildbin-libdir && mkdir metagenomeSeq.buildbin-libdir && /Users/biocbuild/BBS/utils/build-universal.sh metagenomeSeq_1.40.0.tar.gz /Library/Frameworks/R.framework/Resources/bin/R metagenomeSeq.buildbin-libdir |
| StartedAt: 2023-04-18 17:06:22 -0400 (Tue, 18 Apr 2023) |
| EndedAt: 2023-04-18 17:06:54 -0400 (Tue, 18 Apr 2023) |
| EllapsedTime: 31.9 seconds |
| RetCode: 0 |
| Status: OK |
| PackageFile: metagenomeSeq_1.40.0.tgz |
| PackageFileSize: 2.087 MiB |
############################################################################## ############################################################################## ### ### Running command: ### ### rm -rf metagenomeSeq.buildbin-libdir && mkdir metagenomeSeq.buildbin-libdir && /Users/biocbuild/BBS/utils/build-universal.sh metagenomeSeq_1.40.0.tar.gz /Library/Frameworks/R.framework/Resources/bin/R metagenomeSeq.buildbin-libdir ### ############################################################################## ############################################################################## >>>>>>> >>>>>>> INSTALLATION WITH 'R CMD INSTALL --preclean --no-multiarch --library=metagenomeSeq.buildbin-libdir metagenomeSeq_1.40.0.tar.gz' >>>>>>> * installing *source* package ‘metagenomeSeq’ ... ** using staged installation ** R ** data ** inst ** byte-compile and prepare package for lazy loading in method for ‘MRihw’ with signature ‘"fitFeatureModelResults"’: no definition for class “fitFeatureModelResults” in method for ‘MRihw’ with signature ‘"fitZigResults"’: no definition for class “fitZigResults” ** help *** installing help indices ** building package indices ** installing vignettes ** testing if installed package can be loaded from temporary location ** testing if installed package can be loaded from final location ** testing if installed package keeps a record of temporary installation path * DONE (metagenomeSeq)