| Back to Mac ARM64 build report for BioC 3.16 |
|
This page was generated on 2023-04-19 11:01:55 -0400 (Wed, 19 Apr 2023).
| Hostname | OS | Arch (*) | R version | Installed pkgs |
|---|---|---|---|---|
| kjohnson | macOS 13.0 Ventura | arm64 | 4.2.2 (2022-10-31) -- "Innocent and Trusting" | 4256 |
| Click on any hostname to see more info about the system (e.g. compilers) (*) as reported by 'uname -p', except on Windows and Mac OS X | ||||
|
To the developers/maintainers of the interactiveDisplay package: Make sure to use the following settings in order to reproduce any error or warning you see on this page. |
| Package 982/2183 | Hostname | OS / Arch | INSTALL | BUILD | BUILD BIN | ||||||||
| interactiveDisplay 1.36.0 (landing page) Bioconductor Package Maintainer
| kjohnson | macOS 13.0 Ventura / arm64 | OK | OK | OK | ||||||||
| Package: interactiveDisplay |
| Version: 1.36.0 |
| Command: /Library/Frameworks/R.framework/Resources/bin/R CMD build --keep-empty-dirs --no-resave-data interactiveDisplay |
| StartedAt: 2023-04-17 11:29:28 -0400 (Mon, 17 Apr 2023) |
| EndedAt: 2023-04-17 11:30:43 -0400 (Mon, 17 Apr 2023) |
| EllapsedTime: 75.8 seconds |
| RetCode: 0 |
| Status: OK |
| PackageFile: interactiveDisplay_1.36.0.tar.gz |
| PackageFileSize: 4.566 MiB |
##############################################################################
##############################################################################
###
### Running command:
###
### /Library/Frameworks/R.framework/Resources/bin/R CMD build --keep-empty-dirs --no-resave-data interactiveDisplay
###
##############################################################################
##############################################################################
* checking for file ‘interactiveDisplay/DESCRIPTION’ ... OK
* preparing ‘interactiveDisplay’:
* checking DESCRIPTION meta-information ... OK
* installing the package to build vignettes
* creating vignettes ... OK
* checking for LF line-endings in source and make files and shell scripts
* checking for empty or unneeded directories
* looking to see if a ‘data/datalist’ file should be added
NB: this package now depends on R (>= 3.5.0)
WARNING: Added dependency on R >= 3.5.0 because serialized objects in
serialize/load version 3 cannot be read in older versions of R.
File(s) containing such objects:
‘interactiveDisplay/data/expr.rda’ ‘interactiveDisplay/data/mmgr.rda’
‘interactiveDisplay/data/mmgrl.rda’ ‘interactiveDisplay/data/se.rda’
* building ‘interactiveDisplay_1.36.0.tar.gz’