| Back to Mac ARM64 build report for BioC 3.16 |
|
This page was generated on 2023-04-19 11:01:54 -0400 (Wed, 19 Apr 2023).
| Hostname | OS | Arch (*) | R version | Installed pkgs |
|---|---|---|---|---|
| kjohnson | macOS 13.0 Ventura | arm64 | 4.2.2 (2022-10-31) -- "Innocent and Trusting" | 4256 |
| Click on any hostname to see more info about the system (e.g. compilers) (*) as reported by 'uname -p', except on Windows and Mac OS X | ||||
|
To the developers/maintainers of the epihet package: Make sure to use the following settings in order to reproduce any error or warning you see on this page. |
| Package 621/2183 | Hostname | OS / Arch | INSTALL | BUILD | BUILD BIN | ||||||||
| epihet 1.14.0 (landing page) Xiaowen Chen
| kjohnson | macOS 13.0 Ventura / arm64 | ERROR | ERROR | skipped | ||||||||
| Package: epihet |
| Version: 1.14.0 |
| Command: /Library/Frameworks/R.framework/Resources/bin/R CMD build --keep-empty-dirs --no-resave-data epihet |
| StartedAt: 2023-04-17 05:33:53 -0400 (Mon, 17 Apr 2023) |
| EndedAt: 2023-04-17 05:33:54 -0400 (Mon, 17 Apr 2023) |
| EllapsedTime: 1.2 seconds |
| RetCode: 1 |
| Status: ERROR |
| PackageFile: None |
| PackageFileSize: NA |
##############################################################################
##############################################################################
###
### Running command:
###
### /Library/Frameworks/R.framework/Resources/bin/R CMD build --keep-empty-dirs --no-resave-data epihet
###
##############################################################################
##############################################################################
* checking for file ‘epihet/DESCRIPTION’ ... OK
* preparing ‘epihet’:
* checking DESCRIPTION meta-information ... OK
* installing the package to build vignettes
-----------------------------------
ERROR: dependency ‘EntropyExplorer’ is not available for package ‘epihet’
* removing ‘/private/tmp/Rtmpu1CHOH/Rinstcdb01e7ca4ef/epihet’
-----------------------------------
ERROR: package installation failed