| Back to Mac ARM64 build report for BioC 3.16 |
|
This page was generated on 2022-08-24 10:32:37 -0400 (Wed, 24 Aug 2022).
| Hostname | OS | Arch (*) | R version | Installed pkgs |
|---|---|---|---|---|
| kjohnson | macOS 12.4 Monterey | arm64 | 4.2.1 (2022-06-23) -- "Funny-Looking Kid" | 4120 |
| Click on any hostname to see more info about the system (e.g. compilers) (*) as reported by 'uname -p', except on Windows and Mac OS X | ||||
|
To the developers/maintainers of the conclus package: Make sure to use the following settings in order to reproduce any error or warning you see on this page. |
| Package 393/2144 | Hostname | OS / Arch | INSTALL | BUILD | BUILD BIN | ||||||||
| conclus 1.5.0 (landing page) Ilyess Rachedi
| kjohnson | macOS 12.4 Monterey / arm64 | OK | OK | OK | ||||||||
| Package: conclus |
| Version: 1.5.0 |
| Command: rm -rf conclus.buildbin-libdir && mkdir conclus.buildbin-libdir && /Users/biocbuild/BBS/utils/build-universal.sh conclus_1.5.0.tar.gz /Library/Frameworks/R.framework/Resources/bin/R conclus.buildbin-libdir |
| StartedAt: 2022-08-23 11:19:14 -0400 (Tue, 23 Aug 2022) |
| EndedAt: 2022-08-23 11:21:47 -0400 (Tue, 23 Aug 2022) |
| EllapsedTime: 152.9 seconds |
| RetCode: 0 |
| Status: OK |
| PackageFile: conclus_1.5.0.tgz |
| PackageFileSize: 1.605 MiB |
############################################################################## ############################################################################## ### ### Running command: ### ### rm -rf conclus.buildbin-libdir && mkdir conclus.buildbin-libdir && /Users/biocbuild/BBS/utils/build-universal.sh conclus_1.5.0.tar.gz /Library/Frameworks/R.framework/Resources/bin/R conclus.buildbin-libdir ### ############################################################################## ############################################################################## >>>>>>> >>>>>>> INSTALLATION WITH 'R CMD INSTALL --preclean --no-multiarch --library=conclus.buildbin-libdir conclus_1.5.0.tar.gz' >>>>>>> * installing *source* package ‘conclus’ ... ** using staged installation ** R ** inst ** byte-compile and prepare package for lazy loading ** help *** installing help indices ** building package indices ** installing vignettes ** testing if installed package can be loaded from temporary location ** testing if installed package can be loaded from final location ** testing if installed package keeps a record of temporary installation path * DONE (conclus)