| Back to Mac ARM64 build report for BioC 3.16 |
|
This page was generated on 2023-04-19 11:01:46 -0400 (Wed, 19 Apr 2023).
| Hostname | OS | Arch (*) | R version | Installed pkgs |
|---|---|---|---|---|
| kjohnson | macOS 13.0 Ventura | arm64 | 4.2.2 (2022-10-31) -- "Innocent and Trusting" | 4256 |
| Click on any hostname to see more info about the system (e.g. compilers) (*) as reported by 'uname -p', except on Windows and Mac OS X | ||||
|
To the developers/maintainers of the basilisk package: Make sure to use the following settings in order to reproduce any error or warning you see on this page. |
| Package 121/2183 | Hostname | OS / Arch | INSTALL | BUILD | BUILD BIN | ||||||||
| basilisk 1.10.2 (landing page) Aaron Lun
| kjohnson | macOS 13.0 Ventura / arm64 | OK | OK | OK | ||||||||
| QUICK STATS | OS / Arch | INSTALL | BUILD | BUILD BIN | |||||||||||||
| kjohnson | macOS 13.0 Ventura / arm64 |
|
|
| |||||||||||||
| Package 1/17 | Hostname | OS / Arch | INSTALL | BUILD | BUILD BIN | ||||||||||||
| BiocSklearn 1.20.1 (landing page) Vince Carey
| kjohnson | macOS 13.0 Ventura / arm64 | OK | ERROR | skipped | ||||||||||||
| Package 2/17 | Hostname | OS / Arch | INSTALL | BUILD | BUILD BIN | ||||||||||||
| cbpManager 1.6.0 (landing page) Arsenij Ustjanzew
| kjohnson | macOS 13.0 Ventura / arm64 | OK | OK | OK | ||||||||||||
| Package 3/17 | Hostname | OS / Arch | INSTALL | BUILD | BUILD BIN | ||||||||||||
| crisprScore 1.2.0 (landing page) Jean-Philippe Fortin
| kjohnson | macOS 13.0 Ventura / arm64 | OK | OK | OK | ||||||||||||
| Package 4/17 | Hostname | OS / Arch | INSTALL | BUILD | BUILD BIN | ||||||||||||
| dasper 1.8.0 (landing page) David Zhang
| kjohnson | macOS 13.0 Ventura / arm64 | OK | ERROR | skipped | ||||||||||||
| Package 5/17 | Hostname | OS / Arch | INSTALL | BUILD | BUILD BIN | ||||||||||||
| densvis 1.8.3 (landing page) Alan O'Callaghan
| kjohnson | macOS 13.0 Ventura / arm64 | OK | ERROR | skipped | ||||||||||||
| Package 6/17 | Hostname | OS / Arch | INSTALL | BUILD | BUILD BIN | ||||||||||||
| FLAMES 1.4.3 (landing page) Oliver Voogd
| kjohnson | macOS 13.0 Ventura / arm64 | OK | OK | OK | ||||||||||||
| Package 7/17 | Hostname | OS / Arch | INSTALL | BUILD | BUILD BIN | ||||||||||||
| MACSr 1.6.0 (landing page) Qiang Hu
| kjohnson | macOS 13.0 Ventura / arm64 | OK | OK | OK | ||||||||||||
| Package 8/17 | Hostname | OS / Arch | INSTALL | BUILD | BUILD BIN | ||||||||||||
| MOFA2 1.8.0 (landing page) Ricard Argelaguet
| kjohnson | macOS 13.0 Ventura / arm64 | OK | OK | OK | ||||||||||||
| Package 9/17 | Hostname | OS / Arch | INSTALL | BUILD | BUILD BIN | ||||||||||||
| Rcwl 1.14.0 (landing page) Qiang Hu
| kjohnson | macOS 13.0 Ventura / arm64 | OK | OK | OK | ||||||||||||
| Package 10/17 | Hostname | OS / Arch | INSTALL | BUILD | BUILD BIN | ||||||||||||
| recountmethylation 1.8.6 (landing page) Sean K Maden
| kjohnson | macOS 13.0 Ventura / arm64 | OK | OK | OK | ||||||||||||
| Package 11/17 | Hostname | OS / Arch | INSTALL | BUILD | BUILD BIN | ||||||||||||
| scPipe 1.20.6 (landing page) Shian Su
| kjohnson | macOS 13.0 Ventura / arm64 | OK | OK | OK | ||||||||||||
| Package 12/17 | Hostname | OS / Arch | INSTALL | BUILD | BUILD BIN | ||||||||||||
| SimBu 1.0.2 (landing page) Alexander Dietrich
| kjohnson | macOS 13.0 Ventura / arm64 | OK | OK | OK | ||||||||||||
| Package 13/17 | Hostname | OS / Arch | INSTALL | BUILD | BUILD BIN | ||||||||||||
| snifter 1.8.0 (landing page) Alan O'Callaghan
| kjohnson | macOS 13.0 Ventura / arm64 | OK | OK | OK | ||||||||||||
| Package 14/17 | Hostname | OS / Arch | INSTALL | BUILD | BUILD BIN | ||||||||||||
| spatialDE 1.4.3 (landing page) Gabriele Sales
| kjohnson | macOS 13.0 Ventura / arm64 | OK | ERROR | skipped | ||||||||||||
| Package 15/17 | Hostname | OS / Arch | INSTALL | BUILD | BUILD BIN | ||||||||||||
| VDJdive 1.0.0 (landing page) Kelly Street
| kjohnson | macOS 13.0 Ventura / arm64 | OK | OK | OK | ||||||||||||
| Package 16/17 | Hostname | OS / Arch | INSTALL | BUILD | BUILD BIN | ||||||||||||
| velociraptor 1.8.0 (landing page) Kevin Rue-Albrecht
| kjohnson | macOS 13.0 Ventura / arm64 | OK | ERROR | skipped | ||||||||||||
| Package 17/17 | Hostname | OS / Arch | INSTALL | BUILD | BUILD BIN | ||||||||||||
| zellkonverter 1.8.0 (landing page) Luke Zappia
| kjohnson | macOS 13.0 Ventura / arm64 | OK | OK | OK | ||||||||||||