| Back to Mac ARM64 build report for BioC 3.16 |
|
This page was generated on 2023-04-19 11:01:59 -0400 (Wed, 19 Apr 2023).
| Hostname | OS | Arch (*) | R version | Installed pkgs |
|---|---|---|---|---|
| kjohnson | macOS 13.0 Ventura | arm64 | 4.2.2 (2022-10-31) -- "Innocent and Trusting" | 4256 |
| Click on any hostname to see more info about the system (e.g. compilers) (*) as reported by 'uname -p', except on Windows and Mac OS X | ||||
|
To the developers/maintainers of the TSCAN package: Make sure to use the following settings in order to reproduce any error or warning you see on this page. |
| Package 2104/2183 | Hostname | OS / Arch | INSTALL | BUILD | BUILD BIN | ||||||||
| TSCAN 1.36.0 (landing page) Zhicheng Ji
| kjohnson | macOS 13.0 Ventura / arm64 | OK | OK | OK | ||||||||
| Package: TSCAN |
| Version: 1.36.0 |
| Command: /Library/Frameworks/R.framework/Resources/bin/R CMD build --keep-empty-dirs --no-resave-data TSCAN |
| StartedAt: 2023-04-18 12:00:04 -0400 (Tue, 18 Apr 2023) |
| EndedAt: 2023-04-18 12:01:00 -0400 (Tue, 18 Apr 2023) |
| EllapsedTime: 55.9 seconds |
| RetCode: 0 |
| Status: OK |
| PackageFile: TSCAN_1.36.0.tar.gz |
| PackageFileSize: 2.677 MiB |
##############################################################################
##############################################################################
###
### Running command:
###
### /Library/Frameworks/R.framework/Resources/bin/R CMD build --keep-empty-dirs --no-resave-data TSCAN
###
##############################################################################
##############################################################################
* checking for file ‘TSCAN/DESCRIPTION’ ... OK
* preparing ‘TSCAN’:
* checking DESCRIPTION meta-information ... OK
* installing the package to build vignettes
* creating vignettes ... OK
Warning: ‘inst/doc’ files
‘TSCAN.Rnw’, ‘TSCAN.pdf’, ‘TSCAN.R’
ignored as vignettes have been rebuilt.
Run R CMD build with --no-build-vignettes to prevent rebuilding.
* checking for LF line-endings in source and make files and shell scripts
* checking for empty or unneeded directories
* looking to see if a ‘data/datalist’ file should be added
* building ‘TSCAN_1.36.0.tar.gz’