| Back to Mac ARM64 build report for BioC 3.16 | 
 | 
This page was generated on 2023-04-19 11:01:59 -0400 (Wed, 19 Apr 2023).
| Hostname | OS | Arch (*) | R version | Installed pkgs | 
|---|---|---|---|---|
| kjohnson | macOS 13.0 Ventura | arm64 | 4.2.2 (2022-10-31) -- "Innocent and Trusting" | 4256 | 
| Click on any hostname to see more info about the system (e.g. compilers) (*) as reported by 'uname -p', except on Windows and Mac OS X | ||||
| To the developers/maintainers of the TCGAbiolinksGUI package: Make sure to use the following settings in order to reproduce any error or warning you see on this page. | 
| Package 2028/2183 | Hostname | OS / Arch | INSTALL | BUILD | BUILD BIN | ||||||||
| Tiago C. Silva 
 | kjohnson | macOS 13.0 Ventura / arm64 | ERROR | ERROR | skipped | ||||||||
| Package: TCGAbiolinksGUI | 
| Version: 1.24.0 | 
| Command: /Library/Frameworks/R.framework/Resources/bin/R CMD INSTALL TCGAbiolinksGUI | 
| StartedAt: 2023-04-16 19:02:36 -0400 (Sun, 16 Apr 2023) | 
| EndedAt: 2023-04-16 19:02:37 -0400 (Sun, 16 Apr 2023) | 
| EllapsedTime: 1.2 seconds | 
| RetCode: 1 | 
| Status: ERROR | 
##############################################################################
##############################################################################
###
### Running command:
###
###   /Library/Frameworks/R.framework/Resources/bin/R CMD INSTALL TCGAbiolinksGUI
###
##############################################################################
##############################################################################
* installing to library ‘/Library/Frameworks/R.framework/Versions/4.2-arm64/Resources/library’
* installing *source* package ‘TCGAbiolinksGUI’ ...
** using staged installation
** R
Error in parse(outFile) : 
  /Volumes/External/bbs-3.16-bioc-m1/meat/TCGAbiolinksGUI/R/zzz.R:28:1: unexpected '}'
27: }
28: }
    ^
ERROR: unable to collate and parse R files for package ‘TCGAbiolinksGUI’
* removing ‘/Library/Frameworks/R.framework/Versions/4.2-arm64/Resources/library/TCGAbiolinksGUI’