| Back to Mac ARM64 build report for BioC 3.16 | 
 | 
This page was generated on 2023-04-19 11:01:58 -0400 (Wed, 19 Apr 2023).
| Hostname | OS | Arch (*) | R version | Installed pkgs | 
|---|---|---|---|---|
| kjohnson | macOS 13.0 Ventura | arm64 | 4.2.2 (2022-10-31) -- "Innocent and Trusting" | 4256 | 
| Click on any hostname to see more info about the system (e.g. compilers) (*) as reported by 'uname -p', except on Windows and Mac OS X | ||||
| To the developers/maintainers of the SpeCond package: Make sure to use the following settings in order to reproduce any error or warning you see on this page. | 
| Package 1933/2183 | Hostname | OS / Arch | INSTALL | BUILD | BUILD BIN | ||||||||
| SpeCond 1.52.0  (landing page) Florence Cavalli 
 | kjohnson | macOS 13.0 Ventura / arm64 | OK | OK | OK |  | |||||||
| Package: SpeCond | 
| Version: 1.52.0 | 
| Command: rm -rf SpeCond.buildbin-libdir && mkdir SpeCond.buildbin-libdir && /Users/biocbuild/BBS/utils/build-universal.sh SpeCond_1.52.0.tar.gz /Library/Frameworks/R.framework/Resources/bin/R SpeCond.buildbin-libdir | 
| StartedAt: 2023-04-18 19:48:25 -0400 (Tue, 18 Apr 2023) | 
| EndedAt: 2023-04-18 19:48:51 -0400 (Tue, 18 Apr 2023) | 
| EllapsedTime: 26.2 seconds | 
| RetCode: 0 | 
| Status: OK | 
| PackageFile: SpeCond_1.52.0.tgz | 
| PackageFileSize: 1.177 MiB | 
############################################################################## ############################################################################## ### ### Running command: ### ### rm -rf SpeCond.buildbin-libdir && mkdir SpeCond.buildbin-libdir && /Users/biocbuild/BBS/utils/build-universal.sh SpeCond_1.52.0.tar.gz /Library/Frameworks/R.framework/Resources/bin/R SpeCond.buildbin-libdir ### ############################################################################## ############################################################################## >>>>>>> >>>>>>> INSTALLATION WITH 'R CMD INSTALL --preclean --no-multiarch --library=SpeCond.buildbin-libdir SpeCond_1.52.0.tar.gz' >>>>>>> * installing *source* package ‘SpeCond’ ... ** using staged installation ** R ** data ** inst ** byte-compile and prepare package for lazy loading ** help *** installing help indices ** building package indices ** installing vignettes ** testing if installed package can be loaded from temporary location ** testing if installed package can be loaded from final location ** testing if installed package keeps a record of temporary installation path * DONE (SpeCond)