| Back to Mac ARM64 build report for BioC 3.16 |
|
This page was generated on 2023-04-19 11:01:58 -0400 (Wed, 19 Apr 2023).
| Hostname | OS | Arch (*) | R version | Installed pkgs |
|---|---|---|---|---|
| kjohnson | macOS 13.0 Ventura | arm64 | 4.2.2 (2022-10-31) -- "Innocent and Trusting" | 4256 |
| Click on any hostname to see more info about the system (e.g. compilers) (*) as reported by 'uname -p', except on Windows and Mac OS X | ||||
|
To the developers/maintainers of the STAN package: Make sure to use the following settings in order to reproduce any error or warning you see on this page. |
| Package 1970/2183 | Hostname | OS / Arch | INSTALL | BUILD | BUILD BIN | ||||||||
| STAN 2.26.2 (landing page) Rafael Campos-Martin
| kjohnson | macOS 13.0 Ventura / arm64 | OK | OK | OK | ||||||||
| Package: STAN |
| Version: 2.26.2 |
| Command: /Library/Frameworks/R.framework/Resources/bin/R CMD build --keep-empty-dirs --no-resave-data STAN |
| StartedAt: 2023-04-18 09:25:13 -0400 (Tue, 18 Apr 2023) |
| EndedAt: 2023-04-18 09:33:24 -0400 (Tue, 18 Apr 2023) |
| EllapsedTime: 491.7 seconds |
| RetCode: 0 |
| Status: OK |
| PackageFile: STAN_2.26.2.tar.gz |
| PackageFileSize: 809.8 KiB |
##############################################################################
##############################################################################
###
### Running command:
###
### /Library/Frameworks/R.framework/Resources/bin/R CMD build --keep-empty-dirs --no-resave-data STAN
###
##############################################################################
##############################################################################
* checking for file ‘STAN/DESCRIPTION’ ... OK
* preparing ‘STAN’:
* checking DESCRIPTION meta-information ... OK
* cleaning src
* installing the package to build vignettes
* creating vignettes ... OK
* cleaning src
* checking for LF line-endings in source and make files and shell scripts
* checking for empty or unneeded directories
* looking to see if a ‘data/datalist’ file should be added
NB: this package now depends on R (>= 3.5.0)
WARNING: Added dependency on R >= 3.5.0 because serialized objects in
serialize/load version 3 cannot be read in older versions of R.
File(s) containing such objects:
‘STAN/data/pilot.hg19.rda’ ‘STAN/data/ucscGenes.rda’
‘STAN/data/yeastTF_SGDGenes.rda’
* building ‘STAN_2.26.2.tar.gz’