| Back to Mac ARM64 build report for BioC 3.16 | 
 | 
This page was generated on 2023-04-19 11:01:57 -0400 (Wed, 19 Apr 2023).
| Hostname | OS | Arch (*) | R version | Installed pkgs | 
|---|---|---|---|---|
| kjohnson | macOS 13.0 Ventura | arm64 | 4.2.2 (2022-10-31) -- "Innocent and Trusting" | 4256 | 
| Click on any hostname to see more info about the system (e.g. compilers) (*) as reported by 'uname -p', except on Windows and Mac OS X | ||||
| To the developers/maintainers of the RnaSeqSampleSize package: Make sure to use the following settings in order to reproduce any error or warning you see on this page. | 
| Package 1710/2183 | Hostname | OS / Arch | INSTALL | BUILD | BUILD BIN | ||||||||
| RnaSeqSampleSize 2.8.0  (landing page) Shilin Zhao Developer 
 | kjohnson | macOS 13.0 Ventura / arm64 | OK | OK | OK |  | |||||||
| Package: RnaSeqSampleSize | 
| Version: 2.8.0 | 
| Command: rm -rf RnaSeqSampleSize.buildbin-libdir && mkdir RnaSeqSampleSize.buildbin-libdir && /Users/biocbuild/BBS/utils/build-universal.sh RnaSeqSampleSize_2.8.0.tar.gz /Library/Frameworks/R.framework/Resources/bin/R RnaSeqSampleSize.buildbin-libdir | 
| StartedAt: 2023-04-18 19:02:14 -0400 (Tue, 18 Apr 2023) | 
| EndedAt: 2023-04-18 19:04:41 -0400 (Tue, 18 Apr 2023) | 
| EllapsedTime: 147.0 seconds | 
| RetCode: 0 | 
| Status: OK | 
| PackageFile: RnaSeqSampleSize_2.8.0.tgz | 
| PackageFileSize: 327.4 KiB | 
##############################################################################
##############################################################################
###
### Running command:
###
###   rm -rf RnaSeqSampleSize.buildbin-libdir && mkdir RnaSeqSampleSize.buildbin-libdir && /Users/biocbuild/BBS/utils/build-universal.sh RnaSeqSampleSize_2.8.0.tar.gz /Library/Frameworks/R.framework/Resources/bin/R RnaSeqSampleSize.buildbin-libdir
###
##############################################################################
##############################################################################
>>>>>>> 
>>>>>>> INSTALLATION WITH 'R CMD INSTALL --preclean --no-multiarch --library=RnaSeqSampleSize.buildbin-libdir RnaSeqSampleSize_2.8.0.tar.gz'
>>>>>>> 
* installing *source* package ‘RnaSeqSampleSize’ ...
** using staged installation
** libs
clang++ -arch arm64 -std=gnu++14 -I"/Library/Frameworks/R.framework/Resources/include" -DNDEBUG  -I'/Library/Frameworks/R.framework/Versions/4.2-arm64/Resources/library/Rcpp/include' -I/opt/R/arm64/include   -fPIC  -falign-functions=64 -Wall -g -O2  -c RcppExports.cpp -o RcppExports.o
In file included from RcppExports.cpp:4:
In file included from /Library/Frameworks/R.framework/Versions/4.2-arm64/Resources/library/Rcpp/include/Rcpp.h:27:
In file included from /Library/Frameworks/R.framework/Versions/4.2-arm64/Resources/library/Rcpp/include/RcppCommon.h:168:
/Library/Frameworks/R.framework/Versions/4.2-arm64/Resources/library/Rcpp/include/Rcpp/internal/r_coerce.h:255:7: warning: 'sprintf' is deprecated: This function is provided for compatibility reasons only.  Due to security concerns inherent in the design of sprintf(3), it is highly recommended that you use snprintf(3) instead. [-Wdeprecated-declarations]
    ::sprintf(buff, "%02x", from);
      ^
/Library/Developer/CommandLineTools/SDKs/MacOSX.sdk/usr/include/stdio.h:188:1: note: 'sprintf' has been explicitly marked deprecated here
__deprecated_msg("This function is provided for compatibility reasons only.  Due to security concerns inherent in the design of sprintf(3), it is highly recommended that you use snprintf(3) instead.")
^
/Library/Developer/CommandLineTools/SDKs/MacOSX.sdk/usr/include/sys/cdefs.h:215:48: note: expanded from macro '__deprecated_msg'
        #define __deprecated_msg(_msg) __attribute__((__deprecated__(_msg)))
                                                      ^
1 warning generated.
clang -arch arm64 -I"/Library/Frameworks/R.framework/Resources/include" -DNDEBUG  -I'/Library/Frameworks/R.framework/Versions/4.2-arm64/Resources/library/Rcpp/include' -I/opt/R/arm64/include   -fPIC  -falign-functions=64 -Wall -g -O2  -c RnaSeqSampleSize.c -o RnaSeqSampleSize.o
clang -arch arm64 -I"/Library/Frameworks/R.framework/Resources/include" -DNDEBUG  -I'/Library/Frameworks/R.framework/Versions/4.2-arm64/Resources/library/Rcpp/include' -I/opt/R/arm64/include   -fPIC  -falign-functions=64 -Wall -g -O2  -c bd0.c -o bd0.o
clang++ -arch arm64 -std=gnu++14 -I"/Library/Frameworks/R.framework/Resources/include" -DNDEBUG  -I'/Library/Frameworks/R.framework/Versions/4.2-arm64/Resources/library/Rcpp/include' -I/opt/R/arm64/include   -fPIC  -falign-functions=64 -Wall -g -O2  -c cumsumBorder.cpp -o cumsumBorder.o
In file included from cumsumBorder.cpp:1:
In file included from /Library/Frameworks/R.framework/Versions/4.2-arm64/Resources/library/Rcpp/include/Rcpp.h:27:
In file included from /Library/Frameworks/R.framework/Versions/4.2-arm64/Resources/library/Rcpp/include/RcppCommon.h:168:
/Library/Frameworks/R.framework/Versions/4.2-arm64/Resources/library/Rcpp/include/Rcpp/internal/r_coerce.h:255:7: warning: 'sprintf' is deprecated: This function is provided for compatibility reasons only.  Due to security concerns inherent in the design of sprintf(3), it is highly recommended that you use snprintf(3) instead. [-Wdeprecated-declarations]
    ::sprintf(buff, "%02x", from);
      ^
/Library/Developer/CommandLineTools/SDKs/MacOSX.sdk/usr/include/stdio.h:188:1: note: 'sprintf' has been explicitly marked deprecated here
__deprecated_msg("This function is provided for compatibility reasons only.  Due to security concerns inherent in the design of sprintf(3), it is highly recommended that you use snprintf(3) instead.")
^
/Library/Developer/CommandLineTools/SDKs/MacOSX.sdk/usr/include/sys/cdefs.h:215:48: note: expanded from macro '__deprecated_msg'
        #define __deprecated_msg(_msg) __attribute__((__deprecated__(_msg)))
                                                      ^
1 warning generated.
clang -arch arm64 -I"/Library/Frameworks/R.framework/Resources/include" -DNDEBUG  -I'/Library/Frameworks/R.framework/Versions/4.2-arm64/Resources/library/Rcpp/include' -I/opt/R/arm64/include   -fPIC  -falign-functions=64 -Wall -g -O2  -c stirlerr.c -o stirlerr.o
clang++ -arch arm64 -std=gnu++14 -dynamiclib -Wl,-headerpad_max_install_names -undefined dynamic_lookup -single_module -multiply_defined suppress -L/Library/Frameworks/R.framework/Resources/lib -L/opt/R/arm64/lib -o RnaSeqSampleSize.so RcppExports.o RnaSeqSampleSize.o bd0.o cumsumBorder.o stirlerr.o -F/Library/Frameworks/R.framework/.. -framework R -Wl,-framework -Wl,CoreFoundation
ld: warning: -undefined dynamic_lookup may not work with chained fixups
installing to /Volumes/External/bbs-3.16-bioc-m1/meat/RnaSeqSampleSize.buildbin-libdir/00LOCK-RnaSeqSampleSize/00new/RnaSeqSampleSize/libs
** R
** inst
** byte-compile and prepare package for lazy loading
** help
*** installing help indices
** building package indices
** installing vignettes
** testing if installed package can be loaded from temporary location
** checking absolute paths in shared objects and dynamic libraries
** testing if installed package can be loaded from final location
** testing if installed package keeps a record of temporary installation path
* DONE (RnaSeqSampleSize)
>>>>>>> 
>>>>>>> FIXING LINKS FOR RnaSeqSampleSize.buildbin-libdir/RnaSeqSampleSize/libs/RnaSeqSampleSize.so
>>>>>>> 
install_name_tool -change "/opt/R/arm64/lib/libgcc_s.1.1.dylib" "/Library/Frameworks/R.framework/Versions/4.2-arm64/Resources/lib/libgcc_s.1.1.dylib" "RnaSeqSampleSize.buildbin-libdir/RnaSeqSampleSize/libs/RnaSeqSampleSize.so"
install_name_tool -change "/opt/R/arm64/lib/libgfortran.5.dylib" "/Library/Frameworks/R.framework/Versions/4.2-arm64/Resources/lib/libgfortran.5.dylib" "RnaSeqSampleSize.buildbin-libdir/RnaSeqSampleSize/libs/RnaSeqSampleSize.so"
install_name_tool -change "/opt/R/arm64/lib/libquadmath.0.dylib" "/Library/Frameworks/R.framework/Versions/4.2-arm64/Resources/lib/libquadmath.0.dylib" "RnaSeqSampleSize.buildbin-libdir/RnaSeqSampleSize/libs/RnaSeqSampleSize.so"