| Back to Mac ARM64 build report for BioC 3.16 |
|
This page was generated on 2023-04-19 11:01:57 -0400 (Wed, 19 Apr 2023).
| Hostname | OS | Arch (*) | R version | Installed pkgs |
|---|---|---|---|---|
| kjohnson | macOS 13.0 Ventura | arm64 | 4.2.2 (2022-10-31) -- "Innocent and Trusting" | 4256 |
| Click on any hostname to see more info about the system (e.g. compilers) (*) as reported by 'uname -p', except on Windows and Mac OS X | ||||
|
To the developers/maintainers of the Rbec package: Make sure to use the following settings in order to reproduce any error or warning you see on this page. |
| Package 1599/2183 | Hostname | OS / Arch | INSTALL | BUILD | BUILD BIN | ||||||||
| Rbec 1.6.0 (landing page) Pengfan Zhang
| kjohnson | macOS 13.0 Ventura / arm64 | ERROR | ERROR | skipped | ||||||||
| Package: Rbec |
| Version: 1.6.0 |
| Command: /Library/Frameworks/R.framework/Resources/bin/R CMD build --keep-empty-dirs --no-resave-data Rbec |
| StartedAt: 2023-04-18 00:03:36 -0400 (Tue, 18 Apr 2023) |
| EndedAt: 2023-04-18 00:03:50 -0400 (Tue, 18 Apr 2023) |
| EllapsedTime: 13.8 seconds |
| RetCode: 1 |
| Status: ERROR |
| PackageFile: None |
| PackageFileSize: NA |
##############################################################################
##############################################################################
###
### Running command:
###
### /Library/Frameworks/R.framework/Resources/bin/R CMD build --keep-empty-dirs --no-resave-data Rbec
###
##############################################################################
##############################################################################
* checking for file ‘Rbec/DESCRIPTION’ ... OK
* preparing ‘Rbec’:
* checking DESCRIPTION meta-information ... OK
* cleaning src
* installing the package to build vignettes
-----------------------------------
* installing *source* package ‘Rbec’ ...
** using staged installation
** libs
clang++ -arch arm64 -std=gnu++14 -I"/Library/Frameworks/R.framework/Resources/include" -DNDEBUG -I'/Library/Frameworks/R.framework/Versions/4.2-arm64/Resources/library/Rcpp/include' -I/opt/R/arm64/include -fPIC -falign-functions=64 -Wall -g -O2 -c RcppExports.cpp -o RcppExports.o
In file included from RcppExports.cpp:4:
In file included from ./../inst/include/Rbec.h:7:
In file included from ./../inst/include/Rbec_RcppExports.h:7:
In file included from /Library/Frameworks/R.framework/Versions/4.2-arm64/Resources/library/Rcpp/include/Rcpp.h:27:
In file included from /Library/Frameworks/R.framework/Versions/4.2-arm64/Resources/library/Rcpp/include/RcppCommon.h:168:
/Library/Frameworks/R.framework/Versions/4.2-arm64/Resources/library/Rcpp/include/Rcpp/internal/r_coerce.h:255:7: warning: 'sprintf' is deprecated: This function is provided for compatibility reasons only. Due to security concerns inherent in the design of sprintf(3), it is highly recommended that you use snprintf(3) instead. [-Wdeprecated-declarations]
::sprintf(buff, "%02x", from);
^
/Library/Developer/CommandLineTools/SDKs/MacOSX.sdk/usr/include/stdio.h:188:1: note: 'sprintf' has been explicitly marked deprecated here
__deprecated_msg("This function is provided for compatibility reasons only. Due to security concerns inherent in the design of sprintf(3), it is highly recommended that you use snprintf(3) instead.")
^
/Library/Developer/CommandLineTools/SDKs/MacOSX.sdk/usr/include/sys/cdefs.h:215:48: note: expanded from macro '__deprecated_msg'
#define __deprecated_msg(_msg) __attribute__((__deprecated__(_msg)))
^
In file included from RcppExports.cpp:4:
In file included from ./../inst/include/Rbec.h:7:
./../inst/include/Rbec_RcppExports.h:14:14: warning: unused function 'validateSignature' [-Wunused-function]
void validateSignature(const char* sig) {
^
2 warnings generated.
clang++ -arch arm64 -std=gnu++14 -I"/Library/Frameworks/R.framework/Resources/include" -DNDEBUG -I'/Library/Frameworks/R.framework/Versions/4.2-arm64/Resources/library/Rcpp/include' -I/opt/R/arm64/include -fPIC -falign-functions=64 -Wall -g -O2 -c kmer_dist.cpp -o kmer_dist.o
In file included from kmer_dist.cpp:1:
In file included from ./dada.h:8:
In file included from /Library/Frameworks/R.framework/Versions/4.2-arm64/Resources/library/Rcpp/include/Rcpp.h:27:
In file included from /Library/Frameworks/R.framework/Versions/4.2-arm64/Resources/library/Rcpp/include/RcppCommon.h:168:
/Library/Frameworks/R.framework/Versions/4.2-arm64/Resources/library/Rcpp/include/Rcpp/internal/r_coerce.h:255:7: warning: 'sprintf' is deprecated: This function is provided for compatibility reasons only. Due to security concerns inherent in the design of sprintf(3), it is highly recommended that you use snprintf(3) instead. [-Wdeprecated-declarations]
::sprintf(buff, "%02x", from);
^
/Library/Developer/CommandLineTools/SDKs/MacOSX.sdk/usr/include/stdio.h:188:1: note: 'sprintf' has been explicitly marked deprecated here
__deprecated_msg("This function is provided for compatibility reasons only. Due to security concerns inherent in the design of sprintf(3), it is highly recommended that you use snprintf(3) instead.")
^
/Library/Developer/CommandLineTools/SDKs/MacOSX.sdk/usr/include/sys/cdefs.h:215:48: note: expanded from macro '__deprecated_msg'
#define __deprecated_msg(_msg) __attribute__((__deprecated__(_msg)))
^
1 warning generated.
clang++ -arch arm64 -std=gnu++14 -I"/Library/Frameworks/R.framework/Resources/include" -DNDEBUG -I'/Library/Frameworks/R.framework/Versions/4.2-arm64/Resources/library/Rcpp/include' -I/opt/R/arm64/include -fPIC -falign-functions=64 -Wall -g -O2 -c rcpp_test.cpp -o rcpp_test.o
In file included from rcpp_test.cpp:2:
In file included from ./dada.h:8:
In file included from /Library/Frameworks/R.framework/Versions/4.2-arm64/Resources/library/Rcpp/include/Rcpp.h:27:
In file included from /Library/Frameworks/R.framework/Versions/4.2-arm64/Resources/library/Rcpp/include/RcppCommon.h:168:
/Library/Frameworks/R.framework/Versions/4.2-arm64/Resources/library/Rcpp/include/Rcpp/internal/r_coerce.h:255:7: warning: 'sprintf' is deprecated: This function is provided for compatibility reasons only. Due to security concerns inherent in the design of sprintf(3), it is highly recommended that you use snprintf(3) instead. [-Wdeprecated-declarations]
::sprintf(buff, "%02x", from);
^
/Library/Developer/CommandLineTools/SDKs/MacOSX.sdk/usr/include/stdio.h:188:1: note: 'sprintf' has been explicitly marked deprecated here
__deprecated_msg("This function is provided for compatibility reasons only. Due to security concerns inherent in the design of sprintf(3), it is highly recommended that you use snprintf(3) instead.")
^
/Library/Developer/CommandLineTools/SDKs/MacOSX.sdk/usr/include/sys/cdefs.h:215:48: note: expanded from macro '__deprecated_msg'
#define __deprecated_msg(_msg) __attribute__((__deprecated__(_msg)))
^
In file included from rcpp_test.cpp:3:
/Library/Developer/CommandLineTools/usr/lib/clang/14.0.0/include/emmintrin.h:14:2: error: "This header is only meant to be used on x86 and x64 architecture"
#error "This header is only meant to be used on x86 and x64 architecture"
^
In file included from rcpp_test.cpp:3:
In file included from /Library/Developer/CommandLineTools/usr/lib/clang/14.0.0/include/emmintrin.h:17:
/Library/Developer/CommandLineTools/usr/lib/clang/14.0.0/include/xmmintrin.h:14:2: error: "This header is only meant to be used on x86 and x64 architecture"
#error "This header is only meant to be used on x86 and x64 architecture"
^
In file included from rcpp_test.cpp:3:
In file included from /Library/Developer/CommandLineTools/usr/lib/clang/14.0.0/include/emmintrin.h:17:
In file included from /Library/Developer/CommandLineTools/usr/lib/clang/14.0.0/include/xmmintrin.h:17:
/Library/Developer/CommandLineTools/usr/lib/clang/14.0.0/include/mmintrin.h:14:2: error: "This header is only meant to be used on x86 and x64 architecture"
#error "This header is only meant to be used on x86 and x64 architecture"
^
/Library/Developer/CommandLineTools/usr/lib/clang/14.0.0/include/mmintrin.h:37:5: error: use of undeclared identifier '__builtin_ia32_emms'; did you mean '__builtin_isless'?
__builtin_ia32_emms();
^
/Library/Developer/CommandLineTools/SDKs/MacOSX.sdk/usr/include/c++/v1/math.h:670:12: note: '__builtin_isless' declared here
return isless(__lcpp_x, __lcpp_y);
^
/Library/Developer/CommandLineTools/SDKs/MacOSX.sdk/usr/include/math.h:545:22: note: expanded from macro 'isless'
#define isless(x, y) __builtin_isless((x),(y))
^
In file included from rcpp_test.cpp:3:
In file included from /Library/Developer/CommandLineTools/usr/lib/clang/14.0.0/include/emmintrin.h:17:
In file included from /Library/Developer/CommandLineTools/usr/lib/clang/14.0.0/include/xmmintrin.h:17:
/Library/Developer/CommandLineTools/usr/lib/clang/14.0.0/include/mmintrin.h:37:25: error: too few arguments to function call, expected 2, have 0
__builtin_ia32_emms();
~~~~~~~~~~~~~~~~~~~~^
/Library/Developer/CommandLineTools/usr/lib/clang/14.0.0/include/mmintrin.h:54:19: error: use of undeclared identifier '__builtin_ia32_vec_init_v2si'
return (__m64)__builtin_ia32_vec_init_v2si(__i, 0);
^
/Library/Developer/CommandLineTools/usr/lib/clang/14.0.0/include/mmintrin.h:71:12: error: use of undeclared identifier '__builtin_ia32_vec_ext_v2si'
return __builtin_ia32_vec_ext_v2si((__v2si)__m, 0);
^
/Library/Developer/CommandLineTools/usr/lib/clang/14.0.0/include/mmintrin.h:133:19: error: use of undeclared identifier '__builtin_ia32_packsswb'
return (__m64)__builtin_ia32_packsswb((__v4hi)__m1, (__v4hi)__m2);
^
/Library/Developer/CommandLineTools/usr/lib/clang/14.0.0/include/mmintrin.h:163:19: error: use of undeclared identifier '__builtin_ia32_packssdw'
return (__m64)__builtin_ia32_packssdw((__v2si)__m1, (__v2si)__m2);
^
/Library/Developer/CommandLineTools/usr/lib/clang/14.0.0/include/mmintrin.h:193:19: error: use of undeclared identifier '__builtin_ia32_packuswb'
return (__m64)__builtin_ia32_packuswb((__v4hi)__m1, (__v4hi)__m2);
^
/Library/Developer/CommandLineTools/usr/lib/clang/14.0.0/include/mmintrin.h:220:19: error: use of undeclared identifier '__builtin_ia32_punpckhbw'
return (__m64)__builtin_ia32_punpckhbw((__v8qi)__m1, (__v8qi)__m2);
^
/Library/Developer/CommandLineTools/usr/lib/clang/14.0.0/include/mmintrin.h:243:19: error: use of undeclared identifier '__builtin_ia32_punpckhwd'
return (__m64)__builtin_ia32_punpckhwd((__v4hi)__m1, (__v4hi)__m2);
^
/Library/Developer/CommandLineTools/usr/lib/clang/14.0.0/include/mmintrin.h:264:19: error: use of undeclared identifier '__builtin_ia32_punpckhdq'
return (__m64)__builtin_ia32_punpckhdq((__v2si)__m1, (__v2si)__m2);
^
/Library/Developer/CommandLineTools/usr/lib/clang/14.0.0/include/mmintrin.h:291:19: error: use of undeclared identifier '__builtin_ia32_punpcklbw'
return (__m64)__builtin_ia32_punpcklbw((__v8qi)__m1, (__v8qi)__m2);
^
/Library/Developer/CommandLineTools/usr/lib/clang/14.0.0/include/mmintrin.h:314:19: error: use of undeclared identifier '__builtin_ia32_punpcklwd'
return (__m64)__builtin_ia32_punpcklwd((__v4hi)__m1, (__v4hi)__m2);
^
/Library/Developer/CommandLineTools/usr/lib/clang/14.0.0/include/mmintrin.h:335:19: error: use of undeclared identifier '__builtin_ia32_punpckldq'
return (__m64)__builtin_ia32_punpckldq((__v2si)__m1, (__v2si)__m2);
^
/Library/Developer/CommandLineTools/usr/lib/clang/14.0.0/include/mmintrin.h:356:19: error: use of undeclared identifier '__builtin_ia32_paddb'; did you mean '__builtin_arm_addg'?
return (__m64)__builtin_ia32_paddb((__v8qi)__m1, (__v8qi)__m2);
^
/Library/Developer/CommandLineTools/usr/lib/clang/14.0.0/include/mmintrin.h:356:19: note: '__builtin_arm_addg' declared here
/Library/Developer/CommandLineTools/usr/lib/clang/14.0.0/include/mmintrin.h:356:19: error: first argument of MTE builtin function must be a pointer ('__v8qi' (vector of 8 'char' values) invalid)
return (__m64)__builtin_ia32_paddb((__v8qi)__m1, (__v8qi)__m2);
^ ~~~~~~~~~~~~
/Library/Developer/CommandLineTools/usr/lib/clang/14.0.0/include/mmintrin.h:377:19: error: use of undeclared identifier '__builtin_ia32_paddw'; did you mean '__builtin_arm_addg'?
return (__m64)__builtin_ia32_paddw((__v4hi)__m1, (__v4hi)__m2);
^
/Library/Developer/CommandLineTools/usr/lib/clang/14.0.0/include/mmintrin.h:356:19: note: '__builtin_arm_addg' declared here
return (__m64)__builtin_ia32_paddb((__v8qi)__m1, (__v8qi)__m2);
^
fatal error: too many errors emitted, stopping now [-ferror-limit=]
1 warning and 20 errors generated.
make: *** [rcpp_test.o] Error 1
ERROR: compilation failed for package ‘Rbec’
* removing ‘/private/tmp/RtmpAIbCbn/Rinst163c22210b419/Rbec’
-----------------------------------
ERROR: package installation failed