| Back to Mac ARM64 build report for BioC 3.16 |
|
This page was generated on 2023-04-19 11:01:55 -0400 (Wed, 19 Apr 2023).
| Hostname | OS | Arch (*) | R version | Installed pkgs |
|---|---|---|---|---|
| kjohnson | macOS 13.0 Ventura | arm64 | 4.2.2 (2022-10-31) -- "Innocent and Trusting" | 4256 |
| Click on any hostname to see more info about the system (e.g. compilers) (*) as reported by 'uname -p', except on Windows and Mac OS X | ||||
|
To the developers/maintainers of the MADSEQ package: Make sure to use the following settings in order to reproduce any error or warning you see on this page. |
| Package 1079/2183 | Hostname | OS / Arch | INSTALL | BUILD | BUILD BIN | ||||||||
| MADSEQ 1.24.0 (landing page) Yu Kong
| kjohnson | macOS 13.0 Ventura / arm64 | OK | OK | OK | ||||||||
| Package: MADSEQ |
| Version: 1.24.0 |
| Command: /Library/Frameworks/R.framework/Resources/bin/R CMD build --keep-empty-dirs --no-resave-data MADSEQ |
| StartedAt: 2023-04-17 12:46:19 -0400 (Mon, 17 Apr 2023) |
| EndedAt: 2023-04-17 12:47:53 -0400 (Mon, 17 Apr 2023) |
| EllapsedTime: 94.3 seconds |
| RetCode: 0 |
| Status: OK |
| PackageFile: MADSEQ_1.24.0.tar.gz |
| PackageFileSize: 1.958 MiB |
##############################################################################
##############################################################################
###
### Running command:
###
### /Library/Frameworks/R.framework/Resources/bin/R CMD build --keep-empty-dirs --no-resave-data MADSEQ
###
##############################################################################
##############################################################################
* checking for file ‘MADSEQ/DESCRIPTION’ ... OK
* preparing ‘MADSEQ’:
* checking DESCRIPTION meta-information ... OK
* installing the package to build vignettes
* creating vignettes ... OK
* checking for LF line-endings in source and make files and shell scripts
* checking for empty or unneeded directories
NB: this package now depends on R (>= 3.5.0)
WARNING: Added dependency on R >= 3.5.0 because serialized objects in
serialize/load version 3 cannot be read in older versions of R.
File(s) containing such objects:
‘MADSEQ/inst/AQP7/hg19_AQP7_gr.RDS’
‘MADSEQ/inst/AQP7/hg38_AQP7_gr.RDS’
‘MADSEQ/inst/AQP7/hs37d5_AQP7_gr.RDS’
‘MADSEQ/inst/HLA/hg19_HLA_gr.RDS’ ‘MADSEQ/inst/HLA/hg38_HLA_gr.RDS’
‘MADSEQ/inst/HLA/hs37d5_HLA_gr.RDS’ ‘MADSEQ/inst/gap/hg19_gap_gr.RDS’
‘MADSEQ/inst/gap/hg38_gap_gr.RDS’ ‘MADSEQ/inst/gap/hs37d5_gap_gr.RDS’
* building ‘MADSEQ_1.24.0.tar.gz’