| Back to Mac ARM64 build report for BioC 3.16 | 
 | 
This page was generated on 2023-04-19 11:01:55 -0400 (Wed, 19 Apr 2023).
| Hostname | OS | Arch (*) | R version | Installed pkgs | 
|---|---|---|---|---|
| kjohnson | macOS 13.0 Ventura | arm64 | 4.2.2 (2022-10-31) -- "Innocent and Trusting" | 4256 | 
| Click on any hostname to see more info about the system (e.g. compilers) (*) as reported by 'uname -p', except on Windows and Mac OS X | ||||
| To the developers/maintainers of the IMMAN package: Make sure to use the following settings in order to reproduce any error or warning you see on this page. | 
| Package 964/2183 | Hostname | OS / Arch | INSTALL | BUILD | BUILD BIN | ||||||||
| IMMAN 1.18.0  (landing page) Minoo Ashtiani 
 | kjohnson | macOS 13.0 Ventura / arm64 | OK | OK | OK |  | |||||||
| Package: IMMAN | 
| Version: 1.18.0 | 
| Command: rm -rf IMMAN.buildbin-libdir && mkdir IMMAN.buildbin-libdir && /Users/biocbuild/BBS/utils/build-universal.sh IMMAN_1.18.0.tar.gz /Library/Frameworks/R.framework/Resources/bin/R IMMAN.buildbin-libdir | 
| StartedAt: 2023-04-18 16:33:46 -0400 (Tue, 18 Apr 2023) | 
| EndedAt: 2023-04-18 16:34:20 -0400 (Tue, 18 Apr 2023) | 
| EllapsedTime: 33.6 seconds | 
| RetCode: 0 | 
| Status: OK | 
| PackageFile: IMMAN_1.18.0.tgz | 
| PackageFileSize: 73.52 KiB | 
############################################################################## ############################################################################## ### ### Running command: ### ### rm -rf IMMAN.buildbin-libdir && mkdir IMMAN.buildbin-libdir && /Users/biocbuild/BBS/utils/build-universal.sh IMMAN_1.18.0.tar.gz /Library/Frameworks/R.framework/Resources/bin/R IMMAN.buildbin-libdir ### ############################################################################## ############################################################################## >>>>>>> >>>>>>> INSTALLATION WITH 'R CMD INSTALL --preclean --no-multiarch --library=IMMAN.buildbin-libdir IMMAN_1.18.0.tar.gz' >>>>>>> * installing *source* package ‘IMMAN’ ... ** using staged installation ** R ** data *** moving datasets to lazyload DB ** inst ** byte-compile and prepare package for lazy loading ** help *** installing help indices ** building package indices ** installing vignettes ** testing if installed package can be loaded from temporary location ** testing if installed package can be loaded from final location ** testing if installed package keeps a record of temporary installation path * DONE (IMMAN)