| Back to Mac ARM64 build report for BioC 3.16 |
|
This page was generated on 2023-04-19 11:01:54 -0400 (Wed, 19 Apr 2023).
| Hostname | OS | Arch (*) | R version | Installed pkgs |
|---|---|---|---|---|
| kjohnson | macOS 13.0 Ventura | arm64 | 4.2.2 (2022-10-31) -- "Innocent and Trusting" | 4256 |
| Click on any hostname to see more info about the system (e.g. compilers) (*) as reported by 'uname -p', except on Windows and Mac OS X | ||||
|
To the developers/maintainers of the GeneOverlap package: Make sure to use the following settings in order to reproduce any error or warning you see on this page. |
| Package 762/2183 | Hostname | OS / Arch | INSTALL | BUILD | BUILD BIN | ||||||||
| GeneOverlap 1.34.0 (landing page) António Miguel de Jesus Domingues, Max-Planck Institute for Cell Biology and Genetics
| kjohnson | macOS 13.0 Ventura / arm64 | OK | OK | OK | ||||||||
| Package: GeneOverlap |
| Version: 1.34.0 |
| Command: /Library/Frameworks/R.framework/Resources/bin/R CMD build --keep-empty-dirs --no-resave-data GeneOverlap |
| StartedAt: 2023-04-17 07:27:38 -0400 (Mon, 17 Apr 2023) |
| EndedAt: 2023-04-17 07:27:51 -0400 (Mon, 17 Apr 2023) |
| EllapsedTime: 12.8 seconds |
| RetCode: 0 |
| Status: OK |
| PackageFile: GeneOverlap_1.34.0.tar.gz |
| PackageFileSize: 360.5 KiB |
############################################################################## ############################################################################## ### ### Running command: ### ### /Library/Frameworks/R.framework/Resources/bin/R CMD build --keep-empty-dirs --no-resave-data GeneOverlap ### ############################################################################## ############################################################################## * checking for file ‘GeneOverlap/DESCRIPTION’ ... OK * preparing ‘GeneOverlap’: * checking DESCRIPTION meta-information ... OK * installing the package to build vignettes * creating vignettes ... OK Warning in .write_description(db, ldpath) : Unknown encoding with non-ASCII data: converting to ASCII * checking for LF line-endings in source and make files and shell scripts * checking for empty or unneeded directories * looking to see if a ‘data/datalist’ file should be added * building ‘GeneOverlap_1.34.0.tar.gz’