| Back to Mac ARM64 build report for BioC 3.16 | 
 | 
This page was generated on 2023-04-19 11:01:54 -0400 (Wed, 19 Apr 2023).
| Hostname | OS | Arch (*) | R version | Installed pkgs | 
|---|---|---|---|---|
| kjohnson | macOS 13.0 Ventura | arm64 | 4.2.2 (2022-10-31) -- "Innocent and Trusting" | 4256 | 
| Click on any hostname to see more info about the system (e.g. compilers) (*) as reported by 'uname -p', except on Windows and Mac OS X | ||||
| To the developers/maintainers of the DNAcopy package: Make sure to use the following settings in order to reproduce any error or warning you see on this page. | 
| Package 560/2183 | Hostname | OS / Arch | INSTALL | BUILD | BUILD BIN | ||||||||
| DNAcopy 1.72.3  (landing page) Venkatraman E. Seshan 
 | kjohnson | macOS 13.0 Ventura / arm64 | OK | OK | OK |  | |||||||
| Package: DNAcopy | 
| Version: 1.72.3 | 
| Command: rm -rf DNAcopy.buildbin-libdir && mkdir DNAcopy.buildbin-libdir && /Users/biocbuild/BBS/utils/build-universal.sh DNAcopy_1.72.3.tar.gz /Library/Frameworks/R.framework/Resources/bin/R DNAcopy.buildbin-libdir | 
| StartedAt: 2023-04-18 15:20:36 -0400 (Tue, 18 Apr 2023) | 
| EndedAt: 2023-04-18 15:21:04 -0400 (Tue, 18 Apr 2023) | 
| EllapsedTime: 28.2 seconds | 
| RetCode: 0 | 
| Status: OK | 
| PackageFile: DNAcopy_1.72.3.tgz | 
| PackageFileSize: 498.3 KiB | 
##############################################################################
##############################################################################
###
### Running command:
###
###   rm -rf DNAcopy.buildbin-libdir && mkdir DNAcopy.buildbin-libdir && /Users/biocbuild/BBS/utils/build-universal.sh DNAcopy_1.72.3.tar.gz /Library/Frameworks/R.framework/Resources/bin/R DNAcopy.buildbin-libdir
###
##############################################################################
##############################################################################
>>>>>>> 
>>>>>>> INSTALLATION WITH 'R CMD INSTALL --preclean --no-multiarch --library=DNAcopy.buildbin-libdir DNAcopy_1.72.3.tar.gz'
>>>>>>> 
* installing *source* package ‘DNAcopy’ ...
** using staged installation
** libs
/opt/R/arm64/bin/gfortran -mtune=native -fno-optimize-sibling-calls  -fPIC  -Wall -g -O2  -c cbsWtstats.f -o cbsWtstats.o
cbsWtstats.f:283:72:
  283 |       iseg(2) = tmaxj
      |                                                                        ^
Warning: ‘tmaxj’ may be used uninitialized [-Wmaybe-uninitialized]
cbsWtstats.f:17:23:
   17 |      2     tmaxi, tmaxj, nal0
      |                       ^
note: ‘tmaxj’ was declared here
cbsWtstats.f:282:72:
  282 |       iseg(1) = tmaxi
      |                                                                        ^
Warning: ‘tmaxi’ may be used uninitialized [-Wmaybe-uninitialized]
cbsWtstats.f:17:16:
   17 |      2     tmaxi, tmaxj, nal0
      |                ^
note: ‘tmaxi’ was declared here
/opt/R/arm64/bin/gfortran -mtune=native -fno-optimize-sibling-calls  -fPIC  -Wall -g -O2  -c cbststats.f -o cbststats.o
cbststats.f:11:63:
   11 |      1     nb2, bi, bj, ilo, ihi, jlo, jhi, alenmax, i2j, sxmxi,
      |                                                               ^
Warning: ‘sxmxi’ may be used uninitialized [-Wmaybe-uninitialized]
/opt/R/arm64/bin/gfortran -mtune=native -fno-optimize-sibling-calls  -fPIC  -Wall -g -O2  -c changepoints-wtd.f -o changepoints-wtd.o
/opt/R/arm64/bin/gfortran -mtune=native -fno-optimize-sibling-calls  -fPIC  -Wall -g -O2  -c changepoints.f -o changepoints.o
/opt/R/arm64/bin/gfortran -mtune=native -fno-optimize-sibling-calls  -fPIC  -Wall -g -O2  -c esegment.f -o esegment.o
clang -arch arm64 -I"/Library/Frameworks/R.framework/Resources/include" -DNDEBUG   -I/opt/R/arm64/include   -fPIC  -falign-functions=64 -Wall -g -O2  -c flchoose.c -o flchoose.o
clang -arch arm64 -I"/Library/Frameworks/R.framework/Resources/include" -DNDEBUG   -I/opt/R/arm64/include   -fPIC  -falign-functions=64 -Wall -g -O2  -c fphyper.c -o fphyper.o
clang -arch arm64 -I"/Library/Frameworks/R.framework/Resources/include" -DNDEBUG   -I/opt/R/arm64/include   -fPIC  -falign-functions=64 -Wall -g -O2  -c fpnorm.c -o fpnorm.o
/opt/R/arm64/bin/gfortran -mtune=native -fno-optimize-sibling-calls  -fPIC  -Wall -g -O2  -c getbdry.f -o getbdry.o
/opt/R/arm64/bin/gfortran -mtune=native -fno-optimize-sibling-calls  -fPIC  -Wall -g -O2  -c prune.f -o prune.o
clang -arch arm64 -I"/Library/Frameworks/R.framework/Resources/include" -DNDEBUG   -I/opt/R/arm64/include   -fPIC  -falign-functions=64 -Wall -g -O2  -c rshared.c -o rshared.o
/opt/R/arm64/bin/gfortran -mtune=native -fno-optimize-sibling-calls  -fPIC  -Wall -g -O2  -c segmentp.f -o segmentp.o
/opt/R/arm64/bin/gfortran -mtune=native -fno-optimize-sibling-calls  -fPIC  -Wall -g -O2  -c smoothCNA.f -o smoothCNA.o
/opt/R/arm64/bin/gfortran -mtune=native -fno-optimize-sibling-calls  -fPIC  -Wall -g -O2  -c tailprobs.f -o tailprobs.o
clang -arch arm64 -dynamiclib -Wl,-headerpad_max_install_names -undefined dynamic_lookup -single_module -multiply_defined suppress -L/Library/Frameworks/R.framework/Resources/lib -L/opt/R/arm64/lib -o DNAcopy.so cbsWtstats.o cbststats.o changepoints-wtd.o changepoints.o esegment.o flchoose.o fphyper.o fpnorm.o getbdry.o prune.o rshared.o segmentp.o smoothCNA.o tailprobs.o -L/opt/R/arm64/gfortran/lib/gcc/aarch64-apple-darwin20.6.0/12.0.1 -L/opt/R/arm64/gfortran/lib -lgfortran -lemutls_w -lquadmath -F/Library/Frameworks/R.framework/.. -framework R -Wl,-framework -Wl,CoreFoundation
ld: warning: -undefined dynamic_lookup may not work with chained fixups
ld: warning: could not create compact unwind for _wtmaxo_: registers 74 and 75 not saved contiguously in frame
ld: warning: could not create compact unwind for _wtmaxp_: register 77 saved somewhere other than in frame
ld: warning: could not create compact unwind for _hwtmaxp_: register 75 saved somewhere other than in frame
ld: warning: could not create compact unwind for _tmaxo_: register 77 saved somewhere other than in frame
ld: warning: could not create compact unwind for _tmaxp_: register 75 saved somewhere other than in frame
ld: warning: could not create compact unwind for _htmaxp_: register 73 saved somewhere other than in frame
ld: warning: could not create compact unwind for _wtpermp_: register 77 saved somewhere other than in frame
ld: warning: could not create compact unwind for _wfindcpt_: register 73 saved somewhere other than in frame
ld: warning: could not create compact unwind for _tpermp_: registers 74 and 75 not saved contiguously in frame
ld: warning: could not create compact unwind for _fndcpt_: register 73 saved somewhere other than in frame
ld: warning: could not create compact unwind for _etabdry_: register 73 saved somewhere other than in frame
ld: warning: could not create compact unwind for _getbdry_: register 77 saved somewhere other than in frame
ld: warning: could not create compact unwind for _prune_: registers 25 and 26 not saved contiguously in frame
ld: warning: could not create compact unwind for _smoothlr_: register 75 saved somewhere other than in frame
ld: warning: could not create compact unwind for _nu_: register 77 saved somewhere other than in frame
ld: warning: could not create compact unwind for _tailp_: registers 78 and 79 not saved contiguously in frame
ld: warning: could not create compact unwind for ___emutls_get_address: registers 23 and 24 not saved contiguously in frame
installing to /Volumes/External/bbs-3.16-bioc-m1/meat/DNAcopy.buildbin-libdir/00LOCK-DNAcopy/00new/DNAcopy/libs
** R
** data
*** moving datasets to lazyload DB
** demo
** inst
** byte-compile and prepare package for lazy loading
** help
*** installing help indices
** building package indices
** installing vignettes
** testing if installed package can be loaded from temporary location
** checking absolute paths in shared objects and dynamic libraries
** testing if installed package can be loaded from final location
** testing if installed package keeps a record of temporary installation path
* DONE (DNAcopy)
>>>>>>> 
>>>>>>> FIXING LINKS FOR DNAcopy.buildbin-libdir/DNAcopy/libs/DNAcopy.so
>>>>>>> 
install_name_tool -change "/opt/R/arm64/lib/libgcc_s.1.1.dylib" "/Library/Frameworks/R.framework/Versions/4.2-arm64/Resources/lib/libgcc_s.1.1.dylib" "DNAcopy.buildbin-libdir/DNAcopy/libs/DNAcopy.so"
install_name_tool -change "/opt/R/arm64/lib/libgfortran.5.dylib" "/Library/Frameworks/R.framework/Versions/4.2-arm64/Resources/lib/libgfortran.5.dylib" "DNAcopy.buildbin-libdir/DNAcopy/libs/DNAcopy.so"
install_name_tool -change "/opt/R/arm64/lib/libquadmath.0.dylib" "/Library/Frameworks/R.framework/Versions/4.2-arm64/Resources/lib/libquadmath.0.dylib" "DNAcopy.buildbin-libdir/DNAcopy/libs/DNAcopy.so"
install_name_tool -change "/opt/R/arm64/gfortran/lib/libgfortran.5.dylib" "/Library/Frameworks/R.framework/Versions/4.2-arm64/Resources/lib/libgfortran.5.dylib" "DNAcopy.buildbin-libdir/DNAcopy/libs/DNAcopy.so"
install_name_tool -change "/opt/R/arm64/gfortran/lib/libquadmath.0.dylib" "/Library/Frameworks/R.framework/Versions/4.2-arm64/Resources/lib/libquadmath.0.dylib" "DNAcopy.buildbin-libdir/DNAcopy/libs/DNAcopy.so"