| Back to Mac ARM64 build report for BioC 3.16 | 
 | 
This page was generated on 2023-04-19 11:01:53 -0400 (Wed, 19 Apr 2023).
| Hostname | OS | Arch (*) | R version | Installed pkgs | 
|---|---|---|---|---|
| kjohnson | macOS 13.0 Ventura | arm64 | 4.2.2 (2022-10-31) -- "Innocent and Trusting" | 4256 | 
| Click on any hostname to see more info about the system (e.g. compilers) (*) as reported by 'uname -p', except on Windows and Mac OS X | ||||
| To the developers/maintainers of the ChAMP package: Make sure to use the following settings in order to reproduce any error or warning you see on this page. | 
| Package 302/2183 | Hostname | OS / Arch | INSTALL | BUILD | BUILD BIN | ||||||||
| ChAMP 2.28.0  (landing page) Yuan Tian 
 | kjohnson | macOS 13.0 Ventura / arm64 | OK | OK | OK |  | |||||||
| Package: ChAMP | 
| Version: 2.28.0 | 
| Command: /Library/Frameworks/R.framework/Resources/bin/R CMD build --keep-empty-dirs --no-resave-data ChAMP | 
| StartedAt: 2023-04-16 23:45:54 -0400 (Sun, 16 Apr 2023) | 
| EndedAt: 2023-04-16 23:48:13 -0400 (Sun, 16 Apr 2023) | 
| EllapsedTime: 139.2 seconds | 
| RetCode: 0 | 
| Status: OK | 
| PackageFile: ChAMP_2.28.0.tar.gz | 
| PackageFileSize: 7.942 MiB | 
############################################################################## ############################################################################## ### ### Running command: ### ### /Library/Frameworks/R.framework/Resources/bin/R CMD build --keep-empty-dirs --no-resave-data ChAMP ### ############################################################################## ############################################################################## * checking for file ‘ChAMP/DESCRIPTION’ ... OK * preparing ‘ChAMP’: * checking DESCRIPTION meta-information ... OK * installing the package to build vignettes * creating vignettes ... OK * checking for LF line-endings in source and make files and shell scripts * checking for empty or unneeded directories Omitted ‘LazyData’ from DESCRIPTION * building ‘ChAMP_2.28.0.tar.gz’