| Back to Mac ARM64 build report for BioC 3.16 | 
 | 
This page was generated on 2023-04-19 11:01:53 -0400 (Wed, 19 Apr 2023).
| Hostname | OS | Arch (*) | R version | Installed pkgs | 
|---|---|---|---|---|
| kjohnson | macOS 13.0 Ventura | arm64 | 4.2.2 (2022-10-31) -- "Innocent and Trusting" | 4256 | 
| Click on any hostname to see more info about the system (e.g. compilers) (*) as reported by 'uname -p', except on Windows and Mac OS X | ||||
| To the developers/maintainers of the CNORdt package: Make sure to use the following settings in order to reproduce any error or warning you see on this page. | 
| Package 362/2183 | Hostname | OS / Arch | INSTALL | BUILD | BUILD BIN | ||||||||
| CNORdt 1.40.0  (landing page) A. MacNamara 
 | kjohnson | macOS 13.0 Ventura / arm64 | OK | OK | OK |  | |||||||
| Package: CNORdt | 
| Version: 1.40.0 | 
| Command: rm -rf CNORdt.buildbin-libdir && mkdir CNORdt.buildbin-libdir && /Users/biocbuild/BBS/utils/build-universal.sh CNORdt_1.40.0.tar.gz /Library/Frameworks/R.framework/Resources/bin/R CNORdt.buildbin-libdir | 
| StartedAt: 2023-04-18 14:37:34 -0400 (Tue, 18 Apr 2023) | 
| EndedAt: 2023-04-18 14:37:58 -0400 (Tue, 18 Apr 2023) | 
| EllapsedTime: 24.3 seconds | 
| RetCode: 0 | 
| Status: OK | 
| PackageFile: CNORdt_1.40.0.tgz | 
| PackageFileSize: 325.3 KiB | 
##############################################################################
##############################################################################
###
### Running command:
###
###   rm -rf CNORdt.buildbin-libdir && mkdir CNORdt.buildbin-libdir && /Users/biocbuild/BBS/utils/build-universal.sh CNORdt_1.40.0.tar.gz /Library/Frameworks/R.framework/Resources/bin/R CNORdt.buildbin-libdir
###
##############################################################################
##############################################################################
>>>>>>> 
>>>>>>> INSTALLATION WITH 'R CMD INSTALL --preclean --no-multiarch --library=CNORdt.buildbin-libdir CNORdt_1.40.0.tar.gz'
>>>>>>> 
* installing *source* package ‘CNORdt’ ...
** using staged installation
** libs
clang -arch arm64 -I"/Library/Frameworks/R.framework/Resources/include" -DNDEBUG   -I/opt/R/arm64/include   -fPIC  -falign-functions=64 -Wall -g -O2  -c simulatorDT.c -o simulatorDT.o
simulatorDT.c:243:19: warning: equality comparison with extraneous parentheses [-Wparentheses-equality]
                        if((track_cond == nCond)) {
                            ~~~~~~~~~~~^~~~~~~~
simulatorDT.c:243:19: note: remove extraneous parentheses around the comparison to silence this warning
                        if((track_cond == nCond)) {
                           ~           ^       ~
simulatorDT.c:243:19: note: use '=' to turn this equality comparison into an assignment
                        if((track_cond == nCond)) {
                                       ^~
                                       =
simulatorDT.c:55:6: warning: unused variable 'nTimes' [-Wunused-variable]
        int nTimes = INTEGER(nTimes_in)[0];
            ^
simulatorDT.c:53:6: warning: unused variable 'nSignals' [-Wunused-variable]
        int nSignals = INTEGER(nSignals_in)[0];
            ^
3 warnings generated.
clang -arch arm64 -dynamiclib -Wl,-headerpad_max_install_names -undefined dynamic_lookup -single_module -multiply_defined suppress -L/Library/Frameworks/R.framework/Resources/lib -L/opt/R/arm64/lib -o CNORdt.so simulatorDT.o -F/Library/Frameworks/R.framework/.. -framework R -Wl,-framework -Wl,CoreFoundation
ld: warning: -undefined dynamic_lookup may not work with chained fixups
installing to /Volumes/External/bbs-3.16-bioc-m1/meat/CNORdt.buildbin-libdir/00LOCK-CNORdt/00new/CNORdt/libs
** R
** data
** inst
** byte-compile and prepare package for lazy loading
** help
*** installing help indices
** building package indices
** installing vignettes
** testing if installed package can be loaded from temporary location
** checking absolute paths in shared objects and dynamic libraries
** testing if installed package can be loaded from final location
** testing if installed package keeps a record of temporary installation path
* DONE (CNORdt)
>>>>>>> 
>>>>>>> FIXING LINKS FOR CNORdt.buildbin-libdir/CNORdt/libs/CNORdt.so
>>>>>>> 
install_name_tool -change "/opt/R/arm64/lib/libgcc_s.1.1.dylib" "/Library/Frameworks/R.framework/Versions/4.2-arm64/Resources/lib/libgcc_s.1.1.dylib" "CNORdt.buildbin-libdir/CNORdt/libs/CNORdt.so"
install_name_tool -change "/opt/R/arm64/lib/libgfortran.5.dylib" "/Library/Frameworks/R.framework/Versions/4.2-arm64/Resources/lib/libgfortran.5.dylib" "CNORdt.buildbin-libdir/CNORdt/libs/CNORdt.so"
install_name_tool -change "/opt/R/arm64/lib/libquadmath.0.dylib" "/Library/Frameworks/R.framework/Versions/4.2-arm64/Resources/lib/libquadmath.0.dylib" "CNORdt.buildbin-libdir/CNORdt/libs/CNORdt.so"