| Back to Mac ARM64 build report for BioC 3.16 | 
 | 
This page was generated on 2023-04-19 11:01:53 -0400 (Wed, 19 Apr 2023).
| Hostname | OS | Arch (*) | R version | Installed pkgs | 
|---|---|---|---|---|
| kjohnson | macOS 13.0 Ventura | arm64 | 4.2.2 (2022-10-31) -- "Innocent and Trusting" | 4256 | 
| Click on any hostname to see more info about the system (e.g. compilers) (*) as reported by 'uname -p', except on Windows and Mac OS X | ||||
| To the developers/maintainers of the BufferedMatrixMethods package: Make sure to use the following settings in order to reproduce any error or warning you see on this page. | 
| Package 233/2183 | Hostname | OS / Arch | INSTALL | BUILD | BUILD BIN | ||||||||
| BufferedMatrixMethods 1.62.0  (landing page) Ben Bolstad 
 | kjohnson | macOS 13.0 Ventura / arm64 | OK | OK | OK |  | |||||||
| Package: BufferedMatrixMethods | 
| Version: 1.62.0 | 
| Command: /Library/Frameworks/R.framework/Resources/bin/R CMD build --keep-empty-dirs --no-resave-data BufferedMatrixMethods | 
| StartedAt: 2023-04-16 22:37:40 -0400 (Sun, 16 Apr 2023) | 
| EndedAt: 2023-04-16 22:37:41 -0400 (Sun, 16 Apr 2023) | 
| EllapsedTime: 1.2 seconds | 
| RetCode: 0 | 
| Status: OK | 
| PackageFile: BufferedMatrixMethods_1.62.0.tar.gz | 
| PackageFileSize: 10.83 KiB | 
############################################################################## ############################################################################## ### ### Running command: ### ### /Library/Frameworks/R.framework/Resources/bin/R CMD build --keep-empty-dirs --no-resave-data BufferedMatrixMethods ### ############################################################################## ############################################################################## * checking for file ‘BufferedMatrixMethods/DESCRIPTION’ ... OK * preparing ‘BufferedMatrixMethods’: * checking DESCRIPTION meta-information ... OK * cleaning src * checking for LF line-endings in source and make files and shell scripts * checking for empty or unneeded directories * building ‘BufferedMatrixMethods_1.62.0.tar.gz’