| Back to Mac ARM64 build report for BioC 3.16 |
|
This page was generated on 2022-10-07 11:01:42 -0400 (Fri, 07 Oct 2022).
| Hostname | OS | Arch (*) | R version | Installed pkgs |
|---|---|---|---|---|
| kjohnson | macOS 12.5 Monterey | arm64 | 4.2.1 (2022-06-23) -- "Funny-Looking Kid" | 4189 |
| Click on any hostname to see more info about the system (e.g. compilers) (*) as reported by 'uname -p', except on Windows and Mac OS X | ||||
|
To the developers/maintainers of the BiocSklearn package: Make sure to use the following settings in order to reproduce any error or warning you see on this page. |
| Package 172/2158 | Hostname | OS / Arch | INSTALL | BUILD | BUILD BIN | ||||||||
| BiocSklearn 1.19.13 (landing page) Vince Carey
| kjohnson | macOS 12.5 Monterey / arm64 | OK | OK | OK | ||||||||
| Package: BiocSklearn |
| Version: 1.19.13 |
| Command: rm -rf BiocSklearn.buildbin-libdir && mkdir BiocSklearn.buildbin-libdir && /Users/biocbuild/BBS/utils/build-universal.sh BiocSklearn_1.19.13.tar.gz /Library/Frameworks/R.framework/Resources/bin/R BiocSklearn.buildbin-libdir |
| StartedAt: 2022-10-06 09:04:05 -0400 (Thu, 06 Oct 2022) |
| EndedAt: 2022-10-06 09:05:01 -0400 (Thu, 06 Oct 2022) |
| EllapsedTime: 56.7 seconds |
| RetCode: 0 |
| Status: OK |
| PackageFile: BiocSklearn_1.19.13.tgz |
| PackageFileSize: 32.72 MiB |
############################################################################## ############################################################################## ### ### Running command: ### ### rm -rf BiocSklearn.buildbin-libdir && mkdir BiocSklearn.buildbin-libdir && /Users/biocbuild/BBS/utils/build-universal.sh BiocSklearn_1.19.13.tar.gz /Library/Frameworks/R.framework/Resources/bin/R BiocSklearn.buildbin-libdir ### ############################################################################## ############################################################################## >>>>>>> >>>>>>> INSTALLATION WITH 'R CMD INSTALL --preclean --no-multiarch --library=BiocSklearn.buildbin-libdir BiocSklearn_1.19.13.tar.gz' >>>>>>> * installing *source* package ‘BiocSklearn’ ... ** using staged installation ** R ** inst ** byte-compile and prepare package for lazy loading ** help *** installing help indices ** building package indices ** installing vignettes ** testing if installed package can be loaded from temporary location ** testing if installed package can be loaded from final location ** testing if installed package keeps a record of temporary installation path * DONE (BiocSklearn)