| Back to Mac ARM64 build report for BioC 3.16 | 
 | 
This page was generated on 2023-04-19 11:01:53 -0400 (Wed, 19 Apr 2023).
| Hostname | OS | Arch (*) | R version | Installed pkgs | 
|---|---|---|---|---|
| kjohnson | macOS 13.0 Ventura | arm64 | 4.2.2 (2022-10-31) -- "Innocent and Trusting" | 4256 | 
| Click on any hostname to see more info about the system (e.g. compilers) (*) as reported by 'uname -p', except on Windows and Mac OS X | ||||
| To the developers/maintainers of the AMOUNTAIN package: Make sure to use the following settings in order to reproduce any error or warning you see on this page. | 
| Package 46/2183 | Hostname | OS / Arch | INSTALL | BUILD | BUILD BIN | ||||||||
| AMOUNTAIN 1.24.0  (landing page) Dong Li 
 | kjohnson | macOS 13.0 Ventura / arm64 | OK | OK | OK |  | |||||||
| Package: AMOUNTAIN | 
| Version: 1.24.0 | 
| Command: /Library/Frameworks/R.framework/Resources/bin/R CMD build --keep-empty-dirs --no-resave-data AMOUNTAIN | 
| StartedAt: 2023-04-16 19:37:23 -0400 (Sun, 16 Apr 2023) | 
| EndedAt: 2023-04-16 19:37:44 -0400 (Sun, 16 Apr 2023) | 
| EllapsedTime: 21.0 seconds | 
| RetCode: 0 | 
| Status: OK | 
| PackageFile: AMOUNTAIN_1.24.0.tar.gz | 
| PackageFileSize: 1.633 MiB | 
##############################################################################
##############################################################################
###
### Running command:
###
###   /Library/Frameworks/R.framework/Resources/bin/R CMD build --keep-empty-dirs --no-resave-data AMOUNTAIN
###
##############################################################################
##############################################################################
* checking for file ‘AMOUNTAIN/DESCRIPTION’ ... OK
* preparing ‘AMOUNTAIN’:
* checking DESCRIPTION meta-information ... OK
* cleaning src
* installing the package to build vignettes
* creating vignettes ... OK
Warning: ‘inst/doc’ files
    ‘AMOUNTAIN.Rmd’, ‘AMOUNTAIN.html’
  ignored as vignettes have been rebuilt.
  Run R CMD build with --no-build-vignettes to prevent rebuilding.
* cleaning src
* checking for LF line-endings in source and make files and shell scripts
* checking for empty or unneeded directories
* building ‘AMOUNTAIN_1.24.0.tar.gz’