| Back to Long Tests report for BioC 3.16 |
This page was generated on 2023-04-15 21:30:02 -0400 (Sat, 15 Apr 2023).
| Hostname | OS | Arch (*) | R version | Installed pkgs |
|---|---|---|---|---|
| nebbiolo2 | Linux (Ubuntu 20.04.5 LTS) | x86_64 | 4.2.3 (2023-03-15) -- "Shortstop Beagle" | 4502 |
| palomino4 | Windows Server 2022 Datacenter | x64 | 4.2.3 (2023-03-15 ucrt) -- "Shortstop Beagle" | 4282 |
| lconway | macOS 12.5.1 Monterey | x86_64 | 4.2.3 (2023-03-15) -- "Shortstop Beagle" | 4310 |
| Click on any hostname to see more info about the system (e.g. compilers) (*) as reported by 'uname -p', except on Windows and Mac OS X | ||||
|
To the developers/maintainers of the EpiMix package: Make sure to use the following settings in order to reproduce any error or warning you see on this page. |
| Package 20/28 | Hostname | OS / Arch | CHECK | |||||||
| EpiMix 1.0.2 (landing page) Yuanning Zheng
| nebbiolo2 | Linux (Ubuntu 20.04.5 LTS) / x86_64 | WARNINGS | |||||||
| palomino4 | Windows Server 2022 Datacenter / x64 | WARNINGS | ||||||||
| lconway | macOS 12.5.1 Monterey / x86_64 | WARNINGS | ||||||||
| Package: EpiMix |
| Version: 1.0.2 |
| Command: chmod a+r EpiMix -R && F:\biocbuild\bbs-3.16-bioc\R\bin\R.exe CMD build --keep-empty-dirs --no-resave-data --no-build-vignettes --no-manual EpiMix |
| StartedAt: 2023-04-15 08:03:18 -0400 (Sat, 15 Apr 2023) |
| EndedAt: 2023-04-15 08:03:54 -0400 (Sat, 15 Apr 2023) |
| EllapsedTime: 35.4 seconds |
| RetCode: 0 |
| Status: OK |
| PackageFile: EpiMix_1.0.2.tar.gz |
| PackageFileSize: 829.3 KiB |
############################################################################## ############################################################################## ### ### Running command: ### ### chmod a+r EpiMix -R && F:\biocbuild\bbs-3.16-bioc\R\bin\R.exe CMD build --keep-empty-dirs --no-resave-data --no-build-vignettes --no-manual EpiMix ### ############################################################################## ############################################################################## * checking for file 'EpiMix/DESCRIPTION' ... OK * preparing 'EpiMix': * checking DESCRIPTION meta-information ... OK * checking for LF line-endings in source and make files and shell scripts * checking for empty or unneeded directories * building 'EpiMix_1.0.2.tar.gz'