| Back to Workflows build report for BioC 3.15 | 
This page was generated on 2022-10-18 14:00:09 -0400 (Tue, 18 Oct 2022).
| Hostname | OS | Arch (*) | R version | Installed pkgs | 
|---|---|---|---|---|
| nebbiolo1 | Linux (Ubuntu 20.04.5 LTS) | x86_64 | 4.2.1 (2022-06-23) -- "Funny-Looking Kid" | 4386 | 
| merida1 | macOS 10.14.6 Mojave | x86_64 | 4.2.1 (2022-06-23) -- "Funny-Looking Kid" | 4205 | 
| Click on any hostname to see more info about the system (e.g. compilers) (*) as reported by 'uname -p', except on Windows and Mac OS X | ||||
| To the developers/maintainers of the proteomics package: Make sure to use the following settings in order to reproduce any error or warning you see on this page. | 
| Package 19/29 | Hostname | OS / Arch | INSTALL | BUILD | ||||||||
| Laurent Gatto 
 | nebbiolo1 | Linux (Ubuntu 20.04.5 LTS) / x86_64 | ERROR | ERROR | ||||||||
| merida1 | macOS 10.14.6 Mojave / x86_64 | ERROR | ERROR | |||||||||
| Package: proteomics | 
| Version: 1.20.0 | 
| Command: /Library/Frameworks/R.framework/Resources/bin/R CMD INSTALL proteomics | 
| StartedAt: 2022-10-18 08:00:38 -0400 (Tue, 18 Oct 2022) | 
| EndedAt: 2022-10-18 08:00:39 -0400 (Tue, 18 Oct 2022) | 
| EllapsedTime: 1.0 seconds | 
| RetCode: 1 | 
| Status: ERROR | 
############################################################################## ############################################################################## ### ### Running command: ### ### /Library/Frameworks/R.framework/Resources/bin/R CMD INSTALL proteomics ### ############################################################################## ############################################################################## * installing to library ‘/Library/Frameworks/R.framework/Versions/4.2/Resources/library’ * installing *source* package ‘proteomics’ ... ** using staged installation ERROR: a 'NAMESPACE' file is required * removing ‘/Library/Frameworks/R.framework/Versions/4.2/Resources/library/proteomics’