Back to Workflows build report for BioC 3.15 |
This page was generated on 2022-10-18 14:00:09 -0400 (Tue, 18 Oct 2022).
A |
QUICK STATS | OS / Arch | INSTALL | BUILD | ||||||||||
nebbiolo1 | Linux (Ubuntu 20.04.5 LTS) / x86_64 |
|
| ||||||||||
merida1 | macOS 10.14.6 Mojave / x86_64 |
|
| ||||||||||
Package | Maintainer | INSTALL | BUILD | ||||||||||
1/29 | annotation 1.20.0 (landing page) | Bioconductor Package Maintainer | OK | ERROR | |||||||||
2/29 | arrays 1.22.0 (landing page) | Bioconductor Package Maintainer | OK | OK | ![]() | ||||||||
3/29 | BiocMetaWorkflow 1.18.0 (landing page) | Mike Smith | OK | OK | ![]() | ||||||||
4/29 | BP4RNAseq 1.6.0 (landing page) | Shanwen Sun | OK | OK | ![]() | ||||||||
5/29 | CAGEWorkflow 1.12.0 (landing page) | Malte Thodberg | OK | OK | ![]() | ||||||||
6/29 | chipseqDB 1.20.0 (landing page) | Aaron Lun | OK | OK | ![]() | ||||||||
7/29 | csawUsersGuide 1.12.0 (landing page) | Aaron Lun | OK | OK | ![]() | ||||||||
8/29 | cytofWorkflow 1.20.0 (landing page) | Mark D. Robinson | OK | OK | ![]() | ||||||||
9/29 | EGSEA123 1.20.0 (landing page) | Matthew Ritchie | OK | OK | ![]() | ||||||||
10/29 | ExpHunterSuite 1.4.0 (landing page) | James Perkins | OK | OK | ![]() | ||||||||
11/29 | ExpressionNormalizationWorkflow 1.22.0 (landing page) | Karthikeyan Murugesan | OK | OK | ![]() | ||||||||
12/29 | fluentGenomics 1.8.0 (landing page) | Stuart Lee | OK | OK | ![]() | ||||||||
13/29 | generegulation 1.20.0 (landing page) | Bioconductor Package Maintainer | OK | OK | ![]() | ||||||||
14/29 | GeoMxWorkflows 1.2.0 (landing page) | Jason Reeves | OK | OK | ![]() | ||||||||
15/29 | highthroughputassays 1.20.0 (landing page) | Bioconductor Package Maintainer | OK | OK | ![]() | ||||||||
16/29 | liftOver 1.20.0 (landing page) | Bioconductor Package Maintainer | OK | OK | ![]() | ||||||||
17/29 | maEndToEnd 2.16.0 (landing page) | Stefanie Reisenauer | OK | ERROR | |||||||||
18/29 | methylationArrayAnalysis 1.20.0 (landing page) | Jovana Maksimovic | OK | OK | ![]() | ||||||||
19/29 | Laurent Gatto | ERROR | ERROR | ||||||||||
20/29 | recountWorkflow 1.20.0 (landing page) | Leonardo Collado-Torres | OK | OK | ![]() | ||||||||
21/29 | RNAseq123 1.20.0 (landing page) | Matthew Ritchie | OK | OK | ![]() | ||||||||
22/29 | rnaseqDTU 1.16.0 (landing page) | Michael Love | OK | OK | ![]() | ||||||||
23/29 | rnaseqGene 1.20.0 (landing page) | Michael Love | OK | ERROR | |||||||||
24/29 | RnaSeqGeneEdgeRQL 1.20.0 (landing page) | Yunshun Chen | OK | OK | ![]() | ||||||||
25/29 | sequencing 1.20.0 (landing page) | Bioconductor Package Maintainer | OK | OK | ![]() | ||||||||
26/29 | simpleSingleCell 1.20.0 (landing page) | Aaron Lun | OK | OK | ![]() | ||||||||
27/29 | SingscoreAMLMutations 1.12.0 (landing page) | Dharmesh D. Bhuva | OK | ERROR | |||||||||
28/29 | TCGAWorkflow 1.20.0 (landing page) | Tiago Chedraoui Silva | OK | ERROR | |||||||||
29/29 | variants 1.20.0 (landing page) | Bioconductor Package Maintainer | OK | OK | ![]() |