| Back to Workflows build report for BioC 3.15 |
This page was generated on 2022-10-18 14:00:09 -0400 (Tue, 18 Oct 2022).
| Hostname | OS | Arch (*) | R version | Installed pkgs |
|---|---|---|---|---|
| nebbiolo1 | Linux (Ubuntu 20.04.5 LTS) | x86_64 | 4.2.1 (2022-06-23) -- "Funny-Looking Kid" | 4386 |
| merida1 | macOS 10.14.6 Mojave | x86_64 | 4.2.1 (2022-06-23) -- "Funny-Looking Kid" | 4205 |
| Click on any hostname to see more info about the system (e.g. compilers) (*) as reported by 'uname -p', except on Windows and Mac OS X | ||||
|
To the developers/maintainers of the csawUsersGuide package: Make sure to use the following settings in order to reproduce any error or warning you see on this page. |
| Package 7/29 | Hostname | OS / Arch | INSTALL | BUILD | ||||||||
| csawUsersGuide 1.12.0 (landing page) Aaron Lun
| nebbiolo1 | Linux (Ubuntu 20.04.5 LTS) / x86_64 | OK | OK | ||||||||
| merida1 | macOS 10.14.6 Mojave / x86_64 | OK | OK | |||||||||
| Package: csawUsersGuide |
| Version: 1.12.0 |
| Command: /home/biocbuild/bbs-3.15-bioc/R/bin/R CMD INSTALL csawUsersGuide |
| StartedAt: 2022-10-18 08:00:07 -0400 (Tue, 18 Oct 2022) |
| EndedAt: 2022-10-18 08:00:10 -0400 (Tue, 18 Oct 2022) |
| EllapsedTime: 2.6 seconds |
| RetCode: 0 |
| Status: OK |
############################################################################## ############################################################################## ### ### Running command: ### ### /home/biocbuild/bbs-3.15-bioc/R/bin/R CMD INSTALL csawUsersGuide ### ############################################################################## ############################################################################## * installing to library ‘/home/biocbuild/bbs-3.15-bioc/R/library’ * installing *source* package ‘csawUsersGuide’ ... ** using staged installation ** inst ** help No man pages found in package ‘csawUsersGuide’ *** installing help indices ** building package indices ** installing vignettes ** testing if installed package can be loaded from temporary location ** testing if installed package can be loaded from final location ** testing if installed package keeps a record of temporary installation path * DONE (csawUsersGuide)