| Back to Workflows build report for BioC 3.15 |
This page was generated on 2022-10-18 14:00:09 -0400 (Tue, 18 Oct 2022).
| Hostname | OS | Arch (*) | R version | Installed pkgs |
|---|---|---|---|---|
| nebbiolo1 | Linux (Ubuntu 20.04.5 LTS) | x86_64 | 4.2.1 (2022-06-23) -- "Funny-Looking Kid" | 4386 |
| merida1 | macOS 10.14.6 Mojave | x86_64 | 4.2.1 (2022-06-23) -- "Funny-Looking Kid" | 4205 |
| Click on any hostname to see more info about the system (e.g. compilers) (*) as reported by 'uname -p', except on Windows and Mac OS X | ||||
|
To the developers/maintainers of the cytofWorkflow package: Make sure to use the following settings in order to reproduce any error or warning you see on this page. |
| Package 8/29 | Hostname | OS / Arch | INSTALL | BUILD | ||||||||
| cytofWorkflow 1.20.0 (landing page) Mark D. Robinson
| nebbiolo1 | Linux (Ubuntu 20.04.5 LTS) / x86_64 | OK | OK | ||||||||
| merida1 | macOS 10.14.6 Mojave / x86_64 | OK | OK | |||||||||
| Package: cytofWorkflow |
| Version: 1.20.0 |
| Command: /Library/Frameworks/R.framework/Resources/bin/R CMD build --keep-empty-dirs --no-resave-data cytofWorkflow |
| StartedAt: 2022-10-18 08:03:51 -0400 (Tue, 18 Oct 2022) |
| EndedAt: 2022-10-18 08:10:43 -0400 (Tue, 18 Oct 2022) |
| EllapsedTime: 412.1 seconds |
| RetCode: 0 |
| Status: OK |
| PackageFile: cytofWorkflow_1.20.0.tar.gz |
| PackageFileSize: 5.847 MiB |
############################################################################## ############################################################################## ### ### Running command: ### ### /Library/Frameworks/R.framework/Resources/bin/R CMD build --keep-empty-dirs --no-resave-data cytofWorkflow ### ############################################################################## ############################################################################## * checking for file ‘cytofWorkflow/DESCRIPTION’ ... OK * preparing ‘cytofWorkflow’: * checking DESCRIPTION meta-information ... OK * installing the package to build vignettes * creating vignettes ... OK * checking for LF line-endings in source and make files and shell scripts * checking for empty or unneeded directories Omitted ‘LazyData’ from DESCRIPTION * building ‘cytofWorkflow_1.20.0.tar.gz’