| Back to Workflows build report for BioC 3.15 |
This page was generated on 2022-10-18 14:00:09 -0400 (Tue, 18 Oct 2022).
| Hostname | OS | Arch (*) | R version | Installed pkgs |
|---|---|---|---|---|
| nebbiolo1 | Linux (Ubuntu 20.04.5 LTS) | x86_64 | 4.2.1 (2022-06-23) -- "Funny-Looking Kid" | 4386 |
| merida1 | macOS 10.14.6 Mojave | x86_64 | 4.2.1 (2022-06-23) -- "Funny-Looking Kid" | 4205 |
| Click on any hostname to see more info about the system (e.g. compilers) (*) as reported by 'uname -p', except on Windows and Mac OS X | ||||
|
To the developers/maintainers of the ExpressionNormalizationWorkflow package: Make sure to use the following settings in order to reproduce any error or warning you see on this page. |
| Package 11/29 | Hostname | OS / Arch | INSTALL | BUILD | ||||||||
| ExpressionNormalizationWorkflow 1.22.0 (landing page) Karthikeyan Murugesan
| nebbiolo1 | Linux (Ubuntu 20.04.5 LTS) / x86_64 | OK | OK | ||||||||
| merida1 | macOS 10.14.6 Mojave / x86_64 | OK | OK | |||||||||
| Package: ExpressionNormalizationWorkflow |
| Version: 1.22.0 |
| Command: /Library/Frameworks/R.framework/Resources/bin/R CMD INSTALL ExpressionNormalizationWorkflow |
| StartedAt: 2022-10-18 08:00:59 -0400 (Tue, 18 Oct 2022) |
| EndedAt: 2022-10-18 08:01:26 -0400 (Tue, 18 Oct 2022) |
| EllapsedTime: 26.3 seconds |
| RetCode: 0 |
| Status: OK |
############################################################################## ############################################################################## ### ### Running command: ### ### /Library/Frameworks/R.framework/Resources/bin/R CMD INSTALL ExpressionNormalizationWorkflow ### ############################################################################## ############################################################################## * installing to library ‘/Library/Frameworks/R.framework/Versions/4.2/Resources/library’ * installing *source* package ‘ExpressionNormalizationWorkflow’ ... ** using staged installation ** R ** inst ** byte-compile and prepare package for lazy loading Warning: replacing previous import ‘Biobase::anyMissing’ by ‘matrixStats::anyMissing’ when loading ‘ExpressionNormalizationWorkflow’ Warning: replacing previous import ‘Biobase::rowMedians’ by ‘matrixStats::rowMedians’ when loading ‘ExpressionNormalizationWorkflow’ ** help Warning: ExpressionNormalizationWorkflow-package.Rd:29: All text must be in a section Warning: ExpressionNormalizationWorkflow-package.Rd:30: All text must be in a section *** installing help indices ** building package indices ** installing vignettes ** testing if installed package can be loaded from temporary location Warning: replacing previous import ‘Biobase::anyMissing’ by ‘matrixStats::anyMissing’ when loading ‘ExpressionNormalizationWorkflow’ Warning: replacing previous import ‘Biobase::rowMedians’ by ‘matrixStats::rowMedians’ when loading ‘ExpressionNormalizationWorkflow’ ** testing if installed package can be loaded from final location Warning: replacing previous import ‘Biobase::anyMissing’ by ‘matrixStats::anyMissing’ when loading ‘ExpressionNormalizationWorkflow’ Warning: replacing previous import ‘Biobase::rowMedians’ by ‘matrixStats::rowMedians’ when loading ‘ExpressionNormalizationWorkflow’ ** testing if installed package keeps a record of temporary installation path * DONE (ExpressionNormalizationWorkflow)