| Back to Workflows build report for BioC 3.15 |
This page was generated on 2022-10-18 14:00:09 -0400 (Tue, 18 Oct 2022).
| Hostname | OS | Arch (*) | R version | Installed pkgs |
|---|---|---|---|---|
| nebbiolo1 | Linux (Ubuntu 20.04.5 LTS) | x86_64 | 4.2.1 (2022-06-23) -- "Funny-Looking Kid" | 4386 |
| merida1 | macOS 10.14.6 Mojave | x86_64 | 4.2.1 (2022-06-23) -- "Funny-Looking Kid" | 4205 |
| Click on any hostname to see more info about the system (e.g. compilers) (*) as reported by 'uname -p', except on Windows and Mac OS X | ||||
|
To the developers/maintainers of the CAGEWorkflow package: Make sure to use the following settings in order to reproduce any error or warning you see on this page. |
| Package 5/29 | Hostname | OS / Arch | INSTALL | BUILD | ||||||||
| CAGEWorkflow 1.12.0 (landing page) Malte Thodberg
| nebbiolo1 | Linux (Ubuntu 20.04.5 LTS) / x86_64 | OK | OK | ||||||||
| merida1 | macOS 10.14.6 Mojave / x86_64 | OK | OK | |||||||||
| Package: CAGEWorkflow |
| Version: 1.12.0 |
| Command: /Library/Frameworks/R.framework/Resources/bin/R CMD build --keep-empty-dirs --no-resave-data CAGEWorkflow |
| StartedAt: 2022-10-18 08:03:51 -0400 (Tue, 18 Oct 2022) |
| EndedAt: 2022-10-18 08:12:29 -0400 (Tue, 18 Oct 2022) |
| EllapsedTime: 517.2 seconds |
| RetCode: 0 |
| Status: OK |
| PackageFile: CAGEWorkflow_1.12.0.tar.gz |
| PackageFileSize: 728.6 KiB |
############################################################################## ############################################################################## ### ### Running command: ### ### /Library/Frameworks/R.framework/Resources/bin/R CMD build --keep-empty-dirs --no-resave-data CAGEWorkflow ### ############################################################################## ############################################################################## * checking for file ‘CAGEWorkflow/DESCRIPTION’ ... OK * preparing ‘CAGEWorkflow’: * checking DESCRIPTION meta-information ... OK * installing the package to build vignettes * creating vignettes ... OK * checking for LF line-endings in source and make files and shell scripts * checking for empty or unneeded directories Omitted ‘LazyData’ from DESCRIPTION * building ‘CAGEWorkflow_1.12.0.tar.gz’