| Back to Build/check report for BioC 3.15 experimental data |
|
This page was generated on 2022-10-18 14:50:13 -0400 (Tue, 18 Oct 2022).
| Hostname | OS | Arch (*) | R version | Installed pkgs |
|---|---|---|---|---|
| nebbiolo1 | Linux (Ubuntu 20.04.5 LTS) | x86_64 | 4.2.1 (2022-06-23) -- "Funny-Looking Kid" | 4386 |
| Click on any hostname to see more info about the system (e.g. compilers) (*) as reported by 'uname -p', except on Windows and Mac OS X | ||||
|
To the developers/maintainers of the MEDIPSData package: Make sure to use the following settings in order to reproduce any error or warning you see on this page. |
| Package 218/410 | Hostname | OS / Arch | INSTALL | BUILD | CHECK | ||||||||
| MEDIPSData 1.32.0 (landing page) Lukas Chavez
| nebbiolo1 | Linux (Ubuntu 20.04.5 LTS) / x86_64 | OK | OK | WARNINGS | ||||||||
| Package: MEDIPSData |
| Version: 1.32.0 |
| Command: /home/biocbuild/bbs-3.15-bioc/R/bin/R CMD build --keep-empty-dirs --no-resave-data MEDIPSData |
| StartedAt: 2022-10-18 10:30:45 -0400 (Tue, 18 Oct 2022) |
| EndedAt: 2022-10-18 10:30:56 -0400 (Tue, 18 Oct 2022) |
| EllapsedTime: 11.6 seconds |
| RetCode: 0 |
| Status: OK |
| PackageFile: MEDIPSData_1.32.0.tar.gz |
| PackageFileSize: 158.5 MiB |
##############################################################################
##############################################################################
###
### Running command:
###
### /home/biocbuild/bbs-3.15-bioc/R/bin/R CMD build --keep-empty-dirs --no-resave-data MEDIPSData
###
##############################################################################
##############################################################################
* checking for file ‘MEDIPSData/DESCRIPTION’ ... OK
* preparing ‘MEDIPSData’:
* checking DESCRIPTION meta-information ... OK
* checking for LF line-endings in source and make files and shell scripts
* checking for empty or unneeded directories
* looking to see if a ‘data/datalist’ file should be added
NB: this package now depends on R (>= 3.5.0)
WARNING: Added dependency on R >= 3.5.0 because serialized objects in
serialize/load version 3 cannot be read in older versions of R.
File(s) containing such objects:
‘MEDIPSData/data/NSCLC_dataset.RData’
‘MEDIPSData/data/annotation.RData’
‘MEDIPSData/data/tcga_luad_lusc_450kmeth.RData’
* building ‘MEDIPSData_1.32.0.tar.gz’