| Back to Build/check report for BioC 3.15 annotations | 
  | 
This page was generated on 2022-09-21 06:00:06 -0400 (Wed, 21 Sep 2022).
| Hostname | OS | Arch (*) | R version | Installed pkgs | 
|---|---|---|---|---|
| nebbiolo1 | Linux (Ubuntu 20.04.4 LTS) | x86_64 | 4.2.1 (2022-06-23) -- "Funny-Looking Kid" | 4375 | 
| Click on any hostname to see more info about the system (e.g. compilers) (*) as reported by 'uname -p', except on Windows and Mac OS X | ||||
| 
To the developers/maintainers of the GeneSummary package: Make sure to use the following settings in order to reproduce any error or warning you see on this page.  | 
| Package 19/35 | Hostname | OS / Arch | INSTALL | BUILD | CHECK | ||||||||
| GeneSummary 0.99.3  (landing page) Zuguang Gu 
  | nebbiolo1 | Linux (Ubuntu 20.04.4 LTS) / x86_64 | OK | OK | OK | ||||||||
| Package: GeneSummary | 
| Version: 0.99.3 | 
| Command: /home/biocbuild/bbs-3.15-bioc/R/bin/R CMD build --keep-empty-dirs --no-resave-data GeneSummary | 
| StartedAt: 2022-09-21 03:01:03 -0400 (Wed, 21 Sep 2022) | 
| EndedAt: 2022-09-21 03:01:06 -0400 (Wed, 21 Sep 2022) | 
| EllapsedTime: 3.0 seconds | 
| RetCode: 0 | 
| Status: OK | 
| PackageFile: GeneSummary_0.99.3.tar.gz | 
| PackageFileSize: 2.052 MiB | 
############################################################################## ############################################################################## ### ### Running command: ### ### /home/biocbuild/bbs-3.15-bioc/R/bin/R CMD build --keep-empty-dirs --no-resave-data GeneSummary ### ############################################################################## ############################################################################## * checking for file ‘GeneSummary/DESCRIPTION’ ... OK * preparing ‘GeneSummary’: * checking DESCRIPTION meta-information ... OK * installing the package to build vignettes * creating vignettes ... OK * checking for LF line-endings in source and make files and shell scripts * checking for empty or unneeded directories * building ‘GeneSummary_0.99.3.tar.gz’