| Back to Multiple platform build/check report for BioC 3.15 |
|
This page was generated on 2022-03-18 11:09:00 -0400 (Fri, 18 Mar 2022).
| Hostname | OS | Arch (*) | R version | Installed pkgs |
|---|---|---|---|---|
| nebbiolo1 | Linux (Ubuntu 20.04.4 LTS) | x86_64 | R Under development (unstable) (2022-02-17 r81757) -- "Unsuffered Consequences" | 4334 |
| riesling1 | Windows Server 2019 Standard | x64 | R Under development (unstable) (2021-11-21 r81221) -- "Unsuffered Consequences" | 4097 |
| palomino3 | Windows Server 2022 Datacenter | x64 | R Under development (unstable) (2022-02-17 r81757 ucrt) -- "Unsuffered Consequences" | 4083 |
| merida1 | macOS 10.14.6 Mojave | x86_64 | R Under development (unstable) (2022-03-02 r81842) -- "Unsuffered Consequences" | 4134 |
| Click on any hostname to see more info about the system (e.g. compilers) (*) as reported by 'uname -p', except on Windows and Mac OS X | ||||
|
To the developers/maintainers of the zinbwave package: - Please allow up to 24 hours (and sometimes 48 hours) for your latest push to git@git.bioconductor.org:packages/zinbwave.git to reflect on this report. See How and When does the builder pull? When will my changes propagate? here for more information. - Make sure to use the following settings in order to reproduce any error or warning you see on this page. |
| Package 2089/2090 | Hostname | OS / Arch | INSTALL | BUILD | CHECK | BUILD BIN | ||||||||
| zinbwave 1.17.0 (landing page) Davide Risso
| nebbiolo1 | Linux (Ubuntu 20.04.4 LTS) / x86_64 | OK | OK | OK | |||||||||
| riesling1 | Windows Server 2019 Standard / x64 | OK | OK | OK | OK | |||||||||
| palomino3 | Windows Server 2022 Datacenter / x64 | OK | OK | OK | OK | |||||||||
| merida1 | macOS 10.14.6 Mojave / x86_64 | OK | OK | OK | OK | |||||||||
| Package: zinbwave |
| Version: 1.17.0 |
| Command: rm -rf zinbwave.buildbin-libdir && mkdir zinbwave.buildbin-libdir && D:\biocbuild\bbs-3.15-bioc\R\bin\R.exe CMD INSTALL --build --library=zinbwave.buildbin-libdir zinbwave_1.17.0.tar.gz |
| StartedAt: 2022-03-17 21:48:04 -0400 (Thu, 17 Mar 2022) |
| EndedAt: 2022-03-17 21:49:03 -0400 (Thu, 17 Mar 2022) |
| EllapsedTime: 59.4 seconds |
| RetCode: 0 |
| Status: OK |
| PackageFile: zinbwave_1.17.0.zip |
| PackageFileSize: 936.1 KiB |
##############################################################################
##############################################################################
###
### Running command:
###
### rm -rf zinbwave.buildbin-libdir && mkdir zinbwave.buildbin-libdir && D:\biocbuild\bbs-3.15-bioc\R\bin\R.exe CMD INSTALL --build --library=zinbwave.buildbin-libdir zinbwave_1.17.0.tar.gz
###
##############################################################################
##############################################################################
* installing *source* package 'zinbwave' ...
** using staged installation
** R
** data
*** moving datasets to lazyload DB
** inst
** byte-compile and prepare package for lazy loading
** help
*** installing help indices
converting help for package 'zinbwave'
finding HTML links ... done
ZinbModel-class html
computeDevianceResiduals html
computeObservationalWeights html
getAlpha_mu html
getAlpha_pi html
getBeta_mu html
getBeta_pi html
getEpsilon_W html
getEpsilon_alpha html
getEpsilon_beta_mu html
getEpsilon_beta_pi html
getEpsilon_gamma_mu html
getEpsilon_gamma_pi html
getEpsilon_zeta html
getGamma_mu html
getGamma_pi html
getLogMu html
getLogitPi html
getMu html
getPhi html
getPi html
getTheta html
getV_mu html
getV_pi html
getW html
getX_mu html
getX_pi html
getZeta html
glmWeightedF html
imputeZeros html
independentFiltering html
loglik html
nFactors html
nFeatures html
nParams html
nSamples html
orthogonalizeTraceNorm html
penalty html
pvalueAdjustment html
solveRidgeRegression html
toydata html
zinb.loglik html
zinb.loglik.dispersion html
zinb.loglik.dispersion.gradient html
zinb.loglik.matrix html
zinb.loglik.regression html
zinb.loglik.regression.gradient html
zinb.regression.parseModel html
zinbAIC html
zinbFit html
zinbInitialize html
zinbModel html
REDIRECT:topic Previous alias or file overwritten by alias: D:/biocbuild/bbs-3.15-bioc/meat/zinbwave.buildbin-libdir/00LOCK-zinbwave/00new/zinbwave/help/zinbModel.html
zinbOptimize html
zinbOptimizeDispersion html
zinbSim html
zinbsurf html
zinbwave html
** building package indices
** installing vignettes
** testing if installed package can be loaded from temporary location
** testing if installed package can be loaded from final location
** testing if installed package keeps a record of temporary installation path
* MD5 sums
packaged installation of 'zinbwave' as zinbwave_1.17.0.zip
* DONE (zinbwave)