Back to Multiple platform build/check report for BioC 3.15 |
|
This page was generated on 2022-03-18 11:08:59 -0400 (Fri, 18 Mar 2022).
Hostname | OS | Arch (*) | R version | Installed pkgs |
---|---|---|---|---|
nebbiolo1 | Linux (Ubuntu 20.04.4 LTS) | x86_64 | R Under development (unstable) (2022-02-17 r81757) -- "Unsuffered Consequences" | 4334 |
riesling1 | Windows Server 2019 Standard | x64 | R Under development (unstable) (2021-11-21 r81221) -- "Unsuffered Consequences" | 4097 |
palomino3 | Windows Server 2022 Datacenter | x64 | R Under development (unstable) (2022-02-17 r81757 ucrt) -- "Unsuffered Consequences" | 4083 |
merida1 | macOS 10.14.6 Mojave | x86_64 | R Under development (unstable) (2022-03-02 r81842) -- "Unsuffered Consequences" | 4134 |
Click on any hostname to see more info about the system (e.g. compilers) (*) as reported by 'uname -p', except on Windows and Mac OS X |
To the developers/maintainers of the wppi package: - Please allow up to 24 hours (and sometimes 48 hours) for your latest push to git@git.bioconductor.org:packages/wppi.git to reflect on this report. See How and When does the builder pull? When will my changes propagate? here for more information. - Make sure to use the following settings in order to reproduce any error or warning you see on this page. |
Package 2074/2090 | Hostname | OS / Arch | INSTALL | BUILD | CHECK | BUILD BIN | ||||||||
wppi 1.3.0 (landing page) Ana Galhoz
| nebbiolo1 | Linux (Ubuntu 20.04.4 LTS) / x86_64 | OK | OK | OK | |||||||||
riesling1 | Windows Server 2019 Standard / x64 | OK | OK | OK | OK | |||||||||
palomino3 | Windows Server 2022 Datacenter / x64 | OK | OK | OK | OK | |||||||||
merida1 | macOS 10.14.6 Mojave / x86_64 | OK | OK | OK | OK | |||||||||
Package: wppi |
Version: 1.3.0 |
Command: D:\biocbuild\bbs-3.15-bioc\R\bin\R.exe CMD INSTALL wppi |
StartedAt: 2022-03-17 15:56:54 -0400 (Thu, 17 Mar 2022) |
EndedAt: 2022-03-17 15:58:19 -0400 (Thu, 17 Mar 2022) |
EllapsedTime: 85.9 seconds |
RetCode: 0 |
Status: OK |
############################################################################## ############################################################################## ### ### Running command: ### ### D:\biocbuild\bbs-3.15-bioc\R\bin\R.exe CMD INSTALL wppi ### ############################################################################## ############################################################################## * installing to library 'D:/biocbuild/bbs-3.15-bioc/R/library' * installing *source* package 'wppi' ... ** using staged installation ** R ** byte-compile and prepare package for lazy loading [2022-03-17 15:56:56] [INFO] [OmnipathR] Initialized cache: `C:\Users\biocbuild\AppData\Local\Cache\OmnipathR`. [2022-03-17 15:56:56] [INFO] [OmnipathR] Welcome to OmnipathR! [2022-03-17 15:56:56] [TRACE] [OmnipathR] Cache locked: FALSE Note: wrong number of arguments to '/' ** help *** installing help indices converting help for package 'wppi' finding HTML links ... done common_neighbors html count_genes html filter_annot_with_network html functional_annot html graph_from_op html in_omnipath html prioritization_genes html process_annot html random_walk html score_candidate_genes_from_PPI html subgraph_op html weighted_adj html wppi html wppi_data html wppi_go_data html wppi_hpo_data html wppi_omnipath_data html ** building package indices ** installing vignettes ** testing if installed package can be loaded from temporary location [2022-03-17 15:56:59] [INFO] [OmnipathR] Initialized cache: `C:\Users\biocbuild\AppData\Local\Cache\OmnipathR`. [2022-03-17 15:57:00] [INFO] [OmnipathR] Welcome to OmnipathR! [2022-03-17 15:57:00] [TRACE] [OmnipathR] Cache locked: FALSE ** testing if installed package can be loaded from final location [2022-03-17 15:57:01] [INFO] [OmnipathR] Initialized cache: `C:\Users\biocbuild\AppData\Local\Cache\OmnipathR`. [2022-03-17 15:57:02] [INFO] [OmnipathR] Welcome to OmnipathR! [2022-03-17 15:57:02] [TRACE] [OmnipathR] Cache locked: FALSE ** testing if installed package keeps a record of temporary installation path * DONE (wppi) Making 'packages.html' ... done