| Back to Multiple platform build/check report for BioC 3.15 |
|
This page was generated on 2022-03-18 11:08:59 -0400 (Fri, 18 Mar 2022).
| Hostname | OS | Arch (*) | R version | Installed pkgs |
|---|---|---|---|---|
| nebbiolo1 | Linux (Ubuntu 20.04.4 LTS) | x86_64 | R Under development (unstable) (2022-02-17 r81757) -- "Unsuffered Consequences" | 4334 |
| riesling1 | Windows Server 2019 Standard | x64 | R Under development (unstable) (2021-11-21 r81221) -- "Unsuffered Consequences" | 4097 |
| palomino3 | Windows Server 2022 Datacenter | x64 | R Under development (unstable) (2022-02-17 r81757 ucrt) -- "Unsuffered Consequences" | 4083 |
| merida1 | macOS 10.14.6 Mojave | x86_64 | R Under development (unstable) (2022-03-02 r81842) -- "Unsuffered Consequences" | 4134 |
| Click on any hostname to see more info about the system (e.g. compilers) (*) as reported by 'uname -p', except on Windows and Mac OS X | ||||
|
To the developers/maintainers of the wpm package: - Please allow up to 24 hours (and sometimes 48 hours) for your latest push to git@git.bioconductor.org:packages/wpm.git to reflect on this report. See How and When does the builder pull? When will my changes propagate? here for more information. - Make sure to use the following settings in order to reproduce any error or warning you see on this page. |
| Package 2073/2090 | Hostname | OS / Arch | INSTALL | BUILD | CHECK | BUILD BIN | ||||||||
| wpm 1.5.0 (landing page) Helene Borges
| nebbiolo1 | Linux (Ubuntu 20.04.4 LTS) / x86_64 | OK | OK | OK | |||||||||
| riesling1 | Windows Server 2019 Standard / x64 | OK | OK | OK | OK | |||||||||
| palomino3 | Windows Server 2022 Datacenter / x64 | OK | OK | OK | OK | |||||||||
| merida1 | macOS 10.14.6 Mojave / x86_64 | OK | OK | OK | OK | |||||||||
| Package: wpm |
| Version: 1.5.0 |
| Command: rm -rf wpm.buildbin-libdir && mkdir wpm.buildbin-libdir && D:\biocbuild\bbs-3.15-bioc\R\bin\R.exe CMD INSTALL --build --library=wpm.buildbin-libdir wpm_1.5.0.tar.gz |
| StartedAt: 2022-03-17 21:47:31 -0400 (Thu, 17 Mar 2022) |
| EndedAt: 2022-03-17 21:48:51 -0400 (Thu, 17 Mar 2022) |
| EllapsedTime: 79.4 seconds |
| RetCode: 0 |
| Status: OK |
| PackageFile: wpm_1.5.0.zip |
| PackageFileSize: 1.819 MiB |
##############################################################################
##############################################################################
###
### Running command:
###
### rm -rf wpm.buildbin-libdir && mkdir wpm.buildbin-libdir && D:\biocbuild\bbs-3.15-bioc\R\bin\R.exe CMD INSTALL --build --library=wpm.buildbin-libdir wpm_1.5.0.tar.gz
###
##############################################################################
##############################################################################
* installing *source* package 'wpm' ...
** using staged installation
** R
** data
** inst
** byte-compile and prepare package for lazy loading
** help
*** installing help indices
converting help for package 'wpm'
finding HTML links ... done
backtracking html
balancedGrpDistrib html
checkConstraints html
checkWpmInputs html
convertCSV html
convertESet html
convertSE html
convertVector2Df html
data_test html
defineBufferCoords html
drawMap html
findNEWSneighbors html
findNSneighbors html
findWEneighbors html
generateMap html
joinDataframes html
randomWalk html
resample html
solveCell html
wpm html
wrapperWPM html
** building package indices
** installing vignettes
** testing if installed package can be loaded from temporary location
-- This is the Well-Plate Maker package. ---------------------------------------
If you want to use the shiny application, then simply run: `wpm()`.If you want
to see the Tutorial vignette and use WPM in command line, run:
`browseVignettes('wpm')`.
** testing if installed package can be loaded from final location
-- This is the Well-Plate Maker package. ---------------------------------------
If you want to use the shiny application, then simply run: `wpm()`.If you want
to see the Tutorial vignette and use WPM in command line, run:
`browseVignettes('wpm')`.
** testing if installed package keeps a record of temporary installation path
* MD5 sums
packaged installation of 'wpm' as wpm_1.5.0.zip
* DONE (wpm)