Back to Multiple platform build/check report for BioC 3.15 |
|
This page was generated on 2022-03-18 11:08:58 -0400 (Fri, 18 Mar 2022).
Hostname | OS | Arch (*) | R version | Installed pkgs |
---|---|---|---|---|
nebbiolo1 | Linux (Ubuntu 20.04.4 LTS) | x86_64 | R Under development (unstable) (2022-02-17 r81757) -- "Unsuffered Consequences" | 4334 |
riesling1 | Windows Server 2019 Standard | x64 | R Under development (unstable) (2021-11-21 r81221) -- "Unsuffered Consequences" | 4097 |
palomino3 | Windows Server 2022 Datacenter | x64 | R Under development (unstable) (2022-02-17 r81757 ucrt) -- "Unsuffered Consequences" | 4083 |
merida1 | macOS 10.14.6 Mojave | x86_64 | R Under development (unstable) (2022-03-02 r81842) -- "Unsuffered Consequences" | 4134 |
Click on any hostname to see more info about the system (e.g. compilers) (*) as reported by 'uname -p', except on Windows and Mac OS X |
To the developers/maintainers of the wavClusteR package: - Please allow up to 24 hours (and sometimes 48 hours) for your latest push to git@git.bioconductor.org:packages/wavClusteR.git to reflect on this report. See How and When does the builder pull? When will my changes propagate? here for more information. - Make sure to use the following settings in order to reproduce any error or warning you see on this page. |
Package 2067/2090 | Hostname | OS / Arch | INSTALL | BUILD | CHECK | BUILD BIN | ||||||||
wavClusteR 2.29.0 (landing page) Federico Comoglio
| nebbiolo1 | Linux (Ubuntu 20.04.4 LTS) / x86_64 | OK | OK | OK | |||||||||
riesling1 | Windows Server 2019 Standard / x64 | OK | OK | OK | OK | |||||||||
palomino3 | Windows Server 2022 Datacenter / x64 | OK | OK | OK | OK | |||||||||
merida1 | macOS 10.14.6 Mojave / x86_64 | OK | OK | OK | OK | |||||||||
Package: wavClusteR |
Version: 2.29.0 |
Command: rm -rf wavClusteR.buildbin-libdir && mkdir wavClusteR.buildbin-libdir && D:\biocbuild\bbs-3.15-bioc\R\bin\R.exe CMD INSTALL --build --library=wavClusteR.buildbin-libdir wavClusteR_2.29.0.tar.gz |
StartedAt: 2022-03-17 21:47:23 -0400 (Thu, 17 Mar 2022) |
EndedAt: 2022-03-17 21:48:45 -0400 (Thu, 17 Mar 2022) |
EllapsedTime: 81.7 seconds |
RetCode: 0 |
Status: OK |
PackageFile: wavClusteR_2.29.0.zip |
PackageFileSize: 619.8 KiB |
############################################################################## ############################################################################## ### ### Running command: ### ### rm -rf wavClusteR.buildbin-libdir && mkdir wavClusteR.buildbin-libdir && D:\biocbuild\bbs-3.15-bioc\R\bin\R.exe CMD INSTALL --build --library=wavClusteR.buildbin-libdir wavClusteR_2.29.0.tar.gz ### ############################################################################## ############################################################################## * installing *source* package 'wavClusteR' ... ** using staged installation ** R ** data ** inst ** byte-compile and prepare package for lazy loading ** help *** installing help indices converting help for package 'wavClusteR' finding HTML links ... done FitMixtureModel html annotateClusters html estimateFDR html exportClusters html exportCoverage html exportHighConfSub html exportSequences html filterClusters html finding level-2 HTML links ... done getAllSub html getClusters html getExpInterval html getHighConfSub html getMetaCoverage html getMetaGene html getMetaTSS html model html plotSizeDistribution html plotStatistics html plotSubstitutions html readSortedBam html wavClusteR-package html ** building package indices ** installing vignettes ** testing if installed package can be loaded from temporary location ** testing if installed package can be loaded from final location ** testing if installed package keeps a record of temporary installation path * MD5 sums packaged installation of 'wavClusteR' as wavClusteR_2.29.0.zip * DONE (wavClusteR)