| Back to Multiple platform build/check report for BioC 3.15 |
|
This page was generated on 2022-03-18 11:08:58 -0400 (Fri, 18 Mar 2022).
| Hostname | OS | Arch (*) | R version | Installed pkgs |
|---|---|---|---|---|
| nebbiolo1 | Linux (Ubuntu 20.04.4 LTS) | x86_64 | R Under development (unstable) (2022-02-17 r81757) -- "Unsuffered Consequences" | 4334 |
| riesling1 | Windows Server 2019 Standard | x64 | R Under development (unstable) (2021-11-21 r81221) -- "Unsuffered Consequences" | 4097 |
| palomino3 | Windows Server 2022 Datacenter | x64 | R Under development (unstable) (2022-02-17 r81757 ucrt) -- "Unsuffered Consequences" | 4083 |
| merida1 | macOS 10.14.6 Mojave | x86_64 | R Under development (unstable) (2022-03-02 r81842) -- "Unsuffered Consequences" | 4134 |
| Click on any hostname to see more info about the system (e.g. compilers) (*) as reported by 'uname -p', except on Windows and Mac OS X | ||||
|
To the developers/maintainers of the wateRmelon package: - Please allow up to 24 hours (and sometimes 48 hours) for your latest push to git@git.bioconductor.org:packages/wateRmelon.git to reflect on this report. See How and When does the builder pull? When will my changes propagate? here for more information. - Make sure to use the following settings in order to reproduce any error or warning you see on this page. |
| Package 2066/2090 | Hostname | OS / Arch | INSTALL | BUILD | CHECK | BUILD BIN | ||||||||
| wateRmelon 2.1.0 (landing page) Leo C Schalkwyk
| nebbiolo1 | Linux (Ubuntu 20.04.4 LTS) / x86_64 | OK | OK | OK | |||||||||
| riesling1 | Windows Server 2019 Standard / x64 | OK | OK | OK | OK | |||||||||
| palomino3 | Windows Server 2022 Datacenter / x64 | OK | OK | OK | OK | |||||||||
| merida1 | macOS 10.14.6 Mojave / x86_64 | OK | OK | OK | OK | |||||||||
| Package: wateRmelon |
| Version: 2.1.0 |
| Command: rm -rf wateRmelon.buildbin-libdir && mkdir wateRmelon.buildbin-libdir && D:\biocbuild\bbs-3.15-bioc\R\bin\R.exe CMD INSTALL --build --library=wateRmelon.buildbin-libdir wateRmelon_2.1.0.tar.gz |
| StartedAt: 2022-03-17 21:47:22 -0400 (Thu, 17 Mar 2022) |
| EndedAt: 2022-03-17 21:48:44 -0400 (Thu, 17 Mar 2022) |
| EllapsedTime: 82.1 seconds |
| RetCode: 0 |
| Status: OK |
| PackageFile: wateRmelon_2.1.0.zip |
| PackageFileSize: 3.705 MiB |
##############################################################################
##############################################################################
###
### Running command:
###
### rm -rf wateRmelon.buildbin-libdir && mkdir wateRmelon.buildbin-libdir && D:\biocbuild\bbs-3.15-bioc\R\bin\R.exe CMD INSTALL --build --library=wateRmelon.buildbin-libdir wateRmelon_2.1.0.tar.gz
###
##############################################################################
##############################################################################
* installing *source* package 'wateRmelon' ...
** using staged installation
** R
** data
** inst
** byte-compile and prepare package for lazy loading
No methods found in package 'RSQLite' for request: 'dbListFields' when loading 'lumi'
Creating a generic function from function 'as.methylumi' in package 'wateRmelon'
Creating a generic function from function 'adjustedDasen' in package 'wateRmelon'
** help
*** installing help indices
converting help for package 'wateRmelon'
finding HTML links ... done
BMIQ html
Beta2M html
adaptRefQuantiles html
adjustedDasen html
adjustedFunnorm html
agep html
as.methylumi-methods html
beadc html
beadcount html
bscon html
colnames-methods html
combo html
dasen-MethyLumiSet html
dasen-MethySet html
dasen-exprmethy450 html
dasen html
db1 html
dmrse-methods html
dmrse html
dot-getManifestString html
estimateCellCounts.wmln html
estimateSex html
genki-methods html
genki html
genkme html
got html
iDMR html
melon html
metrics html
outlyx-methods html
outlyx html
pfilter html
pwod-methods html
pwod html
qual html
readEPIC html
seabi-methods html
seabi html
seabird html
sextest html
wateRmelon-package html
wm_internal html
** building package indices
** installing vignettes
** testing if installed package can be loaded from temporary location
No methods found in package 'RSQLite' for request: 'dbListFields' when loading 'lumi'
** testing if installed package can be loaded from final location
No methods found in package 'RSQLite' for request: 'dbListFields' when loading 'lumi'
** testing if installed package keeps a record of temporary installation path
* MD5 sums
packaged installation of 'wateRmelon' as wateRmelon_2.1.0.zip
* DONE (wateRmelon)