| Back to Multiple platform build/check report for BioC 3.15 |
|
This page was generated on 2022-03-18 11:08:58 -0400 (Fri, 18 Mar 2022).
| Hostname | OS | Arch (*) | R version | Installed pkgs |
|---|---|---|---|---|
| nebbiolo1 | Linux (Ubuntu 20.04.4 LTS) | x86_64 | R Under development (unstable) (2022-02-17 r81757) -- "Unsuffered Consequences" | 4334 |
| riesling1 | Windows Server 2019 Standard | x64 | R Under development (unstable) (2021-11-21 r81221) -- "Unsuffered Consequences" | 4097 |
| palomino3 | Windows Server 2022 Datacenter | x64 | R Under development (unstable) (2022-02-17 r81757 ucrt) -- "Unsuffered Consequences" | 4083 |
| merida1 | macOS 10.14.6 Mojave | x86_64 | R Under development (unstable) (2022-03-02 r81842) -- "Unsuffered Consequences" | 4134 |
| Click on any hostname to see more info about the system (e.g. compilers) (*) as reported by 'uname -p', except on Windows and Mac OS X | ||||
|
To the developers/maintainers of the waddR package: - Please allow up to 24 hours (and sometimes 48 hours) for your latest push to git@git.bioconductor.org:packages/waddR.git to reflect on this report. See How and When does the builder pull? When will my changes propagate? here for more information. - Make sure to use the following settings in order to reproduce any error or warning you see on this page. |
| Package 2065/2090 | Hostname | OS / Arch | INSTALL | BUILD | CHECK | BUILD BIN | ||||||||
| waddR 1.9.0 (landing page) Julian Flesch
| nebbiolo1 | Linux (Ubuntu 20.04.4 LTS) / x86_64 | OK | OK | OK | |||||||||
| riesling1 | Windows Server 2019 Standard / x64 | OK | OK | ERROR | OK | |||||||||
| palomino3 | Windows Server 2022 Datacenter / x64 | OK | OK | ERROR | OK | |||||||||
| merida1 | macOS 10.14.6 Mojave / x86_64 | OK | OK | OK | OK | |||||||||
| Package: waddR |
| Version: 1.9.0 |
| Command: rm -rf waddR.buildbin-libdir && mkdir waddR.buildbin-libdir && D:\biocbuild\bbs-3.15-bioc\R\bin\R.exe CMD INSTALL --build --library=waddR.buildbin-libdir waddR_1.9.0.tar.gz |
| StartedAt: 2022-03-17 21:47:20 -0400 (Thu, 17 Mar 2022) |
| EndedAt: 2022-03-17 21:48:43 -0400 (Thu, 17 Mar 2022) |
| EllapsedTime: 82.5 seconds |
| RetCode: 0 |
| Status: OK |
| PackageFile: waddR_1.9.0.zip |
| PackageFileSize: 532.2 KiB |
##############################################################################
##############################################################################
###
### Running command:
###
### rm -rf waddR.buildbin-libdir && mkdir waddR.buildbin-libdir && D:\biocbuild\bbs-3.15-bioc\R\bin\R.exe CMD INSTALL --build --library=waddR.buildbin-libdir waddR_1.9.0.tar.gz
###
##############################################################################
##############################################################################
* installing *source* package 'waddR' ...
** using staged installation
** libs
"C:/rtools40/mingw64/bin/"g++ -std=gnu++11 -I"D:/biocbuild/bbs-3.15-bioc/R/include" -DNDEBUG -I'D:/biocbuild/bbs-3.15-bioc/R/library/Rcpp/include' -I'D:/biocbuild/bbs-3.15-bioc/R/library/RcppArmadillo/include' -I"C:/extsoft/include" -O2 -Wall -mfpmath=sse -msse2 -mstackrealign -fno-reorder-blocks-and-partition -c RcppExports.cpp -o RcppExports.o
"C:/rtools40/mingw64/bin/"g++ -std=gnu++11 -I"D:/biocbuild/bbs-3.15-bioc/R/include" -DNDEBUG -I'D:/biocbuild/bbs-3.15-bioc/R/library/Rcpp/include' -I'D:/biocbuild/bbs-3.15-bioc/R/library/RcppArmadillo/include' -I"C:/extsoft/include" -O2 -Wall -mfpmath=sse -msse2 -mstackrealign -fno-reorder-blocks-and-partition -c wasserstein.cpp -o wasserstein.o
wasserstein.cpp: In function 'std::vector<double> rep_weighted(std::vector<double>, std::vector<int, std::allocator<int> >)':
wasserstein.cpp:348:20: warning: comparison of integer expressions of different signedness: 'int' and 'std::vector<double>::size_type' {aka 'long long unsigned int'} [-Wsign-compare]
for(int i=0; i<x.size(); i++) {
~^~~~~~~~~
wasserstein.cpp: In function 'std::vector<double> concat(std::vector<double>&, std::vector<double>&)':
wasserstein.cpp:386:27: warning: variable 'out_it_end' set but not used [-Wunused-but-set-variable]
vector<double>::iterator out_it_end = out.end();
^~~~~~~~~~
wasserstein.cpp: In function 'std::vector<int, std::allocator<int> > interval_table(const std::vector<double>&, const std::vector<double>&, int)':
wasserstein.cpp:584:18: warning: comparison of integer expressions of different signedness: 'int' and 'std::vector<double>::size_type' {aka 'long long unsigned int'} [-Wsign-compare]
while (data_i < datavec.size()) {
~~~~~~~^~~~~~~~~~~~~~~~
wasserstein.cpp: In function 'double cor_test_export(Rcpp::NumericVector, Rcpp::NumericVector)':
wasserstein.cpp:1088:17: warning: comparison of integer expressions of different signedness: 'int' and 'std::vector<double>::size_type' {aka 'long long unsigned int'} [-Wsign-compare]
for (int i=0; i<x.size(); i++) { x[i] = x_[i];}
~^~~~~~~~~
wasserstein.cpp:1089:17: warning: comparison of integer expressions of different signedness: 'int' and 'std::vector<double>::size_type' {aka 'long long unsigned int'} [-Wsign-compare]
for (int j=0; j<y.size(); j++) { y[j] = y_[j];}
~^~~~~~~~~
wasserstein.cpp: In instantiation of 'double cor(const std::vector<T>&, const std::vector<T>&, double, double) [with T = double]':
wasserstein.cpp:716:49: required from here
wasserstein.cpp:439:17: warning: comparison of integer expressions of different signedness: 'int' and 'std::vector<double>::size_type' {aka 'long long unsigned int'} [-Wsign-compare]
for (int i=0; i<x.size(); i++){
wasserstein.cpp: In instantiation of 'std::vector<T> operator-(const std::vector<T>&, const std::vector<T>&) [with T = double]':
wasserstein.cpp:778:44: required from here
wasserstein.cpp:121:20: warning: comparison of integer expressions of different signedness: 'int' and 'std::vector<double>::size_type' {aka 'long long unsigned int'} [-Wsign-compare]
for (int i=0; i<x.size(); i++) {
wasserstein.cpp: In instantiation of 'std::vector<T> cumSum(const std::vector<T>&, int) [with T = double]':
wasserstein.cpp:884:17: required from here
wasserstein.cpp:472:47: warning: comparison of integer expressions of different signedness: 'const int' and 'std::vector<double>::size_type' {aka 'long long unsigned int'} [-Wsign-compare]
int upper = ((last_index > 0) && (last_index <= x.size())
~~~~~~~~~~~~^~~~~~~~~~~~
wasserstein.cpp: In instantiation of 'std::vector<T> operator*(const std::vector<T>&, const std::vector<T>&) [with T = double]':
wasserstein.cpp:912:62: required from here
wasserstein.cpp:101:20: warning: comparison of integer expressions of different signedness: 'int' and 'std::vector<double>::size_type' {aka 'long long unsigned int'} [-Wsign-compare]
for (int i=0; i<x.size(); i++) {
wasserstein.cpp: In instantiation of 'std::vector<T> operator+(std::vector<T>, std::vector<T>) [with T = double]':
wasserstein.cpp:933:15: required from here
wasserstein.cpp:53:18: warning: comparison of integer expressions of different signedness: 'int' and 'std::vector<double>::size_type' {aka 'long long unsigned int'} [-Wsign-compare]
for (int i=0; i<x.size(); i++) {
wasserstein.cpp: In instantiation of 'std::vector<T> operator/(const std::vector<T>&, const std::vector<T>&) [with T = double]':
wasserstein.cpp:1046:15: required from here
wasserstein.cpp:169:20: warning: comparison of integer expressions of different signedness: 'int' and 'std::vector<double>::size_type' {aka 'long long unsigned int'} [-Wsign-compare]
for (int i=0; i<x.size(); i++) {
wasserstein.cpp: In instantiation of 'std::vector<T> quantile(const std::vector<T>&, std::vector<double>, int) [with T = double]':
wasserstein.cpp:1162:27: required from here
wasserstein.cpp:501:4: warning: unused variable 'max_x' [-Wunused-variable]
T max_x = x_sorted[n-1];
^~~~~
C:/rtools40/mingw64/bin/g++ -shared -s -static-libgcc -o waddR.dll tmp.def RcppExports.o wasserstein.o -LC:/extsoft/lib/x64 -LC:/extsoft/lib -LD:/biocbuild/bbs-3.15-bioc/R/bin/x64 -lR
installing to D:/biocbuild/bbs-3.15-bioc/meat/waddR.buildbin-libdir/00LOCK-waddR/00new/waddR/libs/x64
** R
** inst
** byte-compile and prepare package for lazy loading
** help
*** installing help indices
converting help for package 'waddR'
finding HTML links ... done
brownianBridgeEmpcdf.url html
dot-brownianBridgeEmpcdf html
dot-combinePVal html
dot-fishersCombinedPval html
dot-gpdFittedPValue html
dot-quantileCorrelation html
dot-relativeError html
dot-testWass html
dot-wassPermProcedure html
dot-wassersteinTestAsy html
dot-wassersteinTestSp html
permutations html
squared_wass_approx html
squared_wass_decomp html
testZeroes-method html
waddR-package html
wasserstein.sc-method html
wasserstein.test html
wasserstein_metric html
** building package indices
** installing vignettes
** testing if installed package can be loaded from temporary location
** testing if installed package can be loaded from final location
** testing if installed package keeps a record of temporary installation path
* MD5 sums
packaged installation of 'waddR' as waddR_1.9.0.zip
* DONE (waddR)