| Back to Multiple platform build/check report for BioC 3.15 | 
 | 
This page was generated on 2022-03-18 11:08:55 -0400 (Fri, 18 Mar 2022).
| Hostname | OS | Arch (*) | R version | Installed pkgs | 
|---|---|---|---|---|
| nebbiolo1 | Linux (Ubuntu 20.04.4 LTS) | x86_64 | R Under development (unstable) (2022-02-17 r81757) -- "Unsuffered Consequences" | 4334 | 
| riesling1 | Windows Server 2019 Standard | x64 | R Under development (unstable) (2021-11-21 r81221) -- "Unsuffered Consequences" | 4097 | 
| palomino3 | Windows Server 2022 Datacenter | x64 | R Under development (unstable) (2022-02-17 r81757 ucrt) -- "Unsuffered Consequences" | 4083 | 
| merida1 | macOS 10.14.6 Mojave | x86_64 | R Under development (unstable) (2022-03-02 r81842) -- "Unsuffered Consequences" | 4134 | 
| Click on any hostname to see more info about the system (e.g. compilers) (*) as reported by 'uname -p', except on Windows and Mac OS X | ||||
| To the developers/maintainers of the trigger package: - Please allow up to 24 hours (and sometimes 48 hours) for your latest push to git@git.bioconductor.org:packages/trigger.git to reflect on this report. See How and When does the builder pull? When will my changes propagate? here for more information. - Make sure to use the following settings in order to reproduce any error or warning you see on this page. | 
| Package 2008/2090 | Hostname | OS / Arch | INSTALL | BUILD | CHECK | BUILD BIN | ||||||||
| trigger 1.41.0  (landing page) John D. Storey 
 | nebbiolo1 | Linux (Ubuntu 20.04.4 LTS) / x86_64 | OK | OK | OK |  | ||||||||
| riesling1 | Windows Server 2019 Standard / x64 | OK | OK | OK | OK | |||||||||
| palomino3 | Windows Server 2022 Datacenter / x64 | OK | OK | OK | OK |  | ||||||||
| merida1 | macOS 10.14.6 Mojave / x86_64 | OK | OK | OK | OK |  | ||||||||
| Package: trigger | 
| Version: 1.41.0 | 
| Command: D:\biocbuild\bbs-3.15-bioc\R\bin\R.exe CMD INSTALL trigger | 
| StartedAt: 2022-03-17 15:57:21 -0400 (Thu, 17 Mar 2022) | 
| EndedAt: 2022-03-17 15:58:58 -0400 (Thu, 17 Mar 2022) | 
| EllapsedTime: 97.6 seconds | 
| RetCode: 0 | 
| Status: OK | 
##############################################################################
##############################################################################
###
### Running command:
###
###   D:\biocbuild\bbs-3.15-bioc\R\bin\R.exe CMD INSTALL trigger
###
##############################################################################
##############################################################################
* installing to library 'D:/biocbuild/bbs-3.15-bioc/R/library'
* installing *source* package 'trigger' ...
** using staged installation
** libs
"C:/rtools40/mingw64/bin/"gcc  -I"D:/biocbuild/bbs-3.15-bioc/R/include" -DNDEBUG     -I"C:/extsoft/include"     -O2 -Wall  -std=gnu99 -mfpmath=sse -msse2 -mstackrealign -fno-reorder-blocks-and-partition  -c trigger.c -o trigger.o
trigger.c: In function 'mergeorder':
trigger.c:25:20: warning: variable 'n3' set but not used [-Wunused-but-set-variable]
 int i1,i2,i3,n1,n2,n3;
                    ^~
trigger.c: In function 'sec_link_stat':
trigger.c:81:10: warning: variable 'nct' set but not used [-Wunused-but-set-variable]
 int ntr, nct, i, j;
          ^~~
trigger.c: In function 'sec_link_stat_x':
trigger.c:153:10: warning: variable 'nct' set but not used [-Wunused-but-set-variable]
 int ntr, nct, i, j, k, nk;
          ^~~
trigger.c: In function 'condi_indep_stat':
trigger.c:233:10: warning: variable 'nct' set but not used [-Wunused-but-set-variable]
 int ntr, nct, i, j;
          ^~~
trigger.c: In function 'condi_indep_stat_x':
trigger.c:310:10: warning: variable 'nct' set but not used [-Wunused-but-set-variable]
 int ntr, nct, i, j, k, nk;
          ^~~
trigger.c: In function 'condi_indep_stat_rx':
trigger.c:393:10: warning: variable 'nct' set but not used [-Wunused-but-set-variable]
 int ntr, nct, i, j, k, nk;
          ^~~
C:/rtools40/mingw64/bin/gcc -shared -s -static-libgcc -o trigger.dll tmp.def trigger.o -LC:/extsoft/lib/x64 -LC:/extsoft/lib -LD:/biocbuild/bbs-3.15-bioc/R/bin/x64 -lR
installing to D:/biocbuild/bbs-3.15-bioc/R/library/00LOCK-trigger/00new/trigger/libs/x64
** R
** data
** inst
** byte-compile and prepare package for lazy loading
** help
*** installing help indices
  converting help for package 'trigger'
    finding HTML links ... done
    plot                                    html  
    trigger-build                           html  
    trigger-class                           html  
    trigger-eigenR2                         html  
    trigger-export2cross                    html  
    trigger-link                            html  
    trigger-loclink                         html  
    trigger-mlink                           html  
    trigger-net                             html  
    trigger-netPlot2ps                      html  
    trigger-trait                           html  
    yeast                                   html  
** building package indices
** installing vignettes
** testing if installed package can be loaded from temporary location
** testing if installed package can be loaded from final location
** testing if installed package keeps a record of temporary installation path
* DONE (trigger)
Making 'packages.html' ...Warning in packageDescription(i, lib.loc = lib, fields = "Title", encoding = "UTF-8") :
  DESCRIPTION file of package 'mitch' is missing or broken
 done