| Back to Multiple platform build/check report for BioC 3.15 |
|
This page was generated on 2022-03-18 11:08:54 -0400 (Fri, 18 Mar 2022).
| Hostname | OS | Arch (*) | R version | Installed pkgs |
|---|---|---|---|---|
| nebbiolo1 | Linux (Ubuntu 20.04.4 LTS) | x86_64 | R Under development (unstable) (2022-02-17 r81757) -- "Unsuffered Consequences" | 4334 |
| riesling1 | Windows Server 2019 Standard | x64 | R Under development (unstable) (2021-11-21 r81221) -- "Unsuffered Consequences" | 4097 |
| palomino3 | Windows Server 2022 Datacenter | x64 | R Under development (unstable) (2022-02-17 r81757 ucrt) -- "Unsuffered Consequences" | 4083 |
| merida1 | macOS 10.14.6 Mojave | x86_64 | R Under development (unstable) (2022-03-02 r81842) -- "Unsuffered Consequences" | 4134 |
| Click on any hostname to see more info about the system (e.g. compilers) (*) as reported by 'uname -p', except on Windows and Mac OS X | ||||
|
To the developers/maintainers of the treeio package: - Please allow up to 24 hours (and sometimes 48 hours) for your latest push to git@git.bioconductor.org:packages/treeio.git to reflect on this report. See How and When does the builder pull? When will my changes propagate? here for more information. - Make sure to use the following settings in order to reproduce any error or warning you see on this page. |
| Package 2001/2090 | Hostname | OS / Arch | INSTALL | BUILD | CHECK | BUILD BIN | ||||||||
| treeio 1.19.2 (landing page) Guangchuang Yu
| nebbiolo1 | Linux (Ubuntu 20.04.4 LTS) / x86_64 | OK | OK | OK | |||||||||
| riesling1 | Windows Server 2019 Standard / x64 | OK | OK | OK | OK | |||||||||
| palomino3 | Windows Server 2022 Datacenter / x64 | OK | OK | OK | OK | |||||||||
| merida1 | macOS 10.14.6 Mojave / x86_64 | OK | OK | OK | OK | |||||||||
| Package: treeio |
| Version: 1.19.2 |
| Command: rm -rf treeio.buildbin-libdir && mkdir treeio.buildbin-libdir && D:\biocbuild\bbs-3.15-bioc\R\bin\R.exe CMD INSTALL --build --library=treeio.buildbin-libdir treeio_1.19.2.tar.gz |
| StartedAt: 2022-03-17 21:45:49 -0400 (Thu, 17 Mar 2022) |
| EndedAt: 2022-03-17 21:47:03 -0400 (Thu, 17 Mar 2022) |
| EllapsedTime: 73.9 seconds |
| RetCode: 0 |
| Status: OK |
| PackageFile: treeio_1.19.2.zip |
| PackageFileSize: 959.5 KiB |
##############################################################################
##############################################################################
###
### Running command:
###
### rm -rf treeio.buildbin-libdir && mkdir treeio.buildbin-libdir && D:\biocbuild\bbs-3.15-bioc\R\bin\R.exe CMD INSTALL --build --library=treeio.buildbin-libdir treeio_1.19.2.tar.gz
###
##############################################################################
##############################################################################
* installing *source* package 'treeio' ...
** using staged installation
** R
** inst
** byte-compile and prepare package for lazy loading
** help
*** installing help indices
converting help for package 'treeio'
finding HTML links ... done
Nnode.treedata html
as.treedata html
as.ultrametric html
beast-parser html
drop.tip-methods html
get-placements html
get.tree html
get.treetext-methods html
getNodeNum html
is.ggtree html
isTip html
jplace-class html
label_branch_paml html
mask html
merge_tree html
print.treedataList html
raxml2nwk html
read-jtree html
read.astral html
read.codeml html
read.codeml_mlc html
read.fasta html
read.hyphy html
read.hyphy.seq html
read.iqtree html
read.jplace html
read.mcmctree html
read.mega_tabular html
read.newick html
read.nhx html
read.paml_rst html
read.phylip html
read.phylip.seq html
read.phylip.tree html
read.phyloxml html
read.r8s html
read.raxml html
read.treeqza html
reexports html
REDIRECT:topic Previous alias or file overwritten by alias: D:/biocbuild/bbs-3.15-bioc/meat/treeio.buildbin-libdir/00LOCK-treeio/00new/treeio/help/as.treedata.html
rename_taxa html
rescale_tree html
root-method html
tree_subset html
treeio-package html
write-jtree html
write.beast html
write.beast.newick html
*** copying figures
** building package indices
** installing vignettes
** testing if installed package can be loaded from temporary location
** testing if installed package can be loaded from final location
** testing if installed package keeps a record of temporary installation path
* MD5 sums
packaged installation of 'treeio' as treeio_1.19.2.zip
* DONE (treeio)