| Back to Multiple platform build/check report for BioC 3.15 |
|
This page was generated on 2022-03-03 11:13:40 -0500 (Thu, 03 Mar 2022).
| Hostname | OS | Arch (*) | R version | Installed pkgs |
|---|---|---|---|---|
| nebbiolo1 | Linux (Ubuntu 20.04.4 LTS) | x86_64 | R Under development (unstable) (2022-02-17 r81757) -- "Unsuffered Consequences" | 4332 |
| riesling1 | Windows Server 2019 Standard | x64 | R Under development (unstable) (2021-11-21 r81221) -- "Unsuffered Consequences" | 4093 |
| palomino3 | Windows Server 2022 Datacenter | x64 | R Under development (unstable) (2022-02-17 r81757 ucrt) -- "Unsuffered Consequences" | 4068 |
| merida1 | macOS 10.14.6 Mojave | x86_64 | R Under development (unstable) (2022-01-05 r81451) -- "Unsuffered Consequences" | 4143 |
| Click on any hostname to see more info about the system (e.g. compilers) (*) as reported by 'uname -p', except on Windows and Mac OS X | ||||
|
To the developers/maintainers of the timeOmics package: - Please allow up to 24 hours (and sometimes 48 hours) for your latest push to git@git.bioconductor.org:packages/timeOmics.git to reflect on this report. See How and When does the builder pull? When will my changes propagate? here for more information. - Make sure to use the following settings in order to reproduce any error or warning you see on this page. |
| Package 1962/2088 | Hostname | OS / Arch | INSTALL | BUILD | CHECK | BUILD BIN | ||||||||
| timeOmics 1.7.2 (landing page) Antoine Bodein
| nebbiolo1 | Linux (Ubuntu 20.04.4 LTS) / x86_64 | OK | ERROR | skipped | |||||||||
| riesling1 | Windows Server 2019 Standard / x64 | OK | OK | OK | OK | |||||||||
| palomino3 | Windows Server 2022 Datacenter / x64 | OK | ERROR | skipped | skipped | |||||||||
| merida1 | macOS 10.14.6 Mojave / x86_64 | OK | OK | OK | OK | |||||||||
| Package: timeOmics |
| Version: 1.7.2 |
| Command: rm -rf timeOmics.buildbin-libdir && mkdir timeOmics.buildbin-libdir && /Users/biocbuild/BBS/utils/build-universal.sh timeOmics_1.7.2.tar.gz /Library/Frameworks/R.framework/Resources/bin/R timeOmics.buildbin-libdir |
| StartedAt: 2022-03-03 09:14:07 -0500 (Thu, 03 Mar 2022) |
| EndedAt: 2022-03-03 09:14:33 -0500 (Thu, 03 Mar 2022) |
| EllapsedTime: 26.0 seconds |
| RetCode: 0 |
| Status: OK |
| PackageFile: timeOmics_1.7.2.tgz |
| PackageFileSize: 3.175 MiB |
############################################################################## ############################################################################## ### ### Running command: ### ### rm -rf timeOmics.buildbin-libdir && mkdir timeOmics.buildbin-libdir && /Users/biocbuild/BBS/utils/build-universal.sh timeOmics_1.7.2.tar.gz /Library/Frameworks/R.framework/Resources/bin/R timeOmics.buildbin-libdir ### ############################################################################## ############################################################################## >>>>>>> >>>>>>> INSTALLATION WITH 'R CMD INSTALL --preclean --no-multiarch --library=timeOmics.buildbin-libdir timeOmics_1.7.2.tar.gz' >>>>>>> * installing *source* package ‘timeOmics’ ... ** using staged installation ** R ** data *** moving datasets to lazyload DB ** inst ** byte-compile and prepare package for lazy loading Note: wrong number of arguments to '*' ** help *** installing help indices *** copying figures ** building package indices ** installing vignettes ** testing if installed package can be loaded from temporary location ** testing if installed package can be loaded from final location ** testing if installed package keeps a record of temporary installation path * DONE (timeOmics)