| Back to Multiple platform build/check report for BioC 3.15 |
|
This page was generated on 2022-03-17 11:09:00 -0400 (Thu, 17 Mar 2022).
| Hostname | OS | Arch (*) | R version | Installed pkgs |
|---|---|---|---|---|
| nebbiolo1 | Linux (Ubuntu 20.04.4 LTS) | x86_64 | R Under development (unstable) (2022-02-17 r81757) -- "Unsuffered Consequences" | 4334 |
| riesling1 | Windows Server 2019 Standard | x64 | R Under development (unstable) (2021-11-21 r81221) -- "Unsuffered Consequences" | 4060 |
| palomino3 | Windows Server 2022 Datacenter | x64 | R Under development (unstable) (2022-02-17 r81757 ucrt) -- "Unsuffered Consequences" | 4083 |
| merida1 | macOS 10.14.6 Mojave | x86_64 | R Under development (unstable) (2022-03-02 r81842) -- "Unsuffered Consequences" | 4134 |
| Click on any hostname to see more info about the system (e.g. compilers) (*) as reported by 'uname -p', except on Windows and Mac OS X | ||||
|
To the developers/maintainers of the tanggle package: - Please allow up to 24 hours (and sometimes 48 hours) for your latest push to git@git.bioconductor.org:packages/tanggle.git to reflect on this report. See How and When does the builder pull? When will my changes propagate? here for more information. - Make sure to use the following settings in order to reproduce any error or warning you see on this page. |
| Package 1933/2090 | Hostname | OS / Arch | INSTALL | BUILD | CHECK | BUILD BIN | ||||||||
| tanggle 1.1.0 (landing page) Klaus Schliep
| nebbiolo1 | Linux (Ubuntu 20.04.4 LTS) / x86_64 | OK | OK | OK | |||||||||
| riesling1 | Windows Server 2019 Standard / x64 | OK | OK | OK | OK | |||||||||
| palomino3 | Windows Server 2022 Datacenter / x64 | OK | OK | OK | OK | |||||||||
| merida1 | macOS 10.14.6 Mojave / x86_64 | OK | OK | OK | OK | |||||||||
| Package: tanggle |
| Version: 1.1.0 |
| Command: rm -rf tanggle.buildbin-libdir && mkdir tanggle.buildbin-libdir && D:\biocbuild\bbs-3.15-bioc\R\bin\R.exe CMD INSTALL --build --library=tanggle.buildbin-libdir tanggle_1.1.0.tar.gz |
| StartedAt: 2022-03-16 21:33:00 -0400 (Wed, 16 Mar 2022) |
| EndedAt: 2022-03-16 21:34:27 -0400 (Wed, 16 Mar 2022) |
| EllapsedTime: 86.5 seconds |
| RetCode: 0 |
| Status: OK |
| PackageFile: tanggle_1.1.0.zip |
| PackageFileSize: 757.3 KiB |
##############################################################################
##############################################################################
###
### Running command:
###
### rm -rf tanggle.buildbin-libdir && mkdir tanggle.buildbin-libdir && D:\biocbuild\bbs-3.15-bioc\R\bin\R.exe CMD INSTALL --build --library=tanggle.buildbin-libdir tanggle_1.1.0.tar.gz
###
##############################################################################
##############################################################################
* installing *source* package 'tanggle' ...
** using staged installation
** R
** inst
** byte-compile and prepare package for lazy loading
** help
*** installing help indices
converting help for package 'tanggle'
finding HTML links ... done
geom_splitnet html
ggevonet html
ggsplitnet html
minimize_overlap html
node_depth_evonet html
tanggle-package html
** building package indices
** installing vignettes
** testing if installed package can be loaded from temporary location
** testing if installed package can be loaded from final location
** testing if installed package keeps a record of temporary installation path
* MD5 sums
packaged installation of 'tanggle' as tanggle_1.1.0.zip
* DONE (tanggle)