| Back to Multiple platform build/check report for BioC 3.15 |
|
This page was generated on 2022-10-19 13:20:57 -0400 (Wed, 19 Oct 2022).
| Hostname | OS | Arch (*) | R version | Installed pkgs |
|---|---|---|---|---|
| nebbiolo1 | Linux (Ubuntu 20.04.5 LTS) | x86_64 | 4.2.1 (2022-06-23) -- "Funny-Looking Kid" | 4386 |
| palomino3 | Windows Server 2022 Datacenter | x64 | 4.2.1 (2022-06-23 ucrt) -- "Funny-Looking Kid" | 4138 |
| merida1 | macOS 10.14.6 Mojave | x86_64 | 4.2.1 (2022-06-23) -- "Funny-Looking Kid" | 4205 |
| Click on any hostname to see more info about the system (e.g. compilers) (*) as reported by 'uname -p', except on Windows and Mac OS X | ||||
|
To the developers/maintainers of the structToolbox package: - Please allow up to 24 hours (and sometimes 48 hours) for your latest push to git@git.bioconductor.org:packages/structToolbox.git to reflect on this report. See How and When does the builder pull? When will my changes propagate? for more information. - Make sure to use the following settings in order to reproduce any error or warning you see on this page. |
| Package 1947/2140 | Hostname | OS / Arch | INSTALL | BUILD | CHECK | BUILD BIN | ||||||||
| structToolbox 1.8.0 (landing page) Gavin Rhys Lloyd
| nebbiolo1 | Linux (Ubuntu 20.04.5 LTS) / x86_64 | OK | OK | OK | |||||||||
| palomino3 | Windows Server 2022 Datacenter / x64 | OK | OK | OK | OK | |||||||||
| merida1 | macOS 10.14.6 Mojave / x86_64 | OK | OK | OK | OK | |||||||||
| Package: structToolbox |
| Version: 1.8.0 |
| Command: /home/biocbuild/bbs-3.15-bioc/R/bin/R CMD check --install=check:structToolbox.install-out.txt --library=/home/biocbuild/bbs-3.15-bioc/R/library --no-vignettes --timings structToolbox_1.8.0.tar.gz |
| StartedAt: 2022-10-18 22:03:51 -0400 (Tue, 18 Oct 2022) |
| EndedAt: 2022-10-18 22:10:49 -0400 (Tue, 18 Oct 2022) |
| EllapsedTime: 417.2 seconds |
| RetCode: 0 |
| Status: OK |
| CheckDir: structToolbox.Rcheck |
| Warnings: 0 |
##############################################################################
##############################################################################
###
### Running command:
###
### /home/biocbuild/bbs-3.15-bioc/R/bin/R CMD check --install=check:structToolbox.install-out.txt --library=/home/biocbuild/bbs-3.15-bioc/R/library --no-vignettes --timings structToolbox_1.8.0.tar.gz
###
##############################################################################
##############################################################################
* using log directory ‘/home/biocbuild/bbs-3.15-bioc/meat/structToolbox.Rcheck’
* using R version 4.2.1 (2022-06-23)
* using platform: x86_64-pc-linux-gnu (64-bit)
* using session charset: UTF-8
* using option ‘--no-vignettes’
* checking for file ‘structToolbox/DESCRIPTION’ ... OK
* checking extension type ... Package
* this is package ‘structToolbox’ version ‘1.8.0’
* package encoding: UTF-8
* checking package namespace information ... OK
* checking package dependencies ... OK
* checking if this is a source package ... OK
* checking if there is a namespace ... OK
* checking for hidden files and directories ... OK
* checking for portable file names ... OK
* checking for sufficient/correct file permissions ... OK
* checking whether package ‘structToolbox’ can be installed ... OK
* checking installed package size ... OK
* checking package directory ... OK
* checking ‘build’ directory ... OK
* checking DESCRIPTION meta-information ... OK
* checking top-level files ... OK
* checking for left-over files ... OK
* checking index information ... OK
* checking package subdirectories ... OK
* checking R files for non-ASCII characters ... OK
* checking R files for syntax errors ... OK
* checking whether the package can be loaded ... OK
* checking whether the package can be loaded with stated dependencies ... OK
* checking whether the package can be unloaded cleanly ... OK
* checking whether the namespace can be loaded with stated dependencies ... OK
* checking whether the namespace can be unloaded cleanly ... OK
* checking dependencies in R code ... OK
* checking S3 generic/method consistency ... OK
* checking replacement functions ... OK
* checking foreign function calls ... OK
* checking R code for possible problems ... OK
* checking Rd files ... OK
* checking Rd metadata ... OK
* checking Rd cross-references ... OK
* checking for missing documentation entries ... OK
* checking for code/documentation mismatches ... OK
* checking Rd \usage sections ... OK
* checking Rd contents ... OK
* checking for unstated dependencies in examples ... OK
* checking R/sysdata.rda ... OK
* checking files in ‘vignettes’ ... OK
* checking examples ... OK
Examples with CPU (user + system) or elapsed time > 5s
user system elapsed
fold_change_int 17.722 0.048 17.771
fold_change 9.903 0.036 9.940
fisher_exact 9.239 0.040 9.280
forward_selection_by_rank 6.501 0.060 6.565
fs_line 5.381 0.048 5.429
* checking for unstated dependencies in ‘tests’ ... OK
* checking tests ...
Running ‘testthat.R’
OK
* checking for unstated dependencies in vignettes ... OK
* checking package vignettes in ‘inst/doc’ ... OK
* checking running R code from vignettes ... SKIPPED
* checking re-building of vignette outputs ... SKIPPED
* checking PDF version of manual ... OK
* DONE
Status: OK
structToolbox.Rcheck/00install.out
############################################################################## ############################################################################## ### ### Running command: ### ### /home/biocbuild/bbs-3.15-bioc/R/bin/R CMD INSTALL structToolbox ### ############################################################################## ############################################################################## * installing to library ‘/home/biocbuild/bbs-3.15-bioc/R/library’ * installing *source* package ‘structToolbox’ ... ** using staged installation ** R ** inst ** byte-compile and prepare package for lazy loading ** help *** installing help indices ** building package indices ** installing vignettes ** testing if installed package can be loaded from temporary location ** testing if installed package can be loaded from final location ** testing if installed package keeps a record of temporary installation path * DONE (structToolbox)
structToolbox.Rcheck/tests/testthat.Rout
R version 4.2.1 (2022-06-23) -- "Funny-Looking Kid"
Copyright (C) 2022 The R Foundation for Statistical Computing
Platform: x86_64-pc-linux-gnu (64-bit)
R is free software and comes with ABSOLUTELY NO WARRANTY.
You are welcome to redistribute it under certain conditions.
Type 'license()' or 'licence()' for distribution details.
R is a collaborative project with many contributors.
Type 'contributors()' for more information and
'citation()' on how to cite R or R packages in publications.
Type 'demo()' for some demos, 'help()' for on-line help, or
'help.start()' for an HTML browser interface to help.
Type 'q()' to quit R.
> library(testthat)
> library(ggplot2)
> library(structToolbox)
Loading required package: struct
>
> test_check("structToolbox")
[ FAIL 0 | WARN 2 | SKIP 0 | PASS 124 ]
[ FAIL 0 | WARN 2 | SKIP 0 | PASS 124 ]
>
> proc.time()
user system elapsed
162.332 1.634 163.959
structToolbox.Rcheck/structToolbox-Ex.timings
| name | user | system | elapsed | |
| ANOVA | 0.175 | 0.000 | 0.175 | |
| AUC | 1.698 | 0.116 | 1.814 | |
| DFA | 0.186 | 0.000 | 0.186 | |
| DatasetExperiment_boxplot | 0.632 | 0.028 | 0.660 | |
| DatasetExperiment_dist | 1.870 | 0.024 | 1.895 | |
| DatasetExperiment_factor_boxplot | 0.224 | 0.000 | 0.224 | |
| DatasetExperiment_heatmap | 0.255 | 0.000 | 0.255 | |
| HCA | 0.063 | 0.000 | 0.063 | |
| HSD | 0.460 | 0.012 | 0.474 | |
| HSDEM | 0.401 | 0.004 | 0.404 | |
| MTBLS79_DatasetExperiment | 0.001 | 0.000 | 0.001 | |
| PCA | 0.004 | 0.000 | 0.004 | |
| PLSDA | 0.015 | 0.000 | 0.015 | |
| PLSR | 0.005 | 0.000 | 0.005 | |
| SVM | 0.011 | 0.000 | 0.011 | |
| as_data_frame | 0.117 | 0.000 | 0.116 | |
| autoscale | 0.062 | 0.000 | 0.063 | |
| balanced_accuracy | 1.782 | 0.004 | 1.786 | |
| blank_filter | 0.335 | 0.004 | 0.339 | |
| blank_filter_hist | 0.001 | 0.000 | 0.000 | |
| bootstrap | 0.005 | 0.000 | 0.005 | |
| calculate | 0.005 | 0.000 | 0.005 | |
| chart_plot | 0.025 | 0.000 | 0.025 | |
| classical_lsq | 0.247 | 0.004 | 0.251 | |
| compare_dist | 3.877 | 0.012 | 3.889 | |
| confounders_clsq | 2.523 | 0.012 | 2.535 | |
| confounders_lsq_barchart | 2.672 | 0.008 | 2.681 | |
| confounders_lsq_boxplot | 2.673 | 0.000 | 2.674 | |
| constant_sum_norm | 0.004 | 0.000 | 0.005 | |
| corr_coef | 0.22 | 0.00 | 0.22 | |
| dfa_scores_plot | 0.458 | 0.000 | 0.458 | |
| dratio_filter | 0.497 | 0.015 | 0.513 | |
| equal_split | 0.098 | 0.004 | 0.102 | |
| feature_boxplot | 0.017 | 0.000 | 0.017 | |
| feature_profile | 0.328 | 0.028 | 0.356 | |
| feature_profile_array | 0.533 | 0.004 | 0.537 | |
| filter_by_name | 0.026 | 0.000 | 0.025 | |
| filter_na_count | 0.840 | 0.004 | 0.843 | |
| filter_smeta | 0.052 | 0.000 | 0.052 | |
| fisher_exact | 9.239 | 0.040 | 9.280 | |
| fold_change | 9.903 | 0.036 | 9.940 | |
| fold_change_int | 17.722 | 0.048 | 17.771 | |
| fold_change_plot | 0.004 | 0.000 | 0.004 | |
| forward_selection_by_rank | 6.501 | 0.060 | 6.565 | |
| fs_line | 5.381 | 0.048 | 5.429 | |
| glog_opt_plot | 0.393 | 0.000 | 0.393 | |
| glog_transform | 0.226 | 0.000 | 0.226 | |
| grid_search_1d | 4.093 | 0.020 | 4.114 | |
| gs_line | 0.000 | 0.001 | 0.001 | |
| hca_dendrogram | 0.000 | 0.001 | 0.000 | |
| kfold_xval | 3.132 | 0.008 | 3.141 | |
| kfoldxcv_grid | 3.403 | 0.000 | 3.403 | |
| kfoldxcv_metric | 0.001 | 0.000 | 0.001 | |
| knn_impute | 0.006 | 0.000 | 0.005 | |
| kw_p_hist | 0.000 | 0.001 | 0.001 | |
| kw_rank_sum | 0.061 | 0.002 | 0.063 | |
| linear_model | 0.02 | 0.00 | 0.02 | |
| log_transform | 0.004 | 0.000 | 0.004 | |
| mean_centre | 0.002 | 0.000 | 0.001 | |
| mean_of_medians | 0.115 | 0.000 | 0.114 | |
| mixed_effect | 0.136 | 0.000 | 0.135 | |
| model_apply | 0.019 | 0.004 | 0.023 | |
| model_predict | 0.048 | 0.000 | 0.049 | |
| model_reverse | 0.033 | 0.004 | 0.038 | |
| model_train | 0.045 | 0.000 | 0.044 | |
| mv_boxplot | 0.209 | 0.004 | 0.212 | |
| mv_feature_filter | 0.098 | 0.000 | 0.099 | |
| mv_feature_filter_hist | 0.001 | 0.000 | 0.001 | |
| mv_histogram | 0.207 | 0.003 | 0.211 | |
| mv_sample_filter | 0.005 | 0.000 | 0.006 | |
| mv_sample_filter_hist | 0.001 | 0.000 | 0.000 | |
| nroot_transform | 0.004 | 0.000 | 0.005 | |
| ontology_cache | 0.000 | 0.000 | 0.001 | |
| pairs_filter | 0.003 | 0.002 | 0.005 | |
| pareto_scale | 0.052 | 0.000 | 0.052 | |
| pca_biplot | 0.007 | 0.000 | 0.008 | |
| pca_correlation_plot | 0.004 | 0.000 | 0.004 | |
| pca_dstat_plot | 0.005 | 0.000 | 0.005 | |
| pca_loadings_plot | 0.006 | 0.000 | 0.005 | |
| pca_scores_plot | 0.459 | 0.000 | 0.458 | |
| pca_scree_plot | 0.001 | 0.000 | 0.001 | |
| permutation_test | 0.007 | 0.000 | 0.006 | |
| permutation_test_plot | 0.003 | 0.000 | 0.003 | |
| permute_sample_order | 0.004 | 0.000 | 0.005 | |
| pls_regcoeff_plot | 0.312 | 0.000 | 0.313 | |
| pls_scores_plot | 0.632 | 0.000 | 0.632 | |
| pls_vip_plot | 0.305 | 0.004 | 0.309 | |
| plsda_feature_importance_plot | 0.445 | 0.000 | 0.446 | |
| plsda_predicted_plot | 0.388 | 0.000 | 0.389 | |
| plsda_roc_plot | 0.924 | 0.012 | 0.937 | |
| plsr_cook_dist | 0.004 | 0.000 | 0.005 | |
| plsr_prediction_plot | 0.004 | 0.000 | 0.004 | |
| plsr_qq_plot | 0.004 | 0.000 | 0.003 | |
| plsr_residual_hist | 0.003 | 0.000 | 0.004 | |
| pqn_norm | 0.293 | 0.004 | 0.298 | |
| pqn_norm_hist | 0.001 | 0.000 | 0.001 | |
| prop_na | 0.004 | 0.000 | 0.005 | |
| r_squared | 0.001 | 0.000 | 0.001 | |
| resample | 0.004 | 0.004 | 0.007 | |
| resample_chart | 0.003 | 0.000 | 0.003 | |
| rsd_filter | 0.007 | 0.000 | 0.007 | |
| rsd_filter_hist | 0.001 | 0.000 | 0.001 | |
| run | 0.026 | 0.000 | 0.026 | |
| sb_corr | 0.012 | 0.000 | 0.012 | |
| scatter_chart | 0.288 | 0.003 | 0.292 | |
| split_data | 0.001 | 0.003 | 0.004 | |
| stratified_split | 0.144 | 0.000 | 0.145 | |
| svm_plot_2d | 0.557 | 0.004 | 0.561 | |
| tSNE | 0.013 | 0.000 | 0.013 | |
| tSNE_scatter | 0.005 | 0.000 | 0.004 | |
| tic_chart | 0.198 | 0.000 | 0.198 | |
| ttest | 0.008 | 0.000 | 0.008 | |
| vec_norm | 0.001 | 0.000 | 0.001 | |
| wilcox_p_hist | 0.000 | 0.001 | 0.000 | |
| wilcox_test | 0.006 | 0.003 | 0.008 | |