| Back to Multiple platform build/check report for BioC 3.15 |
|
This page was generated on 2022-10-19 13:20:56 -0400 (Wed, 19 Oct 2022).
| Hostname | OS | Arch (*) | R version | Installed pkgs |
|---|---|---|---|---|
| nebbiolo1 | Linux (Ubuntu 20.04.5 LTS) | x86_64 | 4.2.1 (2022-06-23) -- "Funny-Looking Kid" | 4386 |
| palomino3 | Windows Server 2022 Datacenter | x64 | 4.2.1 (2022-06-23 ucrt) -- "Funny-Looking Kid" | 4138 |
| merida1 | macOS 10.14.6 Mojave | x86_64 | 4.2.1 (2022-06-23) -- "Funny-Looking Kid" | 4205 |
| Click on any hostname to see more info about the system (e.g. compilers) (*) as reported by 'uname -p', except on Windows and Mac OS X | ||||
|
To the developers/maintainers of the stepNorm package: - Please allow up to 24 hours (and sometimes 48 hours) for your latest push to git@git.bioconductor.org:packages/stepNorm.git to reflect on this report. See How and When does the builder pull? When will my changes propagate? for more information. - Make sure to use the following settings in order to reproduce any error or warning you see on this page. |
| Package 1940/2140 | Hostname | OS / Arch | INSTALL | BUILD | CHECK | BUILD BIN | ||||||||
| stepNorm 1.68.0 (landing page) Yuanyuan Xiao
| nebbiolo1 | Linux (Ubuntu 20.04.5 LTS) / x86_64 | OK | OK | OK | |||||||||
| palomino3 | Windows Server 2022 Datacenter / x64 | OK | OK | OK | OK | |||||||||
| merida1 | macOS 10.14.6 Mojave / x86_64 | OK | OK | OK | OK | |||||||||
| Package: stepNorm |
| Version: 1.68.0 |
| Command: /home/biocbuild/bbs-3.15-bioc/R/bin/R CMD check --install=check:stepNorm.install-out.txt --library=/home/biocbuild/bbs-3.15-bioc/R/library --no-vignettes --timings stepNorm_1.68.0.tar.gz |
| StartedAt: 2022-10-18 22:03:10 -0400 (Tue, 18 Oct 2022) |
| EndedAt: 2022-10-18 22:04:13 -0400 (Tue, 18 Oct 2022) |
| EllapsedTime: 63.0 seconds |
| RetCode: 0 |
| Status: OK |
| CheckDir: stepNorm.Rcheck |
| Warnings: 0 |
##############################################################################
##############################################################################
###
### Running command:
###
### /home/biocbuild/bbs-3.15-bioc/R/bin/R CMD check --install=check:stepNorm.install-out.txt --library=/home/biocbuild/bbs-3.15-bioc/R/library --no-vignettes --timings stepNorm_1.68.0.tar.gz
###
##############################################################################
##############################################################################
* using log directory ‘/home/biocbuild/bbs-3.15-bioc/meat/stepNorm.Rcheck’
* using R version 4.2.1 (2022-06-23)
* using platform: x86_64-pc-linux-gnu (64-bit)
* using session charset: UTF-8
* using option ‘--no-vignettes’
* checking for file ‘stepNorm/DESCRIPTION’ ... OK
* this is package ‘stepNorm’ version ‘1.68.0’
* checking package namespace information ... OK
* checking package dependencies ... OK
* checking if this is a source package ... OK
* checking if there is a namespace ... OK
* checking for hidden files and directories ... OK
* checking for portable file names ... OK
* checking for sufficient/correct file permissions ... OK
* checking whether package ‘stepNorm’ can be installed ... OK
* checking installed package size ... OK
* checking package directory ... OK
* checking DESCRIPTION meta-information ... NOTE
Packages listed in more than one of Depends, Imports, Suggests, Enhances:
‘marray’ ‘methods’
A package should be listed in only one of these fields.
* checking top-level files ... OK
* checking for left-over files ... OK
* checking index information ... OK
* checking package subdirectories ... OK
* checking R files for non-ASCII characters ... OK
* checking R files for syntax errors ... OK
* checking whether the package can be loaded ... OK
* checking whether the package can be loaded with stated dependencies ... OK
* checking whether the package can be unloaded cleanly ... OK
* checking whether the namespace can be loaded with stated dependencies ... OK
* checking whether the namespace can be unloaded cleanly ... OK
* checking dependencies in R code ... OK
* checking S3 generic/method consistency ... OK
* checking replacement functions ... OK
* checking foreign function calls ... OK
* checking R code for possible problems ... NOTE
loess2Dfit: warning in loess.control(trace.hat = "approximate",
iteration = 5, surface = "direct"): partial argument match of
'iteration' to 'iterations'
loessfit: warning in loess.control(trace.hat = "approximate", iteration
= 5, surface = "direct"): partial argument match of 'iteration' to
'iterations'
* checking Rd files ... OK
* checking Rd metadata ... OK
* checking Rd cross-references ... OK
* checking for missing documentation entries ... OK
* checking for code/documentation mismatches ... OK
* checking Rd \usage sections ... OK
* checking Rd contents ... OK
* checking for unstated dependencies in examples ... OK
* checking examples ... OK
Examples with CPU (user + system) or elapsed time > 5s
user system elapsed
stepWithinNorm 17.227 0.032 17.267
fitWithin 15.460 0.016 15.478
fit2DWithin 6.997 0.032 7.029
* checking PDF version of manual ... OK
* DONE
Status: 2 NOTEs
See
‘/home/biocbuild/bbs-3.15-bioc/meat/stepNorm.Rcheck/00check.log’
for details.
stepNorm.Rcheck/00install.out
############################################################################## ############################################################################## ### ### Running command: ### ### /home/biocbuild/bbs-3.15-bioc/R/bin/R CMD INSTALL stepNorm ### ############################################################################## ############################################################################## * installing to library ‘/home/biocbuild/bbs-3.15-bioc/R/library’ * installing *source* package ‘stepNorm’ ... ** using staged installation ** R ** inst ** byte-compile and prepare package for lazy loading ** help *** installing help indices ** building package indices ** testing if installed package can be loaded from temporary location ** testing if installed package can be loaded from final location ** testing if installed package keeps a record of temporary installation path * DONE (stepNorm)
stepNorm.Rcheck/stepNorm-Ex.timings
| name | user | system | elapsed | |
| calcAIC | 0.096 | 0.008 | 0.106 | |
| calcBIC | 0.061 | 0.004 | 0.065 | |
| fit2DWithin | 6.997 | 0.032 | 7.029 | |
| fitWithin | 15.460 | 0.016 | 15.478 | |
| maCompPlate2 | 0.009 | 0.000 | 0.009 | |
| makeStepList | 0.046 | 0.004 | 0.050 | |
| marrayFitClass | 0.063 | 0.000 | 0.063 | |
| seqWithinNorm | 0.197 | 0.004 | 0.201 | |
| stepWithinNorm | 17.227 | 0.032 | 17.267 | |
| withinNorm | 0.042 | 0.004 | 0.045 | |